- Раздел: Другое, разное
- Дата съёмки: 05.12.2009 13:42
- Дата загрузки фото: 08.12.2009 15:30
- Оригинальная фотография: 798 x 532 (373 Кб)
- Технические характеристики:
- Фотоаппарат: Canon EOS 450D
- Выдержка: 1/125
- Гиперфокальное расстояние: 29,71 m
- Диафрагма: 2,8
- Светочувствительность: 200
- Фокусное расстояние: 17,0 mm (35 mm equivalent: 147,0 mm)
- Полный EXIF
- Adobe
- ColorTransform: YCbCr
- Composite
- Aperture: 2,8
- CircleOfConfusion: 0,003 mm
- FOV: 13,0 deg
- FocalLength35efl: 17,0 mm (35 mm equivalent: 147,0 mm)
- HyperfocalDistance: 29,71 m
- ScaleFactor35efl: 8,6
- ShutterSpeed: 1/125
- ExifIFD
- ApertureValue: 2,8
- ColorSpace: sRGB
- CreateDate: 2009:12:05 13:42:43
- CustomRendered: Normal
- DateTimeOriginal: 2009:12:05 13:42:43
- ExifImageHeight: 532
- ExifImageWidth: 798
- ExposureCompensation: 0
- ExposureMode: Auto
- ExposureProgram: Aperture-priority AE
- ExposureTime: 1/125
- FNumber: 2,8
- Flash: Off
- FocalLength: 17,0 mm
- ISO: 200
- MaxApertureValue: 2,8
- MeteringMode: Multi-segment
- SceneCaptureType: Standard
- ShutterSpeedValue: 1/125
- WhiteBalance: Auto
- ICC-header
- ICC-meas
- ICC-view
- IFD0
- Artist: HiV
- Copyright: Ivan (HiV) Tsyrkunovich
- Make: Canon
- Model: Canon EOS 450D
- ModifyDate: 2009:12:08 14:15:40
- Orientation: Horizontal (normal)
- IFD1
- IPTC
- By-line: HiV
- City: grodno
- CopyrightNotice: Ivan (HiV) Tsyrkunovich
- Country-PrimaryLocationName: belarus
- XMP-aux
- Firmware: 1.0.9
- FlashCompensation: 0
- ImageNumber: 0
- Lens: 17-50mm
- LensID: 161
- LensInfo: 17/1 50/1 0/0 0/0
- OwnerName: Ivan HiV Tsyrkunovich
- SerialNumber: 980397874
- XMP-crs
- AlreadyApplied: True
- BlueHue: 0
- BlueSaturation: 0
- Brightness: +76
- CameraProfile: ACR 2.4
- ChromaticAberrationB: 0
- ChromaticAberrationR: 0
- Clarity: 0
- ColorNoiseReduction: 68
- ColorNoiseReductionDetail: 50
- Contrast: +19
- ConvertToGrayscale: True
- Defringe: 2
- Exposure: +0.14
- FillLight: 13
- GrainAmount: 0
- GrayMixerAqua: -18
- GrayMixerBlue: +9
- GrayMixerGreen: -27
- GrayMixerMagenta: +4
- GrayMixerOrange: +10
- GrayMixerPurple: +15
- GrayMixerRed: +13
- GrayMixerYellow: -22
- GreenHue: 0
- GreenSaturation: 0
- HasCrop: False
- HasSettings: True
- HighlightRecovery: 83
- NoiseReductionContrast: 0
- ParametricDarks: -15
- ParametricHighlightSplit: 75
- ParametricHighlights: +29
- ParametricLights: -6
- ParametricMidtoneSplit: 50
- ParametricShadowSplit: 25
- ParametricShadows: -36
- PostCropVignetteAmount: 0
- RedHue: 0
- RedSaturation: 0
- RenderVersion: 5.7
- ShadowTint: 0
- Shadows: 9
- SharpenDetail: 25
- SharpenEdgeMasking: 0
- SharpenRadius: +1.0
- Sharpness: 81
- SplitToningBalance: 0
- SplitToningHighlightHue: 55
- SplitToningHighlightSaturation: 22
- SplitToningShadowHue: 0
- SplitToningShadowSaturation: 0
- Temperature: 4850
- Tint: 0
- ToneCurve: 0, 0, 32, 22, 64, 56, 128, 128, 192, 196, 255, 255
- ToneCurveName: Medium Contrast
- Version: 6.0
- VignetteAmount: -76
- VignetteMidpoint: 19
- WhiteBalance: As Shot
- XMP-dc
- Creator: HiV
- Format: image/jpeg
- Rights: Ivan (HiV) Tsyrkunovich
- XMP-exif
- DateTimeDigitized: 2009:12:05 13:42:43.03+02:00
- DateTimeOriginal: 2009:12:05 13:42:43.03+02:00
- FlashFired: False
- FlashFunction: False
- FlashMode: Off
- FlashRedEyeMode: False
- FlashReturn: No return detection
- XMP-iptcCore
- CreatorContactInfoCiAdrCity: grodno
- CreatorContactInfoCiAdrCtry: belarus
- CreatorContactInfoCiUrlWork: http://hiv-iv.livejournal.com/
- XMP-tiff
- ImageHeight: 2848
- ImageWidth: 4272
- XMP-xmp
- CreateDate: 2009:12:05 13:42:43.03+02:00
- ModifyDate: 2009:12:08 14:15:40+02:00
- XMP-xmpMM
- XMP-xmpRights
- Marked: True
- WebStatement: http://hiv-iv.livejournal.com/
- Просмотров: 273
- Рейтинг: голосов еще нет
- Отзывов: отключены