Уважаемые друзья и участники проекта iXBT.photo! К сожалению, 1 марта 2026 года проект iXBT.photo прекратит свою работу и будет закрыт. Мы высоко ценим ваше участие и тот вклад, который вы внесли в развитие нашего сообщества. Пожалуйста, не забудьте сохранить ваши фотографии до этой даты.
С уважением, команда iXBT.com
| *** |
***
С рук, 1/10, легкая микрошевеленка, но для веба нормально.
- Раздел: Другое, разное
- Дата съёмки: 14.12.2009 21:07
- Дата загрузки фото: 15.12.2009 00:40
- Оригинальная фотография: 683 x 1024 (202 Кб)
- Технические характеристики:
- Фотоаппарат: Sigma DP2
- Выдержка: 1/10
- Гиперфокальное расстояние: 10,92 m
- Диафрагма: 3,0
- Светочувствительность: 200
- Фокусное расстояние: 24,0 mm (35 mm equivalent: 41,0 mm)
- Полный EXIF
- Composite
- Aperture: 3,0
- CircleOfConfusion: 0,018 mm
- FOV: 47,0 deg
- FocalLength35efl: 24,0 mm (35 mm equivalent: 41,0 mm)
- HyperfocalDistance: 10,92 m
- ScaleFactor35efl: 1,7
- ShutterSpeed: 1/10
- ExifIFD
- ApertureValue: 3,0
- CreateDate: 2009:12:14 23:44:00
- CustomRendered: Custom
- DateTimeOriginal: 2009:12:14 21:07:16
- ExposureCompensation: 0
- ExposureMode: Auto bracket
- ExposureProgram: Aperture-priority AE
- ExposureTime: 1/10
- FNumber: 3,0
- Flash: No Flash
- FocalLength: 24,0 mm
- FocalLengthIn35mmFormat: 41 mm
- ISO: 200
- MaxApertureValue: 1,0
- MeteringMode: Multi-segment
- SceneCaptureType: Standard
- SensingMethod: One-chip color area
- ShutterSpeedValue: 1/10
- WhiteBalance: Auto
- IFD0
- Make: SIGMA
- Model: SIGMA DP2
- ModifyDate: 2009:12:15 00:22:43
- Software: SIGMA Photo Pro 3.5.2.0000
- IFD1
- XMP-crs
- AlreadyApplied: True
- BlueHue: 0
- BlueSaturation: 0
- Brightness: 0
- CameraProfile: Embedded
- ChromaticAberrationB: 0
- ChromaticAberrationR: 0
- Clarity: 0
- ColorNoiseReduction: 0
- Contrast: +20
- ConvertToGrayscale: False
- Defringe: 0
- Exposure: 0.00
- FillLight: 0
- GreenHue: 0
- GreenSaturation: 0
- HasCrop: False
- HasSettings: True
- HighlightRecovery: 0
- HueAdjustmentAqua: 0
- HueAdjustmentBlue: 0
- HueAdjustmentGreen: 0
- HueAdjustmentMagenta: 0
- HueAdjustmentOrange: 0
- HueAdjustmentPurple: 0
- HueAdjustmentRed: 0
- HueAdjustmentYellow: 0
- IncrementalTemperature: -9
- IncrementalTint: +6
- LuminanceAdjustmentAqua: 0
- LuminanceAdjustmentBlue: 0
- LuminanceAdjustmentGreen: 0
- LuminanceAdjustmentMagenta: 0
- LuminanceAdjustmentOrange: 0
- LuminanceAdjustmentPurple: 0
- LuminanceAdjustmentRed: 0
- LuminanceAdjustmentYellow: 0
- LuminanceSmoothing: 0
- ParametricDarks: 0
- ParametricHighlightSplit: 75
- ParametricHighlights: 0
- ParametricLights: 0
- ParametricMidtoneSplit: 50
- ParametricShadowSplit: 25
- ParametricShadows: 0
- PostCropVignetteAmount: 0
- RedHue: 0
- RedSaturation: 0
- Saturation: +14
- SaturationAdjustmentAqua: 0
- SaturationAdjustmentBlue: 0
- SaturationAdjustmentGreen: 0
- SaturationAdjustmentMagenta: +17
- SaturationAdjustmentOrange: -7
- SaturationAdjustmentPurple: -83
- SaturationAdjustmentRed: +43
- SaturationAdjustmentYellow: -24
- ShadowTint: 0
- Shadows: 0
- SharpenDetail: 25
- SharpenEdgeMasking: 0
- SharpenRadius: +1.0
- Sharpness: 0
- SplitToningBalance: 0
- SplitToningHighlightHue: 0
- SplitToningHighlightSaturation: 0
- SplitToningShadowHue: 0
- SplitToningShadowSaturation: 0
- ToneCurve: 0, 0, 255, 255
- ToneCurveName: Linear
- Version: 5.5
- Vibrance: 0
- VignetteAmount: 0
- WhiteBalance: Custom
- XMP-exif
- DateTimeDigitized: 2009:12:14 23:44:00+03:00
- DateTimeOriginal: 2009:12:14 21:07:16+03:00
- ExifImageHeight: 1024
- ExifImageWidth: 683
- FlashFired: False
- FlashFunction: False
- FlashMode: Unknown
- FlashRedEyeMode: False
- FlashReturn: No return detection
- XMP-tiff
- ImageHeight: 1024
- ImageWidth: 683
- XMP-xmp
- CreateDate: 2009:12:14 21:07:16+03:00
- ModifyDate: 2009:12:15 00:22:43+03:00
- Просмотров: 310
- Рейтинг: голосов еще нет
- Отзывов: отключены
Получить код для блога
| Вставка фотографии в текущем разрешении |
Вставка миниатюры |
HTML (для вставки в блог):
BBCode (для вставки в форум):
Ссылка на фото:
Ссылка на миниатюру:
- Послать ссылку другу
| Комментарии к фотографии |