» Участники » yurovskikh » Города » Измайлово, зима 1.jpg |
Измайлово, зима 1.jpg |
![](img/title-line.gif) |
![](img/title-shadow.gif) | |
Измайлово, зима 1.jpg
- Раздел: Город
- Дата съёмки: 24.12.2009 21:38
- Дата загрузки фото: 24.12.2009 17:47
- Оригинальная фотография: 2871 x 2153 (912 Кб)
- Технические характеристики:
- Фотоаппарат: Canon EOS 500D
- Выдержка: 1/15
- Гиперфокальное расстояние: 45,44 m
- Диафрагма: 5,6
- Светочувствительность: 3200
- Фокусное расстояние: 55,0 mm (35 mm equivalent: 139,0 mm)
- Полный EXIF
- Adobe
- ColorTransform: YCbCr
- Composite
- Aperture: 5,6
- CircleOfConfusion: 0,012 mm
- FOV: 14,0 deg
- FocalLength35efl: 55,0 mm (35 mm equivalent: 139,0 mm)
- HyperfocalDistance: 45,44 m
- ScaleFactor35efl: 2,5
- ShutterSpeed: 1/15
- ExifIFD
- ApertureValue: 5,6
- ColorSpace: sRGB
- CreateDate: 2009:12:21 12:17:09
- CustomRendered: Normal
- DateTimeOriginal: 2009:12:21 12:17:09
- ExifImageHeight: 2153
- ExifImageWidth: 2871
- ExposureCompensation: 0
- ExposureMode: Auto
- ExposureProgram: Aperture-priority AE
- ExposureTime: 1/15
- FNumber: 5,6
- Flash: Off
- FocalLength: 55,0 mm
- ISO: 3200
- MaxApertureValue: 5,7
- MeteringMode: Multi-segment
- SceneCaptureType: Standard
- ShutterSpeedValue: 1/15
- WhiteBalance: Auto
- ICC-header
- ICC-meas
- ICC-view
- IFD0
- Artist: UAP
- Copyright: Copyright: Yurovskikh Home Photo
- Make: Canon
- Model: Canon EOS 500D
- ModifyDate: 2009:12:24 21:38:26
- Orientation: Horizontal (normal)
- IFD1
- IPTC
- By-line: UAP
- CopyrightNotice: Copyright: Yurovskikh Home Photo
- XMP-aux
- Firmware: 1.0.9
- FlashCompensation: 0
- ImageNumber: 0
- Lens: EF-S18-55mm f/3.5-5.6 IS
- LensInfo: 18/1 55/1 0/0 0/0
- OwnerName: Yurovskikh Andrey
- SerialNumber: 530102231
- XMP-crs
- AlreadyApplied: True
- BlueHue: 0
- BlueSaturation: 0
- Brightness: +50
- ChromaticAberrationB: 0
- ChromaticAberrationR: 0
- Clarity: 0
- ColorNoiseReduction: 25
- Contrast: +25
- ConvertToGrayscale: False
- CropAngle: 0
- CropBottom: 0.739903
- CropHeight: 4
- CropLeft: 0.392896
- CropRight: 0.997102
- CropTop: 0.060171
- CropUnit: 3
- CropWidth: 3
- Defringe: 0
- Exposure: -1.35
- FillLight: 0
- GreenHue: 0
- GreenSaturation: 0
- HasCrop: True
- HasSettings: True
- HighlightRecovery: 40
- HueAdjustmentAqua: 0
- HueAdjustmentBlue: 0
- HueAdjustmentGreen: 0
- HueAdjustmentMagenta: 0
- HueAdjustmentOrange: 0
- HueAdjustmentPurple: 0
- HueAdjustmentRed: 0
- HueAdjustmentYellow: 0
- LuminanceAdjustmentAqua: 0
- LuminanceAdjustmentBlue: 0
- LuminanceAdjustmentGreen: 0
- LuminanceAdjustmentMagenta: 0
- LuminanceAdjustmentOrange: 0
- LuminanceAdjustmentPurple: 0
- LuminanceAdjustmentRed: 0
- LuminanceAdjustmentYellow: 0
- LuminanceSmoothing: 65
- ParametricDarks: 0
- ParametricHighlightSplit: 75
- ParametricHighlights: 0
- ParametricLights: 0
- ParametricMidtoneSplit: 50
- ParametricShadowSplit: 25
- ParametricShadows: 0
- PostCropVignetteAmount: 0
- RawFileName: IMG_3628.CR2
- RedHue: 0
- RedSaturation: 0
- Saturation: 0
- SaturationAdjustmentAqua: 0
- SaturationAdjustmentBlue: 0
- SaturationAdjustmentGreen: 0
- SaturationAdjustmentMagenta: 0
- SaturationAdjustmentOrange: 0
- SaturationAdjustmentPurple: 0
- SaturationAdjustmentRed: 0
- SaturationAdjustmentYellow: 0
- ShadowTint: 0
- Shadows: 7
- SharpenDetail: 25
- SharpenEdgeMasking: 0
- SharpenRadius: +1.0
- Sharpness: 25
- SplitToningBalance: 0
- SplitToningHighlightHue: 0
- SplitToningHighlightSaturation: 0
- SplitToningShadowHue: 0
- SplitToningShadowSaturation: 0
- Temperature: 3850
- Tint: -4
- ToneCurve: 0, 0, 32, 22, 64, 56, 128, 128, 192, 196, 255, 255
- ToneCurveName: Medium Contrast
- Version: 5.5
- Vibrance: 0
- VignetteAmount: 0
- WhiteBalance: As Shot
- XMP-dc
- Creator: UAP
- Format: image/jpeg
- Rights: Copyright: Yurovskikh Home Photo
- XMP-exif
- DateTimeDigitized: 2009:12:21 12:17:09.13+07:00
- DateTimeOriginal: 2009:12:21 12:17:09.13+07:00
- FlashFired: False
- FlashFunction: False
- FlashMode: Off
- FlashRedEyeMode: False
- FlashReturn: No return detection
- XMP-tiff
- XMP-xmp
- CreateDate: 2009:12:24 21:38:26+07:00
- ModifyDate: 2009:12:24 21:38:26+07:00
- Rating: 0
- XMP-xmpMM
- Просмотров: 195
- Рейтинг: голосов еще нет
- Отзывов: 0
Получить код для блога
Вставка фотографии в текущем разрешении |
Вставка миниатюры |
HTML (для вставки в блог):
BBCode (для вставки в форум):
Ссылка на фото:
Ссылка на миниатюру:
- Послать ссылку другу
Комментарии к фотографии |