- Раздел: Путешествия
- Дата съёмки: 13.06.2009 22:06
- Дата загрузки фото: 29.12.2009 21:34
- Оригинальная фотография: 856 x 570 (192 Кб)
- Технические характеристики:
- Фотоаппарат: Canon EOS 450D
- Выдержка: 1/200
- Гиперфокальное расстояние: 372,79 m
- Диафрагма: 1,8
- Светочувствительность: 400
- Фокусное расстояние: 50,0 mm (35 mm equivalent: 403,2 mm)
- Полный EXIF
- Adobe
- ColorTransform: YCbCr
- Composite
- Aperture: 1,8
- CircleOfConfusion: 0,004 mm
- FOV: 5,0 deg
- FocalLength35efl: 50,0 mm (35 mm equivalent: 403,2 mm)
- HyperfocalDistance: 372,79 m
- ScaleFactor35efl: 8,1
- ShutterSpeed: 1/200
- ExifIFD
- ApertureValue: 1,8
- ColorSpace: sRGB
- CreateDate: 2009:06:13 22:06:46
- CustomRendered: Normal
- DateTimeOriginal: 2009:06:13 22:06:46
- ExifImageHeight: 570
- ExifImageWidth: 856
- ExposureCompensation: 0
- ExposureMode: Manual
- ExposureProgram: Manual
- ExposureTime: 1/200
- FNumber: 1,8
- Flash: Off
- FocalLength: 50,0 mm
- ISO: 400
- MaxApertureValue: 1,8
- MeteringMode: Center-weighted average
- SceneCaptureType: Standard
- ShutterSpeedValue: 1/200
- WhiteBalance: Auto
- ICC-header
- ICC-meas
- ICC-view
- IFD0
- Make: Canon
- Model: Canon EOS 450D
- ModifyDate: 2009:12:29 21:33:31
- Orientation: Horizontal (normal)
- IFD1
- IPTC
- XMP-aux
- Firmware: 1.1.0
- FlashCompensation: 0
- ImageNumber: 0
- Lens: EF50mm f/1.8 II
- LensInfo: 50/1 50/1 0/0 0/0
- SerialNumber: 530103538
- XMP-crs
- AlreadyApplied: True
- BlueHue: 0
- BlueSaturation: 0
- Brightness: +30
- ChromaticAberrationB: 0
- ChromaticAberrationR: 0
- Clarity: 0
- ColorNoiseReduction: 93
- Contrast: 0
- ConvertToGrayscale: False
- CropAngle: -10.0774
- CropBottom: 0.746104
- CropHeight: 1900
- CropLeft: 0.213769
- CropRight: 0.948661
- CropTop: 0.264215
- CropUnit: 0
- CropWidth: 2851
- Defringe: 0
- Exposure: +1.33
- FillLight: 67
- GreenHue: 0
- GreenSaturation: 0
- HasCrop: True
- HasSettings: True
- HighlightRecovery: 0
- HueAdjustmentAqua: 0
- HueAdjustmentBlue: 0
- HueAdjustmentGreen: 0
- HueAdjustmentMagenta: 0
- HueAdjustmentOrange: 0
- HueAdjustmentPurple: 0
- HueAdjustmentRed: 0
- HueAdjustmentYellow: 0
- LuminanceAdjustmentAqua: 0
- LuminanceAdjustmentBlue: 0
- LuminanceAdjustmentGreen: 0
- LuminanceAdjustmentMagenta: 0
- LuminanceAdjustmentOrange: -21
- LuminanceAdjustmentPurple: 0
- LuminanceAdjustmentRed: -79
- LuminanceAdjustmentYellow: 0
- LuminanceSmoothing: 91
- ParametricDarks: -15
- ParametricHighlightSplit: 75
- ParametricHighlights: +8
- ParametricLights: +47
- ParametricMidtoneSplit: 50
- ParametricShadowSplit: 25
- ParametricShadows: -30
- PostCropVignetteAmount: -69
- PostCropVignetteFeather: 50
- PostCropVignetteMidpoint: 13
- PostCropVignetteRoundness: 0
- RedHue: 0
- RedSaturation: 0
- Saturation: +42
- SaturationAdjustmentAqua: 0
- SaturationAdjustmentBlue: 0
- SaturationAdjustmentGreen: 0
- SaturationAdjustmentMagenta: 0
- SaturationAdjustmentOrange: +62
- SaturationAdjustmentPurple: 0
- SaturationAdjustmentRed: -68
- SaturationAdjustmentYellow: 0
- ShadowTint: 0
- Shadows: 5
- SharpenDetail: 25
- SharpenEdgeMasking: 0
- SharpenRadius: +1.0
- Sharpness: 103
- SplitToningBalance: 0
- SplitToningHighlightHue: 49
- SplitToningHighlightSaturation: 0
- SplitToningShadowHue: 226
- SplitToningShadowSaturation: 0
- Temperature: 5400
- Tint: +1
- ToneCurve: 0, 0, 32, 22, 64, 56, 128, 128, 192, 196, 255, 255
- ToneCurveName: Medium Contrast
- Version: 5.6
- Vibrance: 0
- VignetteAmount: -51
- VignetteMidpoint: 50
- WhiteBalance: As Shot
- XMP-dc
- XMP-exif
- DateTimeDigitized: 2009:06:13 22:06:46.98+04:00
- DateTimeOriginal: 2009:06:13 22:06:46.98+04:00
- FlashFired: False
- FlashFunction: False
- FlashMode: Off
- FlashRedEyeMode: False
- FlashReturn: No return detection
- XMP-tiff
- ImageHeight: 1900
- ImageWidth: 2851
- XMP-xmp
- CreateDate: 2009:06:13 22:06:46.98+04:00
- ModifyDate: 2009:12:29 21:33:31+03:00
- XMP-xmpMM