- Раздел: Макро
- Дата съёмки: 08.01.2010 04:32
- Дата загрузки фото: 08.01.2010 05:44
- Оригинальная фотография: 1024 x 474 (285 Кб)
- Технические характеристики:
- Фотоаппарат: Canon EOS 400D DIGITAL
- Выдержка: 2,0
- Диафрагма: 10,0
- Светочувствительность: 100
- Фокусное расстояние: 60,0 mm
- Полный EXIF
- Adobe
- ColorTransform: YCbCr
- Composite
- Aperture: 10,0
- FocalLength35efl: 60,0 mm
- LightValue: 5,6
- ShutterSpeed: 2,0
- ExifIFD
- ApertureValue: 10,0
- ColorSpace: Uncalibrated
- CreateDate: 2010:01:06 20:49:54
- CustomRendered: Normal
- DateTimeOriginal: 2010:01:06 20:49:54
- ExifImageHeight: 474
- ExifImageWidth: 1024
- ExposureCompensation: 0
- ExposureMode: Auto
- ExposureProgram: Aperture-priority AE
- ExposureTime: 2,0
- FNumber: 10,0
- Flash: Off
- FocalLength: 60,0 mm
- ISO: 100
- MaxApertureValue: 2,8
- MeteringMode: Average
- SceneCaptureType: Standard
- ShutterSpeedValue: 2,0
- WhiteBalance: Manual
- ICC-header
- IFD0
- Artist: unknown
- Make: Canon
- Model: Canon EOS 400D DIGITAL
- ModifyDate: 2010:01:08 04:32:16
- Orientation: Horizontal (normal)
- IFD1
- IPTC
- By-line: unknown
- XMP-aux
- Firmware: 1.1.1
- FlashCompensation: 0
- ImageNumber: 64
- Lens: EF-S60mm f/2.8 Macro USM
- LensInfo: 60/1 60/1 0/0 0/0
- OwnerName: unknown
- SerialNumber: 1681158349
- XMP-crs
- AlreadyApplied: True
- BlueHue: 0
- BlueSaturation: 0
- Brightness: 0
- CameraProfile: ACR 4.4
- ChromaticAberrationB: 0
- ChromaticAberrationR: 0
- Clarity: 0
- ColorNoiseReduction: 100
- Contrast: 0
- ConvertToGrayscale: False
- CropAngle: 0
- CropBottom: 0.857534
- CropLeft: 0.080292
- CropRight: 0.921533
- CropTop: 0.273973
- Defringe: 0
- Exposure: +0.35
- FillLight: 22
- GreenHue: 0
- GreenSaturation: 0
- HasCrop: True
- HasSettings: True
- HighlightRecovery: 0
- HueAdjustmentAqua: 0
- HueAdjustmentBlue: 0
- HueAdjustmentGreen: 0
- HueAdjustmentMagenta: 0
- HueAdjustmentOrange: 0
- HueAdjustmentPurple: 0
- HueAdjustmentRed: 0
- HueAdjustmentYellow: 0
- LuminanceAdjustmentAqua: 0
- LuminanceAdjustmentBlue: 0
- LuminanceAdjustmentGreen: 0
- LuminanceAdjustmentMagenta: 0
- LuminanceAdjustmentOrange: 0
- LuminanceAdjustmentPurple: 0
- LuminanceAdjustmentRed: 0
- LuminanceAdjustmentYellow: 0
- LuminanceSmoothing: 100
- ParametricDarks: 0
- ParametricHighlightSplit: 75
- ParametricHighlights: 0
- ParametricLights: 0
- ParametricMidtoneSplit: 50
- ParametricShadowSplit: 25
- ParametricShadows: 0
- PostCropVignetteAmount: 0
- RawFileName: _MG_7316.CR2
- RedHue: 0
- RedSaturation: 0
- Saturation: 0
- SaturationAdjustmentAqua: 0
- SaturationAdjustmentBlue: 0
- SaturationAdjustmentGreen: 0
- SaturationAdjustmentMagenta: 0
- SaturationAdjustmentOrange: 0
- SaturationAdjustmentPurple: 0
- SaturationAdjustmentRed: 0
- SaturationAdjustmentYellow: 0
- ShadowTint: 0
- Shadows: 3
- SharpenDetail: 0
- SharpenEdgeMasking: 0
- SharpenRadius: +3.0
- Sharpness: 0
- SplitToningBalance: 0
- SplitToningHighlightHue: 0
- SplitToningHighlightSaturation: 0
- SplitToningShadowHue: 0
- SplitToningShadowSaturation: 0
- Temperature: 2550
- Tint: 0
- ToneCurve: 0, 0, 255, 255
- ToneCurveName: Linear
- Version: 4.6
- Vibrance: 0
- VignetteAmount: 0
- WhiteBalance: Custom
- XMP-dc
- Creator: unknown
- Format: image/jpeg
- XMP-exif
- ColorSpace: Unknown (-1)
- DateTimeDigitized: 2010:01:06 20:49:54+03:00
- DateTimeOriginal: 2010:01:06 20:49:54+03:00
- FlashFired: False
- FlashFunction: False
- FlashMode: Off
- FlashRedEyeMode: False
- FlashReturn: No return detection
- XMP-tiff
- ImageHeight: 1513
- ImageWidth: 3271
- XMP-xmp
- CreateDate: 2010:01:08 04:32:16+03:00
- ModifyDate: 2010:01:08 04:32:16+03:00
- XMP-xmpMM
- DerivedFrom:
- Просмотров: 229
- Рейтинг: голосов еще нет
- Отзывов: 0