- Раздел: Семья, личное
- Дата съёмки: 09.01.2010 12:28
- Дата загрузки фото: 10.01.2010 17:58
- Оригинальная фотография: 3948 x 2628 (7,9 Мб)
- Технические характеристики:
- Фотоаппарат: Sony DSLR-A550
- Выдержка: 1/4000
- Гиперфокальное расстояние: 13,46 m
- Диафрагма: 4,5
- Светочувствительность: 1600
- Фокусное расстояние: 35,0 mm (35 mm equivalent: 52,0 mm)
- Экспокоррекция: +0,3
- Полный EXIF
- Adobe
- ColorTransform: YCbCr
- Composite
- Aperture: 4,5
- CircleOfConfusion: 0,020 mm
- FOV: 38,0 deg
- FocalLength35efl: 35,0 mm (35 mm equivalent: 52,0 mm)
- HyperfocalDistance: 13,46 m
- ScaleFactor35efl: 1,5
- ShutterSpeed: 1/4000
- ExifIFD
- ApertureValue: 4,5
- BrightnessValue: 7,75
- Contrast: Normal
- CreateDate: 2010:01:09 12:28:05
- CustomRendered: Normal
- DateTimeOriginal: 2010:01:09 12:28:05
- ExposureCompensation: +0,3
- ExposureMode: Auto
- ExposureProgram: Aperture-priority AE
- ExposureTime: 1/4000
- FNumber: 4,5
- Flash: Off
- FocalLength: 35,0 mm
- FocalLengthIn35mmFormat: 52 mm
- ISO: 1600
- LightSource: Unknown
- MaxApertureValue: 1,4
- MeteringMode: Multi-segment
- Saturation: Normal
- SceneCaptureType: Standard
- SceneType: Directly photographed
- Sharpness: Hard
- ShutterSpeedValue: 1/4000
- WhiteBalance: Manual
- ICC-header
- ICC-meas
- ICC-view
- IFD0
- ImageDescription: SONY DSC
- Make: SONY
- Model: DSLR-A550
- ModifyDate: 2010:01:10 20:56:22
- Software: DSLR-A550 v1.00
- IFD1
- IPTC
- Caption-Abstract: SONY DSC
- XMP-aux
- Lens: 35mm F1.4
- LensID: 25911
- LensInfo: 35/1 35/1 14/10 14/10
- XMP-crs
- AlreadyApplied: True
- BlueHue: 0
- BlueSaturation: 0
- Brightness: +50
- ChromaticAberrationB: 0
- ChromaticAberrationR: 0
- Clarity: 0
- ColorNoiseReduction: 25
- Contrast: +25
- ConvertToGrayscale: False
- CropAngle: 1.4489
- CropBottom: 0.996053
- CropHeight: 2628
- CropLeft: 0.024668
- CropRight: 0.869721
- CropTop: 0.103864
- CropUnit: 0
- CropWidth: 3948
- Defringe: 0
- Exposure: 0.00
- FillLight: 7
- GreenHue: 0
- GreenSaturation: 0
- HasCrop: True
- HasSettings: True
- HighlightRecovery: 34
- HueAdjustmentAqua: 0
- HueAdjustmentBlue: 0
- HueAdjustmentGreen: 0
- HueAdjustmentMagenta: 0
- HueAdjustmentOrange: 0
- HueAdjustmentPurple: 0
- HueAdjustmentRed: 0
- HueAdjustmentYellow: 0
- LuminanceAdjustmentAqua: 0
- LuminanceAdjustmentBlue: 0
- LuminanceAdjustmentGreen: 0
- LuminanceAdjustmentMagenta: 0
- LuminanceAdjustmentOrange: 0
- LuminanceAdjustmentPurple: 0
- LuminanceAdjustmentRed: 0
- LuminanceAdjustmentYellow: 0
- LuminanceSmoothing: 0
- ParametricDarks: 0
- ParametricHighlightSplit: 75
- ParametricHighlights: 0
- ParametricLights: 0
- ParametricMidtoneSplit: 50
- ParametricShadowSplit: 25
- ParametricShadows: 0
- PostCropVignetteAmount: 0
- RedHue: 0
- RedSaturation: 0
- Saturation: 0
- SaturationAdjustmentAqua: 0
- SaturationAdjustmentBlue: 0
- SaturationAdjustmentGreen: 0
- SaturationAdjustmentMagenta: 0
- SaturationAdjustmentOrange: 0
- SaturationAdjustmentPurple: 0
- SaturationAdjustmentRed: 0
- SaturationAdjustmentYellow: 0
- ShadowTint: 0
- Shadows: 18
- SharpenDetail: 25
- SharpenEdgeMasking: 0
- SharpenRadius: +1.0
- Sharpness: 25
- SplitToningBalance: 0
- SplitToningHighlightHue: 0
- SplitToningHighlightSaturation: 0
- SplitToningShadowHue: 0
- SplitToningShadowSaturation: 0
- Temperature: 6400
- Tint: 0
- ToneCurve: 0, 0, 32, 22, 64, 56, 128, 128, 192, 196, 255, 255
- ToneCurveName: Medium Contrast
- Version: 5.6
- Vibrance: 0
- VignetteAmount: 0
- WhiteBalance: Auto
- XMP-dc
- XMP-exif
- DateTimeDigitized: 2010:01:09 12:28:05+06:00
- DateTimeOriginal: 2010:01:09 12:28:05+06:00
- ExifImageHeight: 2628
- ExifImageWidth: 3948
- FlashFired: False
- FlashFunction: False
- FlashMode: Off
- FlashRedEyeMode: False
- FlashReturn: No return detection
- XMP-tiff
- ImageHeight: 2628
- ImageWidth: 3948
- XMP-xmp
- CreateDate: 2010:01:09 12:28:05+06:00
- ModifyDate: 2010:01:10 20:56:22+06:00