| » Участники » Andey from Penza » Альбом #3 » 20090916_19-52-28_IMG_6679.jpg |
Уважаемые друзья и участники проекта iXBT.photo! К сожалению, 1 марта 2026 года проект iXBT.photo прекратит свою работу и будет закрыт. Мы высоко ценим ваше участие и тот вклад, который вы внесли в развитие нашего сообщества. Пожалуйста, не забудьте сохранить ваши фотографии до этой даты.
С уважением, команда iXBT.com
| 20090916_19-52-28_IMG_6679.jpg |
20090916_19-52-28_IMG_6679.jpg
- Раздел: Другое, разное
- Дата съёмки: 16.09.2009 19:52
- Дата загрузки фото: 13.01.2010 00:52
- Оригинальная фотография: 1500 x 1000 (1,3 Мб)
- Технические характеристики:
- Фотоаппарат: Canon EOS 500D
- Выдержка: 2,5
- Гиперфокальное расстояние: 4,43 m
- Диафрагма: 20,0
- Светочувствительность: 400
- Фокусное расстояние: 23,0 mm (35 mm equivalent: 115,7 mm)
- Полный EXIF
- Adobe
- ColorTransform: YCbCr
- Composite
- Aperture: 20,0
- CircleOfConfusion: 0,006 mm
- FOV: 17,0 deg
- FocalLength35efl: 23,0 mm (35 mm equivalent: 115,7 mm)
- HyperfocalDistance: 4,43 m
- LightValue: 5,6
- ScaleFactor35efl: 5,0
- ShutterSpeed: 2,5
- ExifIFD
- ApertureValue: 20,0
- CreateDate: 2009:09:16 19:52:28
- CustomRendered: Normal
- DateTimeOriginal: 2009:09:16 19:52:28
- ExposureCompensation: 0
- ExposureMode: Auto
- ExposureProgram: Shutter speed priority AE
- ExposureTime: 2,5
- FNumber: 20,0
- Flash: Off
- FocalLength: 23,0 mm
- ISO: 400
- MaxApertureValue: 3,5
- MeteringMode: Partial
- SceneCaptureType: Standard
- ShutterSpeedValue: 2,5
- WhiteBalance: Auto
- ICC-header
- ICC-meas
- ICC-view
- IFD0
- Artist: KUZOVNIKOV Andrey Nikolaevich
- tel. 89631000777:
- Copyright: Kuzovnikov A.N.
- e-mail: a_kuzovnikov@yahoo.com
- Make: Canon
- Model: Canon EOS 500D
- ModifyDate: 2009:10:10 13:33:38
- IFD1
- IPTC
- By-line: KUZOVNIKOV Andrey Nikolaevich
te
- CopyrightNotice: Kuzovnikov A.N.
e-mail: a_kuzovnikov@yahoo.com
- Keywords: Yulia and Ruslan
- XMP-aux
- Firmware: 1.0.9
- FlashCompensation: 0
- ImageNumber: 0
- Lens: EF-S18-55mm f/3.5-5.6 IS
- LensInfo: 18/1 55/1 0/0 0/0
- OwnerName: Kuzovnikov Andrey Nikolaevich
- SerialNumber: 330110626
- XMP-crs
- AlreadyApplied: True
- BlueHue: +45
- BlueSaturation: -17
- Brightness: +80
- CameraProfile: Camera Faithful
- ChromaticAberrationB: 0
- ChromaticAberrationR: 0
- Clarity: 0
- ColorNoiseReduction: 25
- Contrast: +39
- ConvertToGrayscale: False
- CropAngle: 2.76712
- CropBottom: 0.82904
- CropHeight: 1000
- CropLeft: 0.033679
- CropRight: 0.779567
- CropTop: 0.002442
- CropUnit: 0
- CropWidth: 1500
- Defringe: 0
- Exposure: +0.20
- FillLight: 9
- GreenHue: +2
- GreenSaturation: +43
- HasCrop: True
- HasSettings: True
- HighlightRecovery: 0
- HueAdjustmentAqua: 0
- HueAdjustmentBlue: 0
- HueAdjustmentGreen: 0
- HueAdjustmentMagenta: 0
- HueAdjustmentOrange: 0
- HueAdjustmentPurple: 0
- HueAdjustmentRed: 0
- HueAdjustmentYellow: 0
- LuminanceAdjustmentAqua: 0
- LuminanceAdjustmentBlue: 0
- LuminanceAdjustmentGreen: 0
- LuminanceAdjustmentMagenta: 0
- LuminanceAdjustmentOrange: +23
- LuminanceAdjustmentPurple: 0
- LuminanceAdjustmentRed: 0
- LuminanceAdjustmentYellow: +2
- LuminanceSmoothing: 0
- ParametricDarks: +34
- ParametricHighlightSplit: 75
- ParametricHighlights: 0
- ParametricLights: +18
- ParametricMidtoneSplit: 50
- ParametricShadowSplit: 25
- ParametricShadows: 0
- PostCropVignetteAmount: 0
- RedHue: +5
- RedSaturation: 0
- Saturation: +2
- SaturationAdjustmentAqua: 0
- SaturationAdjustmentBlue: 0
- SaturationAdjustmentGreen: 0
- SaturationAdjustmentMagenta: 0
- SaturationAdjustmentOrange: -19
- SaturationAdjustmentPurple: 0
- SaturationAdjustmentRed: 0
- SaturationAdjustmentYellow: -1
- ShadowTint: 0
- Shadows: 4
- SharpenDetail: 7
- SharpenEdgeMasking: 0
- SharpenRadius: +0.6
- Sharpness: 127
- SplitToningBalance: 0
- SplitToningHighlightHue: 0
- SplitToningHighlightSaturation: 0
- SplitToningShadowHue: 0
- SplitToningShadowSaturation: 0
- Temperature: 3400
- Tint: 0
- ToneCurve: 0, 0, 32, 16, 64, 50, 128, 128, 192, 202, 255, 255
- ToneCurveName: Strong Contrast
- Version: 5.5
- Vibrance: +41
- VignetteAmount: 0
- WhiteBalance: Custom
- XMP-dc
- Creator: KUZOVNIKOV Andrey Nikolaevich
- Rights: Kuzovnikov A.N.
- Subject: Yulia and Ruslan
- XMP-exif
- DateTimeDigitized: 2009:09:16 19:52:28.34+04:00
- DateTimeOriginal: 2009:09:16 19:52:28.34+04:00
- ExifImageHeight: 1000
- ExifImageWidth: 1500
- FlashFired: False
- FlashFunction: False
- FlashMode: Off
- FlashRedEyeMode: False
- FlashReturn: No return detection
- XMP-lr
- HierarchicalSubject: Yulia and Ruslan
- XMP-tiff
- ImageHeight: 1000
- ImageWidth: 1500
- XMP-xmp
- CreateDate: 2009:09:16 19:52:28.34+04:00
- ModifyDate: 2009:10:10 13:33:38+04:00
- Rating: 4
- Просмотров: 692
- Рейтинг: голосов еще нет
- Отзывов: 0
Получить код для блога
| Вставка фотографии в текущем разрешении |
Вставка миниатюры |
HTML (для вставки в блог):
BBCode (для вставки в форум):
Ссылка на фото:
Ссылка на миниатюру:
- Послать ссылку другу
| Комментарии к фотографии |