- Раздел: Другое, разное
- Дата съёмки: 01.01.2010 23:29
- Дата загрузки фото: 14.01.2010 03:06
- Оригинальная фотография: 1352 x 593 ( 79 Кб)
- Технические характеристики:
- Фотоаппарат: Nikon D60
- Выдержка: 1/60
- Гиперфокальное расстояние: 9,61 m
- Диафрагма: 6,3
- Светочувствительность: 100
- Фокусное расстояние: 35,0 mm (35 mm equivalent: 52,0 mm)
- Полный EXIF
- Adobe
- ColorTransform: YCbCr
- Composite
- Aperture: 6,3
- CircleOfConfusion: 0,020 mm
- FOV: 38,0 deg
- FocalLength35efl: 35,0 mm (35 mm equivalent: 52,0 mm)
- HyperfocalDistance: 9,61 m
- ScaleFactor35efl: 1,5
- ShutterSpeed: 1/60
- ExifIFD
- ApertureValue: 6,3
- CFAPattern: [Green,Blue][Red,Green]
- Contrast: High
- CreateDate: 2010:01:01 23:29:14
- CustomRendered: Normal
- DateTimeOriginal: 2010:01:01 23:29:14
- DigitalZoomRatio: 1
- ExposureCompensation: 0
- ExposureMode: Auto
- ExposureProgram: Aperture-priority AE
- ExposureTime: 1/60
- FNumber: 6,3
- Flash: Auto, Fired, Red-eye reduction, Return detected
- FocalLength: 35,0 mm
- FocalLengthIn35mmFormat: 52 mm
- GainControl: None
- ISO: 100
- LightSource: Unknown
- MaxApertureValue: 1,7
- MeteringMode: Center-weighted average
- Saturation: Normal
- SceneCaptureType: Standard
- SceneType: Directly photographed
- SensingMethod: One-chip color area
- Sharpness: Hard
- ShutterSpeedValue: 1/60
- SubjectDistance: 0,3 m
- SubjectDistanceRange: Unknown
- UserComment: LUZIN
- WhiteBalance: Auto
- ICC-header
- IFD0
- Make: NIKON CORPORATION
- Model: NIKON D60
- ModifyDate: 2010:01:01 20:46:27
- Software: Nikon Transfer 1.0 W
- IFD1
- XMP-aux
- ImageNumber: 18864
- Lens: 35.0 mm f/1.8
- LensID: 159
- LensInfo: 35/1 35/1 18/10 18/10
- SerialNumber: 6573487
- XMP-crs
- AlreadyApplied: True
- BlueHue: 0
- BlueSaturation: 0
- Brightness: +50
- ChromaticAberrationB: 0
- ChromaticAberrationR: 0
- Clarity: +18
- ColorNoiseReduction: 28
- Contrast: +44
- ConvertToGrayscale: False
- CropAngle: 0
- CropBottom: 0.627005
- CropLeft: 0.348254
- CropRight: 0.697404
- CropTop: 0.398396
- Defringe: 0
- Exposure: +0.25
- FillLight: 35
- GreenHue: 0
- GreenSaturation: 0
- HasCrop: True
- HasSettings: True
- HighlightRecovery: 33
- HueAdjustmentAqua: 0
- HueAdjustmentBlue: +30
- HueAdjustmentGreen: 0
- HueAdjustmentMagenta: 0
- HueAdjustmentOrange: +10
- HueAdjustmentPurple: 0
- HueAdjustmentRed: -3
- HueAdjustmentYellow: -21
- LuminanceAdjustmentAqua: 0
- LuminanceAdjustmentBlue: -21
- LuminanceAdjustmentGreen: 0
- LuminanceAdjustmentMagenta: 0
- LuminanceAdjustmentOrange: +8
- LuminanceAdjustmentPurple: 0
- LuminanceAdjustmentRed: 0
- LuminanceAdjustmentYellow: +22
- LuminanceSmoothing: 23
- ParametricDarks: -19
- ParametricHighlightSplit: 75
- ParametricHighlights: +18
- ParametricLights: +23
- ParametricMidtoneSplit: 50
- ParametricShadowSplit: 25
- ParametricShadows: -28
- PostCropVignetteAmount: 0
- RawFileName: DSC_7166.NEF
- RedHue: 0
- RedSaturation: 0
- Saturation: +11
- SaturationAdjustmentAqua: 0
- SaturationAdjustmentBlue: +30
- SaturationAdjustmentGreen: 0
- SaturationAdjustmentMagenta: 0
- SaturationAdjustmentOrange: +13
- SaturationAdjustmentPurple: 0
- SaturationAdjustmentRed: -21
- SaturationAdjustmentYellow: -2
- ShadowTint: 0
- Shadows: 27
- SharpenDetail: 33
- SharpenEdgeMasking: 68
- SharpenRadius: +1.1
- Sharpness: 0
- SplitToningBalance: 0
- SplitToningHighlightHue: 0
- SplitToningHighlightSaturation: 0
- SplitToningShadowHue: 0
- SplitToningShadowSaturation: 0
- Temperature: 5500
- Tint: 0
- ToneCurve: 0, 0, 32, 22, 64, 56, 128, 128, 192, 196, 255, 255
- ToneCurveName: Medium Contrast
- Version: 5.6
- Vibrance: 0
- VignetteAmount: 0
- WhiteBalance: Flash
- XMP-exif
- DateTimeDigitized: 2010:01:01 23:29:14.20+03:00
- DateTimeOriginal: 2010:01:01 23:29:14.20+03:00
- ExifImageHeight: 593
- ExifImageWidth: 1352
- FlashFired: True
- FlashFunction: False
- FlashMode: Auto
- FlashRedEyeMode: True
- FlashReturn: Return detected
- XMP-microsoft
- XMP-tiff
- ImageHeight: 593
- ImageWidth: 1352
- XMP-xmp
- CreateDate: 2010:01:01 23:29:14.20+03:00
- CreatorTool: Nikon Transfer 1.0 W
- ModifyDate: 2010:01:01 20:46:27Z
- Rating: 0
- Просмотров: 209
- Рейтинг: голосов еще нет
- Отзывов: 0