- Раздел: Пейзаж
- Дата съёмки: 17.01.2010 15:34
- Дата загрузки фото: 19.01.2010 23:30
- Оригинальная фотография: 3872 x 2592 (2,9 Мб)
- Технические характеристики:
- Фотоаппарат: Sony DSLR-A300
- Выдержка: 1/800
- Гиперфокальное расстояние: 73,42 m
- Диафрагма: 1,7
- Светочувствительность: 100
- Фокусное расстояние: 50,0 mm (35 mm equivalent: 75,0 mm)
- Полный EXIF
- Adobe
- ColorTransform: YCbCr
- Composite
- Aperture: 1,7
- CircleOfConfusion: 0,020 mm
- FOV: 26,0 deg
- FocalLength35efl: 50,0 mm (35 mm equivalent: 75,0 mm)
- HyperfocalDistance: 73,42 m
- ScaleFactor35efl: 1,5
- ShutterSpeed: 1/800
- ExifIFD
- ApertureValue: 1,7
- BrightnessValue: 6,5
- ColorSpace: sRGB
- Contrast: Normal
- CreateDate: 2010:01:17 15:34:02
- CustomRendered: Normal
- DateTimeOriginal: 2010:01:17 15:34:02
- ExifImageHeight: 2592
- ExifImageWidth: 3872
- ExposureCompensation: 0
- ExposureMode: Manual
- ExposureProgram: Manual
- ExposureTime: 1/800
- FNumber: 1,7
- Flash: Off
- FocalLength: 50,0 mm
- FocalLengthIn35mmFormat: 75 mm
- ISO: 100
- LightSource: Unknown
- MaxApertureValue: 1,7
- MeteringMode: Spot
- Saturation: Normal
- SceneCaptureType: Standard
- SceneType: Directly photographed
- Sharpness: Normal
- ShutterSpeedValue: 1/800
- WhiteBalance: Auto
- ICC-header
- ICC-meas
- ICC-view
- IFD0
- ImageDescription: SONY DSC
- Make: SONY
- Model: DSLR-A300
- ModifyDate: 2010:01:19 22:38:49
- Orientation: Horizontal (normal)
- IFD1
- IPTC
- Caption-Abstract: SONY DSC
- XMP-aux
- Lens: 50mm F1.7
- LensID: 25501
- LensInfo: 50/1 50/1 17/10 17/10
- XMP-crs
- AlreadyApplied: True
- BlueHue: 0
- BlueSaturation: 0
- Brightness: 0
- CameraProfile: ACR 4.4
- ChromaticAberrationB: 0
- ChromaticAberrationR: 0
- Clarity: +29
- ColorNoiseReduction: 25
- Contrast: +44
- ConvertToGrayscale: False
- Defringe: 0
- Exposure: +2.20
- FillLight: 0
- GreenHue: 0
- GreenSaturation: 0
- HasCrop: False
- HasSettings: True
- HighlightRecovery: 0
- HueAdjustmentAqua: 0
- HueAdjustmentBlue: 0
- HueAdjustmentGreen: 0
- HueAdjustmentMagenta: 0
- HueAdjustmentOrange: 0
- HueAdjustmentPurple: 0
- HueAdjustmentRed: 0
- HueAdjustmentYellow: 0
- LuminanceAdjustmentAqua: 0
- LuminanceAdjustmentBlue: 0
- LuminanceAdjustmentGreen: 0
- LuminanceAdjustmentMagenta: 0
- LuminanceAdjustmentOrange: 0
- LuminanceAdjustmentPurple: 0
- LuminanceAdjustmentRed: 0
- LuminanceAdjustmentYellow: 0
- LuminanceSmoothing: 40
- ParametricDarks: -4
- ParametricHighlightSplit: 75
- ParametricHighlights: +16
- ParametricLights: +35
- ParametricMidtoneSplit: 50
- ParametricShadowSplit: 25
- ParametricShadows: +41
- PostCropVignetteAmount: 0
- RawFileName: DSC04173.ARW
- RedHue: 0
- RedSaturation: 0
- Saturation: 0
- SaturationAdjustmentAqua: 0
- SaturationAdjustmentBlue: 0
- SaturationAdjustmentGreen: 0
- SaturationAdjustmentMagenta: 0
- SaturationAdjustmentOrange: 0
- SaturationAdjustmentPurple: 0
- SaturationAdjustmentRed: 0
- SaturationAdjustmentYellow: 0
- ShadowTint: 0
- Shadows: 9
- SharpenDetail: 25
- SharpenEdgeMasking: 0
- SharpenRadius: +1.0
- Sharpness: 25
- SplitToningBalance: 0
- SplitToningHighlightHue: 0
- SplitToningHighlightSaturation: 0
- SplitToningShadowHue: 0
- SplitToningShadowSaturation: 0
- Temperature: 7000
- Tint: +12
- ToneCurve: 0, 0, 32, 22, 64, 56, 128, 128, 192, 196, 255, 255
- ToneCurveName: Medium Contrast
- Version: 5.6
- Vibrance: 0
- VignetteAmount: 0
- WhiteBalance: Custom
- XMP-dc
- Description: SONY DSC
- Format: image/jpeg
- XMP-exif
- DateTimeDigitized: 2010:01:17 15:34:02+03:00
- DateTimeOriginal: 2010:01:17 15:34:02+03:00
- FlashFired: False
- FlashFunction: False
- FlashMode: Off
- FlashRedEyeMode: False
- FlashReturn: No return detection
- XMP-tiff
- XMP-xmp
- CreateDate: 2010:01:17 15:34:02+03:00
- CreatorTool: DSLR-A300 v1.00
- ModifyDate: 2010:01:19 22:38:49+03:00
- Rating: 0
- XMP-xmpMM
- Просмотров: 222
- Рейтинг: голосов еще нет
- Отзывов: 0