| » Участники » alex1970 » разное » IMG_0183_1.JPG |
Уважаемые друзья и участники проекта iXBT.photo! К сожалению, 1 марта 2026 года проект iXBT.photo прекратит свою работу и будет закрыт. Мы высоко ценим ваше участие и тот вклад, который вы внесли в развитие нашего сообщества. Пожалуйста, не забудьте сохранить ваши фотографии до этой даты.
С уважением, команда iXBT.com
| IMG_0183_1.JPG |
IMG_0183_1.JPG
- Раздел: Другое, разное
- Дата съёмки: 05.09.2009 11:42
- Дата загрузки фото: 22.01.2010 20:35
- Оригинальная фотография: 1946 x 1298 (348 Кб)
- Технические характеристики:
- Фотоаппарат: Canon EOS 40D
- Выдержка: 1/250
- Гиперфокальное расстояние: 43,05 m
- Диафрагма: 9,0
- Светочувствительность: 400
- Фокусное расстояние: 60,0 mm (35 mm equivalent: 194,0 mm)
- Полный EXIF
- Adobe
- ColorTransform: YCbCr
- Composite
- Aperture: 9,0
- CircleOfConfusion: 0,009 mm
- FOV: 10,0 deg
- FocalLength35efl: 60,0 mm (35 mm equivalent: 194,0 mm)
- HyperfocalDistance: 43,05 m
- ScaleFactor35efl: 3,2
- ShutterSpeed: 1/250
- ExifIFD
- ApertureValue: 9,0
- CreateDate: 2009:09:05 11:42:47
- DateTimeOriginal: 2009:09:05 11:42:47
- ExposureCompensation: 0
- ExposureProgram: Program AE
- ExposureTime: 1/250
- FNumber: 9,0
- Flash: On
- FocalLength: 60,0 mm
- ISO: 400
- ShutterSpeedValue: 1/250
- ICC-header
- IFD0
- CustomRendered: Normal
- ExposureMode: Auto
- Make: Canon
- Model: Canon EOS 40D
- ModifyDate: 2010:01:19 20:44:47
- SceneCaptureType: Standard
- Software: Digital Photo Professional
- WhiteBalance: Auto
- XMP-crs
- AlreadyApplied: True
- BlueHue: 0
- BlueSaturation: 0
- Brightness: +15
- CameraProfile: Embedded
- ChromaticAberrationB: 0
- ChromaticAberrationR: 0
- Clarity: 0
- ColorNoiseReduction: 100
- Contrast: +11
- ConvertToGrayscale: False
- CropAngle: -12.471086
- CropBottom: 0.750856
- CropLeft: 0.069229
- CropRight: 0.930771
- CropTop: 0.249144
- Defringe: 0
- Exposure: 0.00
- FillLight: 0
- GreenHue: 0
- GreenSaturation: 0
- HasCrop: True
- HasSettings: True
- HighlightRecovery: 41
- HueAdjustmentAqua: 0
- HueAdjustmentBlue: 0
- HueAdjustmentGreen: 0
- HueAdjustmentMagenta: 0
- HueAdjustmentOrange: 0
- HueAdjustmentPurple: 0
- HueAdjustmentRed: 0
- HueAdjustmentYellow: 0
- IncrementalTemperature: 0
- IncrementalTint: 0
- LuminanceAdjustmentAqua: 0
- LuminanceAdjustmentBlue: 0
- LuminanceAdjustmentGreen: 0
- LuminanceAdjustmentMagenta: 0
- LuminanceAdjustmentOrange: 0
- LuminanceAdjustmentPurple: 0
- LuminanceAdjustmentRed: 0
- LuminanceAdjustmentYellow: 0
- LuminanceSmoothing: 100
- ParametricDarks: 0
- ParametricHighlightSplit: 75
- ParametricHighlights: 0
- ParametricLights: 0
- ParametricMidtoneSplit: 50
- ParametricShadowSplit: 25
- ParametricShadows: 0
- PostCropVignetteAmount: 0
- RawFileName: IMG_0183.JPG
- RedHue: 0
- RedSaturation: 0
- Saturation: 0
- SaturationAdjustmentAqua: 0
- SaturationAdjustmentBlue: 0
- SaturationAdjustmentGreen: 0
- SaturationAdjustmentMagenta: 0
- SaturationAdjustmentOrange: 0
- SaturationAdjustmentPurple: 0
- SaturationAdjustmentRed: 0
- SaturationAdjustmentYellow: 0
- ShadowTint: 0
- Shadows: 9
- SharpenDetail: 63
- SharpenEdgeMasking: 100
- SharpenRadius: +1.0
- Sharpness: 138
- SplitToningBalance: 0
- SplitToningHighlightHue: 0
- SplitToningHighlightSaturation: 0
- SplitToningShadowHue: 0
- SplitToningShadowSaturation: 0
- ToneCurve: 0, 0, 255, 255
- ToneCurveName: Linear
- Version: 5.0
- Vibrance: +34
- VignetteAmount: 0
- WhiteBalance: As Shot
- XMP-exif
- DateTimeDigitized: 2009:09:05 11:42:47.00+04:00
- DateTimeOriginal: 2009:09:05 11:42:47.00+04:00
- ExifImageHeight: 1298
- ExifImageWidth: 1946
- FlashFired: True
- FlashFunction: False
- FlashMode: On
- FlashRedEyeMode: False
- FlashReturn: No return detection
- XMP-tiff
- ImageHeight: 1298
- ImageWidth: 1946
- XMP-xmp
- CreateDate: 2009:09:05 11:42:47.00+04:00
- CreatorTool: Digital Photo Professional
- ModifyDate: 2010:01:19 20:44:47+03:00
- Просмотров: 193
- Рейтинг: голосов еще нет
- Отзывов: отключены
Получить код для блога
| Вставка фотографии в текущем разрешении |
Вставка миниатюры |
HTML (для вставки в блог):
BBCode (для вставки в форум):
Ссылка на фото:
Ссылка на миниатюру:
- Послать ссылку другу
| Комментарии к фотографии |