- Раздел: Другое, разное
- Дата съёмки: 17.10.2009 15:36
- Дата загрузки фото: 28.01.2010 10:51
- Оригинальная фотография: 600 x 900 (213 Кб)
- Технические характеристики:
- Фотоаппарат: Canon EOS 450D
- Выдержка: 1/320
- Гиперфокальное расстояние: 319,28 m
- Диафрагма: 2,0
- Светочувствительность: 200
- Фокусное расстояние: 50,0 mm (35 mm equivalent: 383,7 mm)
- Полный EXIF
- Adobe
- ColorTransform: YCbCr
- Composite
- Aperture: 2,0
- CircleOfConfusion: 0,004 mm
- FOV: 5,0 deg
- FocalLength35efl: 50,0 mm (35 mm equivalent: 383,7 mm)
- HyperfocalDistance: 319,28 m
- ScaleFactor35efl: 7,7
- ShutterSpeed: 1/320
- ExifIFD
- ApertureValue: 2,0
- ColorSpace: sRGB
- CreateDate: 2009:10:17 15:36:38
- CustomRendered: Normal
- DateTimeOriginal: 2009:10:17 15:36:38
- ExifImageHeight: 900
- ExifImageWidth: 600
- ExposureCompensation: 0
- ExposureMode: Manual
- ExposureProgram: Manual
- ExposureTime: 1/320
- FNumber: 2,0
- Flash: Off
- FocalLength: 50,0 mm
- ISO: 200
- MaxApertureValue: 1,4
- MeteringMode: Center-weighted average
- SceneCaptureType: Standard
- ShutterSpeedValue: 1/320
- WhiteBalance: Auto
- ICC-header
- ICC-meas
- ICC-view
- IFD0
- Make: Canon
- Model: Canon EOS 450D
- ModifyDate: 2010:01:28 10:39:11
- Orientation: Horizontal (normal)
- IFD1
- IPTC
- XMP-aux
- Firmware: 1.1.0
- FlashCompensation: 0
- ImageNumber: 0
- Lens: EF50mm f/1.4 USM
- LensInfo: 50/1 50/1 0/0 0/0
- SerialNumber: 530103538
- XMP-crs
- AlreadyApplied: True
- BlueHue: 0
- BlueSaturation: 0
- Brightness: +54
- ChromaticAberrationB: 0
- ChromaticAberrationR: 0
- Clarity: 0
- ColorNoiseReduction: 25
- Contrast: +25
- ConvertToGrayscale: False
- Defringe: 0
- Exposure: -0.26
- FillLight: 11
- GreenHue: 0
- GreenSaturation: 0
- HasCrop: False
- HasSettings: True
- HighlightRecovery: 11
- HueAdjustmentAqua: 0
- HueAdjustmentBlue: 0
- HueAdjustmentGreen: +9
- HueAdjustmentMagenta: 0
- HueAdjustmentOrange: 0
- HueAdjustmentPurple: 0
- HueAdjustmentRed: 0
- HueAdjustmentYellow: 0
- LuminanceAdjustmentAqua: 0
- LuminanceAdjustmentBlue: +11
- LuminanceAdjustmentGreen: +74
- LuminanceAdjustmentMagenta: 0
- LuminanceAdjustmentOrange: +40
- LuminanceAdjustmentPurple: 0
- LuminanceAdjustmentRed: +51
- LuminanceAdjustmentYellow: 0
- LuminanceSmoothing: 0
- ParametricDarks: 0
- ParametricHighlightSplit: 75
- ParametricHighlights: 0
- ParametricLights: +6
- ParametricMidtoneSplit: 50
- ParametricShadowSplit: 25
- ParametricShadows: 0
- PostCropVignetteAmount: -6
- PostCropVignetteFeather: 50
- PostCropVignetteMidpoint: 50
- PostCropVignetteRoundness: 0
- RedHue: 0
- RedSaturation: 0
- Saturation: +23
- SaturationAdjustmentAqua: 0
- SaturationAdjustmentBlue: -26
- SaturationAdjustmentGreen: +69
- SaturationAdjustmentMagenta: 0
- SaturationAdjustmentOrange: -20
- SaturationAdjustmentPurple: 0
- SaturationAdjustmentRed: 0
- SaturationAdjustmentYellow: 0
- ShadowTint: 0
- Shadows: 5
- SharpenDetail: 25
- SharpenEdgeMasking: 0
- SharpenRadius: +1.0
- Sharpness: 67
- SplitToningBalance: 0
- SplitToningHighlightHue: 0
- SplitToningHighlightSaturation: 0
- SplitToningShadowHue: 0
- SplitToningShadowSaturation: 0
- Temperature: 4979
- Tint: -16
- ToneCurve: 0, 0, 32, 22, 64, 56, 128, 128, 192, 196, 255, 255
- ToneCurveName: Medium Contrast
- Version: 5.5
- Vibrance: 0
- VignetteAmount: -36
- VignetteMidpoint: 50
- WhiteBalance: Custom
- XMP-dc
- XMP-exif
- DateTimeDigitized: 2009:10:17 15:36:38.12+04:00
- DateTimeOriginal: 2009:10:17 15:36:38.12+04:00
- FlashFired: False
- FlashFunction: False
- FlashMode: Off
- FlashRedEyeMode: False
- FlashReturn: No return detection
- XMP-tiff
- ImageHeight: 4272
- ImageWidth: 2848
- XMP-xmp
- CreateDate: 2009:10:17 15:36:38.12+04:00
- ModifyDate: 2010:01:28 10:39:11+03:00
- XMP-xmpMM
- Просмотров: 118
- Рейтинг: голосов еще нет
- Отзывов: отключены