- Раздел: Другое, разное
- Дата съёмки: 17.10.2009 16:05
- Дата загрузки фото: 28.01.2010 10:53
- Оригинальная фотография: 900 x 600 (261 Кб)
- Технические характеристики:
- Фотоаппарат: Canon EOS 450D
- Выдержка: 1/400
- Гиперфокальное расстояние: 255,20 m
- Диафрагма: 2,5
- Светочувствительность: 200
- Фокусное расстояние: 50,0 mm (35 mm equivalent: 383,4 mm)
- Полный EXIF
- Adobe
- ColorTransform: YCbCr
- Composite
- Aperture: 2,5
- CircleOfConfusion: 0,004 mm
- FOV: 5,0 deg
- FocalLength35efl: 50,0 mm (35 mm equivalent: 383,4 mm)
- HyperfocalDistance: 255,20 m
- ScaleFactor35efl: 7,7
- ShutterSpeed: 1/400
- ExifIFD
- ApertureValue: 2,5
- ColorSpace: sRGB
- CreateDate: 2009:10:17 16:05:36
- CustomRendered: Normal
- DateTimeOriginal: 2009:10:17 16:05:36
- ExifImageHeight: 600
- ExifImageWidth: 900
- ExposureCompensation: 0
- ExposureMode: Manual
- ExposureProgram: Manual
- ExposureTime: 1/400
- FNumber: 2,5
- Flash: Off
- FocalLength: 50,0 mm
- ISO: 200
- MaxApertureValue: 1,4
- MeteringMode: Center-weighted average
- SceneCaptureType: Standard
- ShutterSpeedValue: 1/400
- WhiteBalance: Auto
- ICC-header
- ICC-meas
- ICC-view
- IFD0
- Make: Canon
- Model: Canon EOS 450D
- ModifyDate: 2010:01:28 10:29:23
- Orientation: Horizontal (normal)
- IFD1
- IPTC
- XMP-aux
- Firmware: 1.1.0
- FlashCompensation: 0
- ImageNumber: 0
- Lens: EF50mm f/1.4 USM
- LensInfo: 50/1 50/1 0/0 0/0
- SerialNumber: 530103538
- XMP-crs
- AlreadyApplied: True
- BlueHue: 0
- BlueSaturation: 0
- Brightness: +50
- ChromaticAberrationB: 0
- ChromaticAberrationR: 0
- Clarity: 0
- ColorNoiseReduction: 25
- Contrast: +62
- ConvertToGrayscale: False
- CropAngle: 0
- CropBottom: 0.933835
- CropHeight: 2625
- CropLeft: 0.07014
- CropRight: 0.991984
- CropTop: 0.011991
- CropUnit: 0
- CropWidth: 3938
- Defringe: 0
- Exposure: -0.09
- FillLight: 55
- GreenHue: 0
- GreenSaturation: 0
- HasCrop: True
- HasSettings: True
- HighlightRecovery: 26
- HueAdjustmentAqua: 0
- HueAdjustmentBlue: 0
- HueAdjustmentGreen: 0
- HueAdjustmentMagenta: 0
- HueAdjustmentOrange: 0
- HueAdjustmentPurple: 0
- HueAdjustmentRed: 0
- HueAdjustmentYellow: 0
- LuminanceAdjustmentAqua: 0
- LuminanceAdjustmentBlue: 0
- LuminanceAdjustmentGreen: +94
- LuminanceAdjustmentMagenta: 0
- LuminanceAdjustmentOrange: +43
- LuminanceAdjustmentPurple: -3
- LuminanceAdjustmentRed: +9
- LuminanceAdjustmentYellow: +57
- LuminanceSmoothing: 0
- ParametricDarks: 0
- ParametricHighlightSplit: 75
- ParametricHighlights: 0
- ParametricLights: 0
- ParametricMidtoneSplit: 50
- ParametricShadowSplit: 25
- ParametricShadows: 0
- PostCropVignetteAmount: -28
- PostCropVignetteFeather: 50
- PostCropVignetteMidpoint: 50
- PostCropVignetteRoundness: 0
- RedHue: 0
- RedSaturation: 0
- Saturation: +15
- SaturationAdjustmentAqua: 0
- SaturationAdjustmentBlue: -31
- SaturationAdjustmentGreen: +46
- SaturationAdjustmentMagenta: -29
- SaturationAdjustmentOrange: -6
- SaturationAdjustmentPurple: 0
- SaturationAdjustmentRed: -14
- SaturationAdjustmentYellow: 0
- ShadowTint: 0
- Shadows: 5
- SharpenDetail: 25
- SharpenEdgeMasking: 0
- SharpenRadius: +1.0
- Sharpness: 61
- SplitToningBalance: 0
- SplitToningHighlightHue: 0
- SplitToningHighlightSaturation: 0
- SplitToningShadowHue: 0
- SplitToningShadowSaturation: 0
- Temperature: 5192
- Tint: -5
- ToneCurve: 0, 0, 32, 22, 64, 56, 128, 128, 192, 196, 255, 255
- ToneCurveName: Medium Contrast
- Version: 5.5
- Vibrance: 0
- VignetteAmount: 0
- WhiteBalance: Custom
- XMP-dc
- XMP-exif
- DateTimeDigitized: 2009:10:17 16:05:36.94+04:00
- DateTimeOriginal: 2009:10:17 16:05:36.94+04:00
- FlashFired: False
- FlashFunction: False
- FlashMode: Off
- FlashRedEyeMode: False
- FlashReturn: No return detection
- XMP-tiff
- ImageHeight: 2625
- ImageWidth: 3938
- XMP-xmp
- CreateDate: 2009:10:17 16:05:36.94+04:00
- ModifyDate: 2010:01:28 10:29:23+03:00
- XMP-xmpMM
- Просмотров: 161
- Рейтинг: голосов еще нет
- Отзывов: отключены