- Раздел: Другое, разное
- Дата съёмки: 17.01.2010 11:25
- Дата загрузки фото: 28.01.2010 21:42
- Оригинальная фотография: 1200 x 801 (195 Кб)
- Технические характеристики:
- Фотоаппарат: Pentax K100D Super
- Выдержка: 1/200
- Гиперфокальное расстояние: 62,40 m
- Диафрагма: 8,0
- Светочувствительность: 200
- Фокусное расстояние: 100,0 mm (35 mm equivalent: 150,0 mm)
- Экспокоррекция: +0,3
- Полный EXIF
- Composite
- Aperture: 8,0
- CircleOfConfusion: 0,020 mm
- FOV: 13,0 deg
- FocalLength35efl: 100,0 mm (35 mm equivalent: 150,0 mm)
- HyperfocalDistance: 62,40 m
- ScaleFactor35efl: 1,5
- ShutterSpeed: 1/200
- ExifIFD
- ApertureValue: 8,0
- CFAPattern: [Red,Green][Green,Blue]
- Contrast: Normal
- CreateDate: 2010:01:17 11:25:09
- CustomRendered: Normal
- DateTimeOriginal: 2010:01:17 11:25:09
- ExifImageHeight: 801
- ExifImageWidth: 1200
- ExposureCompensation: +0,3
- ExposureMode: Manual
- ExposureProgram: Shutter speed priority AE
- ExposureTime: 1/200
- FNumber: 8,0
- Flash: Off
- FocalLength: 100,0 mm
- FocalLengthIn35mmFormat: 150 mm
- ISO: 200
- MeteringMode: Spot
- Saturation: Normal
- SceneCaptureType: Standard
- SceneType: Directly photographed
- SensingMethod: One-chip color area
- Sharpness: Normal
- ShutterSpeedValue: 1/200
- SubjectDistanceRange: Distant
- WhiteBalance: Auto
- ICC-header
- ICC-meas
- ICC-view
- IFD0
- Make: PENTAX Corporation
- Model: PENTAX K100D Super
- ModifyDate: 2010:01:28 20:30:07
- Orientation: Horizontal (normal)
- Software: ACD Systems Digital Imaging
- IFD1
- IPTC
- XMP-aux
- Lens: TAMRON AF 28-200mm F/3.8-5.6 LD Super II MACRO
- LensID: 4 29
- LensInfo: 280/10 2000/10 38/10 56/10
- XMP-crs
- AlreadyApplied: True
- BlueHue: 0
- BlueSaturation: 0
- Brightness: +64
- ChromaticAberrationB: 0
- ChromaticAberrationR: 0
- Clarity: +52
- ColorNoiseReduction: 48
- Contrast: +25
- ConvertToGrayscale: False
- Defringe: 0
- Exposure: +0.33
- FillLight: 0
- GreenHue: 0
- GreenSaturation: 0
- HasCrop: False
- HasSettings: True
- HighlightRecovery: 0
- HueAdjustmentAqua: 0
- HueAdjustmentBlue: 0
- HueAdjustmentGreen: 0
- HueAdjustmentMagenta: 0
- HueAdjustmentOrange: 0
- HueAdjustmentPurple: 0
- HueAdjustmentRed: 0
- HueAdjustmentYellow: 0
- LuminanceAdjustmentAqua: 0
- LuminanceAdjustmentBlue: 0
- LuminanceAdjustmentGreen: 0
- LuminanceAdjustmentMagenta: 0
- LuminanceAdjustmentOrange: 0
- LuminanceAdjustmentPurple: 0
- LuminanceAdjustmentRed: 0
- LuminanceAdjustmentYellow: 0
- LuminanceSmoothing: 46
- ParametricDarks: 0
- ParametricHighlightSplit: 75
- ParametricHighlights: 0
- ParametricLights: 0
- ParametricMidtoneSplit: 50
- ParametricShadowSplit: 25
- ParametricShadows: 0
- PostCropVignetteAmount: 0
- RedHue: 0
- RedSaturation: 0
- Saturation: +2
- SaturationAdjustmentAqua: 0
- SaturationAdjustmentBlue: 0
- SaturationAdjustmentGreen: 0
- SaturationAdjustmentMagenta: 0
- SaturationAdjustmentOrange: 0
- SaturationAdjustmentPurple: 0
- SaturationAdjustmentRed: 0
- SaturationAdjustmentYellow: 0
- ShadowTint: 0
- Shadows: 5
- SharpenDetail: 25
- SharpenEdgeMasking: 0
- SharpenRadius: +0.5
- Sharpness: 61
- SplitToningBalance: 0
- SplitToningHighlightHue: 0
- SplitToningHighlightSaturation: 0
- SplitToningShadowHue: 0
- SplitToningShadowSaturation: 0
- Temperature: 6050
- Tint: +12
- ToneCurve: 0, 0, 32, 22, 64, 56, 128, 128, 192, 196, 255, 255
- ToneCurveName: Medium Contrast
- Version: 5.4
- Vibrance: +2
- VignetteAmount: 0
- WhiteBalance: As Shot
- XMP-dc
- XMP-exif
- DateTimeDigitized: 2010:01:17 11:25:09.0+2:00
- DateTimeOriginal: 2010:01:17 11:25:09.0+2:00
- ExifImageHeight: 2008
- ExifImageWidth: 3008
- FlashFired: False
- FlashFunction: False
- FlashMode: Off
- FlashRedEyeMode: False
- FlashReturn: No return detection
- FocalLengthIn35mmFormat: 150
- XMP-tiff
- ImageHeight: 2008
- ImageWidth: 3008
- XMP-xmp
- CreateDate: 2010:01:17 11:25:09+02:00
- ModifyDate: 2010:01:17 20:38:25.0+2:00
- Просмотров: 300
- Рейтинг: голосов еще нет
- Отзывов: 0