Уважаемые друзья и участники проекта iXBT.photo! К сожалению, 1 марта 2026 года проект iXBT.photo прекратит свою работу и будет закрыт. Мы высоко ценим ваше участие и тот вклад, который вы внесли в развитие нашего сообщества. Пожалуйста, не забудьте сохранить ваши фотографии до этой даты.
С уважением, команда iXBT.com
| *** |
***
- Раздел: Другое, разное
- Дата съёмки: 05.09.2009 21:57
- Дата загрузки фото: 04.02.2010 21:50
- Оригинальная фотография: 3885 x 2590 (5,6 Мб)
- Технические характеристики:
- Фотоаппарат: Canon EOS 450D
- Выдержка: 4,0
- Гиперфокальное расстояние: 6,53 m
- Диафрагма: 7,1
- Светочувствительность: 800
- Фокусное расстояние: 28,0 mm (35 mm equivalent: 49,7 mm)
- Экспокоррекция: -2/3
- Полный EXIF
- Adobe
- ColorTransform: YCbCr
- Composite
- Aperture: 7,1
- CircleOfConfusion: 0,017 mm
- FOV: 39,0 deg
- FocalLength35efl: 28,0 mm (35 mm equivalent: 49,7 mm)
- HyperfocalDistance: 6,53 m
- LightValue: 0,6
- ScaleFactor35efl: 1,8
- ShutterSpeed: 4,0
- ExifIFD
- ApertureValue: 7,1
- CreateDate: 2009:09:05 21:57:09
- CustomRendered: Normal
- DateTimeOriginal: 2009:09:05 21:57:09
- ExposureCompensation: -2/3
- ExposureMode: Auto
- ExposureProgram: Aperture-priority AE
- ExposureTime: 4,0
- FNumber: 7,1
- Flash: Off
- FocalLength: 28,0 mm
- ISO: 800
- MaxApertureValue: 4,0
- MeteringMode: Multi-segment
- SceneCaptureType: Standard
- ShutterSpeedValue: 4,0
- WhiteBalance: Auto
- ICC-header
- ICC-meas
- ICC-view
- IFD0
- Artist: Ilchenko Vyacheslav aka CARRiER
- Make: Canon
- Model: Canon EOS 450D
- ModifyDate: 2010:02:03 19:21:03
- IPTC
- By-line: Ilchenko Vyacheslav aka CARRiER
- XMP-aux
- Firmware: 1.0.9
- FlashCompensation: 0
- ImageNumber: 0
- Lens: EF-S18-55mm f/3.5-5.6 IS
- LensInfo: 18/1 55/1 0/0 0/0
- OwnerName: Ilchenko Vyacheslav aka CARRiER
- SerialNumber: 1430315917
- XMP-crs
- AlreadyApplied: True
- BlueHue: 0
- BlueSaturation: 0
- Brightness: +50
- CameraProfile: ACR 4.4
- ChromaticAberrationB: 0
- ChromaticAberrationR: 0
- Clarity: 0
- ColorNoiseReduction: 25
- Contrast: +25
- ConvertToGrayscale: False
- CropAngle: -3.9
- CropBottom: 0.907227
- CropHeight: 2590
- CropLeft: 0.02577
- CropRight: 0.97423
- CropTop: 0.092773
- CropUnit: 0
- CropWidth: 3885
- Defringe: 0
- Exposure: 0.00
- FillLight: 0
- GreenHue: 0
- GreenSaturation: 0
- HasCrop: True
- HasSettings: True
- HighlightRecovery: 0
- HueAdjustmentAqua: 0
- HueAdjustmentBlue: 0
- HueAdjustmentGreen: 0
- HueAdjustmentMagenta: 0
- HueAdjustmentOrange: 0
- HueAdjustmentPurple: 0
- HueAdjustmentRed: 0
- HueAdjustmentYellow: 0
- LuminanceAdjustmentAqua: 0
- LuminanceAdjustmentBlue: 0
- LuminanceAdjustmentGreen: +5
- LuminanceAdjustmentMagenta: 0
- LuminanceAdjustmentOrange: 0
- LuminanceAdjustmentPurple: 0
- LuminanceAdjustmentRed: 0
- LuminanceAdjustmentYellow: 0
- LuminanceSmoothing: 0
- ParametricDarks: 0
- ParametricHighlightSplit: 75
- ParametricHighlights: 0
- ParametricLights: 0
- ParametricMidtoneSplit: 50
- ParametricShadowSplit: 25
- ParametricShadows: 0
- PostCropVignetteAmount: 0
- RedHue: 0
- RedSaturation: 0
- Saturation: +31
- SaturationAdjustmentAqua: 0
- SaturationAdjustmentBlue: 0
- SaturationAdjustmentGreen: 0
- SaturationAdjustmentMagenta: 0
- SaturationAdjustmentOrange: 0
- SaturationAdjustmentPurple: 0
- SaturationAdjustmentRed: 0
- SaturationAdjustmentYellow: 0
- ShadowTint: 0
- Shadows: 0
- SharpenDetail: 25
- SharpenEdgeMasking: 0
- SharpenRadius: +1.0
- Sharpness: 25
- SplitToningBalance: 0
- SplitToningHighlightHue: 0
- SplitToningHighlightSaturation: 0
- SplitToningShadowHue: 0
- SplitToningShadowSaturation: 0
- Temperature: 2200
- Tint: 0
- ToneCurve: 0, 0, 32, 22, 64, 56, 128, 128, 192, 196, 255, 255
- ToneCurveName: Medium Contrast
- Version: 4.5
- Vibrance: 0
- VignetteAmount: 0
- WhiteBalance: Custom
- XMP-dc
- Creator: Ilchenko Vyacheslav aka CARRiER
- XMP-exif
- DateTimeDigitized: 2009:09:05 21:57:09.02+04:00
- DateTimeOriginal: 2009:09:05 21:57:09.02+04:00
- ExifImageHeight: 2590
- ExifImageWidth: 3885
- FlashFired: False
- FlashFunction: False
- FlashMode: Off
- FlashRedEyeMode: False
- FlashReturn: No return detection
- XMP-tiff
- ImageHeight: 2590
- ImageWidth: 3885
- XMP-xmp
- CreateDate: 2009:09:05 21:57:09.02+04:00
- ModifyDate: 2010:02:03 19:21:03+03:00
- Просмотров: 219
- Рейтинг: голосов еще нет
- Отзывов: 0
Получить код для блога
| Вставка фотографии в текущем разрешении |
Вставка миниатюры |
HTML (для вставки в блог):
BBCode (для вставки в форум):
Ссылка на фото:
Ссылка на миниатюру:
- Послать ссылку другу
| Комментарии к фотографии |