Уважаемые друзья и участники проекта iXBT.photo! К сожалению, 1 марта 2026 года проект iXBT.photo прекратит свою работу и будет закрыт. Мы высоко ценим ваше участие и тот вклад, который вы внесли в развитие нашего сообщества. Пожалуйста, не забудьте сохранить ваши фотографии до этой даты.
С уважением, команда iXBT.com
| Автопортрет |
Автопортрет
via LiveView =)
- Раздел: Другое, разное
- Дата съёмки: 14.11.2009 01:31
- Дата загрузки фото: 05.02.2010 23:09
- Оригинальная фотография: 1600 x 1067 (1,0 Мб)
- Технические характеристики:
- Фотоаппарат: Canon EOS 450D
- Выдержка: 1/60
- Гиперфокальное расстояние: 61,54 m
- Диафрагма: 5,6
- Светочувствительность: 800
- Фокусное расстояние: 49,0 mm (35 mm equivalent: 211,3 mm)
- Полный EXIF
- Adobe
- ColorTransform: YCbCr
- Composite
- Aperture: 5,6
- CircleOfConfusion: 0,007 mm
- FOV: 9,0 deg
- FocalLength35efl: 49,0 mm (35 mm equivalent: 211,3 mm)
- HyperfocalDistance: 61,54 m
- ScaleFactor35efl: 4,3
- ShutterSpeed: 1/60
- ExifIFD
- ApertureValue: 5,6
- CreateDate: 2009:11:14 01:31:07
- CustomRendered: Normal
- DateTimeOriginal: 2009:11:14 01:31:07
- ExposureCompensation: 0
- ExposureMode: Manual
- ExposureProgram: Manual
- ExposureTime: 1/60
- FNumber: 5,6
- Flash: Off
- FocalLength: 49,0 mm
- ISO: 800
- MaxApertureValue: 5,4
- MeteringMode: Center-weighted average
- SceneCaptureType: Standard
- ShutterSpeedValue: 1/60
- WhiteBalance: Auto
- ICC-header
- ICC-meas
- ICC-view
- IFD0
- Artist: Ilchenko Vyacheslav aka CARRiER
- Make: Canon
- Model: Canon EOS 450D
- ModifyDate: 2010:02:05 23:08:52
- IPTC
- By-line: Ilchenko Vyacheslav aka CARRiER
- XMP-aux
- Firmware: 1.0.9
- FlashCompensation: 0
- ImageNumber: 0
- Lens: EF-S18-55mm f/3.5-5.6 IS
- LensInfo: 18/1 55/1 0/0 0/0
- OwnerName: Ilchenko Vyacheslav aka CARRiER
- SerialNumber: 1430315917
- XMP-crs
- AlreadyApplied: True
- BlueHue: 0
- BlueSaturation: 0
- Brightness: +50
- CameraProfile: ACR 4.4
- ChromaticAberrationB: 0
- ChromaticAberrationR: 0
- Clarity: 0
- ColorNoiseReduction: 100
- Contrast: +25
- ConvertToGrayscale: True
- Defringe: 0
- Exposure: +2.48
- FillLight: 42
- GradientBasedCorrectionsCorrectionActive: true
- GradientBasedCorrectionsCorrectionAmount: 1.000000
- GradientBasedCorrectionsCorrectionMasksFullX: 0.998690
- GradientBasedCorrectionsCorrectionMasksFullY: 0.319771
- GradientBasedCorrectionsCorrectionMasksMaskValue: 1.000000
- GradientBasedCorrectionsCorrectionMasksWhat: Mask/Gradient
- GradientBasedCorrectionsCorrectionMasksZeroX: 0.830806
- GradientBasedCorrectionsCorrectionMasksZeroY: 0.324356
- GradientBasedCorrectionsLocalBrightness: -0.975000
- GradientBasedCorrectionsLocalClarity: 0.000000
- GradientBasedCorrectionsLocalContrast: -0.925000
- GradientBasedCorrectionsLocalExposure: -1.000000
- GradientBasedCorrectionsLocalSaturation: 0.275000
- GradientBasedCorrectionsLocalSharpness: 0.000000
- GradientBasedCorrectionsLocalToningHue: 229.000000
- GradientBasedCorrectionsLocalToningSaturation: 0.000000
- GradientBasedCorrectionsWhat: Correction
- GrayMixerAqua: -23
- GrayMixerBlue: -2
- GrayMixerGreen: -18
- GrayMixerMagenta: +12
- GrayMixerOrange: -2
- GrayMixerPurple: +11
- GrayMixerRed: +8
- GrayMixerYellow: -7
- GreenHue: 0
- GreenSaturation: 0
- HasCrop: False
- HasSettings: True
- HighlightRecovery: 0
- LuminanceSmoothing: 17
- ParametricDarks: 0
- ParametricHighlightSplit: 75
- ParametricHighlights: 0
- ParametricLights: 0
- ParametricMidtoneSplit: 50
- ParametricShadowSplit: 25
- ParametricShadows: 0
- PostCropVignetteAmount: 0
- RedHue: 0
- RedSaturation: 0
- ShadowTint: 0
- Shadows: 5
- SharpenDetail: 25
- SharpenEdgeMasking: 0
- SharpenRadius: +1.0
- Sharpness: 25
- SplitToningBalance: +86
- SplitToningHighlightHue: 37
- SplitToningHighlightSaturation: 22
- SplitToningShadowHue: 24
- SplitToningShadowSaturation: 35
- Temperature: 3950
- Tint: +41
- ToneCurve: 0, 0, 32, 22, 64, 56, 128, 128, 192, 196, 255, 255
- ToneCurveName: Medium Contrast
- Version: 4.5
- VignetteAmount: 0
- WhiteBalance: As Shot
- XMP-dc
- Creator: Ilchenko Vyacheslav aka CARRiER
- XMP-exif
- DateTimeDigitized: 2009:11:14 01:31:07.60+03:00
- DateTimeOriginal: 2009:11:14 01:31:07.60+03:00
- ExifImageHeight: 1067
- ExifImageWidth: 1600
- FlashFired: False
- FlashFunction: False
- FlashMode: Off
- FlashRedEyeMode: False
- FlashReturn: No return detection
- XMP-tiff
- ImageHeight: 1067
- ImageWidth: 1600
- XMP-xmp
- CreateDate: 2009:11:14 01:31:07.60+03:00
- ModifyDate: 2010:02:05 23:08:52+03:00
- Просмотров: 203
- Рейтинг: голосов еще нет
- Отзывов: 0
Получить код для блога
| Вставка фотографии в текущем разрешении |
Вставка миниатюры |
HTML (для вставки в блог):
BBCode (для вставки в форум):
Ссылка на фото:
Ссылка на миниатюру:
- Послать ссылку другу
| Комментарии к фотографии |