- Раздел: Другое, разное
- Дата съёмки: 06.02.2010 17:13
- Дата загрузки фото: 07.02.2010 15:15
- Оригинальная фотография: 2000 x 1334 (504 Кб)
- Технические характеристики:
- Фотоаппарат: Canon EOS 40D
- Выдержка: 1/320
- Гиперфокальное расстояние: 3,89 m
- Диафрагма: 4,0
- Светочувствительность: 100
- Фокусное расстояние: 16,0 mm (35 mm equivalent: 29,2 mm)
- Полный EXIF
- Composite
- Aperture: 4,0
- CircleOfConfusion: 0,016 mm
- FOV: 63,0 deg
- FocalLength35efl: 16,0 mm (35 mm equivalent: 29,2 mm)
- HyperfocalDistance: 3,89 m
- ScaleFactor35efl: 1,8
- ShutterSpeed: 1/320
- ExifIFD
- ApertureValue: 4,0
- CreateDate: 2010:02:06 17:13:55
- CustomRendered: Normal
- DateTimeOriginal: 2010:02:06 17:13:55
- ExifImageHeight: 1334
- ExifImageWidth: 2000
- ExposureCompensation: 0
- ExposureMode: Auto
- ExposureProgram: Aperture-priority AE
- ExposureTime: 1/320
- FNumber: 4,0
- Flash: Off
- FocalLength: 16,0 mm
- ISO: 100
- MaxApertureValue: 2,8
- MeteringMode: Multi-segment
- SceneCaptureType: Standard
- ShutterSpeedValue: 1/320
- SubjectDistance: m
- WhiteBalance: Auto
- ICC-header
- ICC-meas
- ICC-view
- IFD0
- Artist: Roman E Demakov
- Make: Canon
- Model: Canon EOS 40D
- ModifyDate: 2010:02:07 16:14:47
- Orientation: Horizontal (normal)
- Software: ACD Systems Digital Imaging
- IFD1
- IPTC
- XMP-aux
- Firmware: 1.1.1
- FlashCompensation: 0
- ImageNumber: 0
- Lens: EF16-35mm f/2.8L II USM
- LensID: 246
- LensInfo: 16/1 35/1 0/0 0/0
- OwnerName: Roman E Demakov
- SerialNumber: 830523091
- XMP-crs
- AlreadyApplied: True
- BlueHue: 0
- BlueSaturation: 0
- Brightness: +50
- CameraProfile: Camera Faithful
- ChromaticAberrationB: 0
- ChromaticAberrationR: 0
- Clarity: 0
- ColorNoiseReduction: 5
- Contrast: 0
- ConvertToGrayscale: True
- CropAngle: 0
- CropBottom: 0.941038
- CropHeight: 2299
- CropLeft: 0.042453
- CropRight: 0.929245
- CropTop: 0.054246
- CropUnit: 0
- CropWidth: 3448
- Defringe: 0
- Exposure: -0.67
- FillLight: 0
- GrayMixerAqua: +51
- GrayMixerBlue: +53
- GrayMixerGreen: -27
- GrayMixerMagenta: +4
- GrayMixerOrange: -18
- GrayMixerPurple: +15
- GrayMixerRed: -9
- GrayMixerYellow: -22
- GreenHue: 0
- GreenSaturation: 0
- HasCrop: True
- HasSettings: True
- HighlightRecovery: 0
- LuminanceSmoothing: 0
- ParametricDarks: +10
- ParametricHighlightSplit: 75
- ParametricHighlights: 0
- ParametricLights: +25
- ParametricMidtoneSplit: 50
- ParametricShadowSplit: 25
- ParametricShadows: +5
- PostCropVignetteAmount: 0
- RedHue: 0
- RedSaturation: 0
- ShadowTint: 0
- Shadows: 5
- SharpenDetail: 25
- SharpenEdgeMasking: 0
- SharpenRadius: +1.0
- Sharpness: 0
- SplitToningBalance: 0
- SplitToningHighlightHue: 237
- SplitToningHighlightSaturation: 15
- SplitToningShadowHue: 246
- SplitToningShadowSaturation: 32
- Temperature: 5450
- Tint: -7
- ToneCurve: 0, 0, 32, 22, 64, 56, 128, 128, 192, 196, 255, 255
- ToneCurveName: Medium Contrast
- Version: 5.6
- VignetteAmount: +100
- VignetteMidpoint: 18
- WhiteBalance: As Shot
- XMP-dc
- XMP-exif
- DateTimeDigitized: 2010:02:06 17:13:55.59+4:00
- DateTimeOriginal: 2010:02:06 17:13:55.59+4:00
- ExifImageHeight: 2299
- ExifImageWidth: 3448
- FlashFired: False
- FlashFunction: False
- FlashMode: Off
- FlashRedEyeMode: False
- FlashReturn: No return detection
- SubjectDistance: 4294967295 m
- XMP-tiff
- ImageHeight: 2299
- ImageWidth: 3448
- XMP-xmp
- CreateDate: 2010:02:06 17:13:55.59+04:00
- ModifyDate: 2010:02:07 16:13:50.0+4:00
- Просмотров: 475
- Рейтинг: голосов еще нет
- Отзывов: 1