Уважаемые друзья и участники проекта iXBT.photo! К сожалению, 1 марта 2026 года проект iXBT.photo прекратит свою работу и будет закрыт. Мы высоко ценим ваше участие и тот вклад, который вы внесли в развитие нашего сообщества. Пожалуйста, не забудьте сохранить ваши фотографии до этой даты.
С уважением, команда iXBT.com
| Божья коровка |
Божья коровка
Весны хочется :(
- Раздел: Тесты фототехники
- Дата съёмки: 08.02.2010 15:26
- Дата загрузки фото: 08.02.2010 21:45
- Оригинальная фотография: 800 x 600 (102 Кб)
- Технические характеристики:
- Фотоаппарат: Canon PowerShot S90
- Выдержка: 1/40
- Гиперфокальное расстояние: 5,59 m
- Диафрагма: 2,0
- Светочувствительность: 100
- Фокусное расстояние: 6,0 mm (35 mm equivalent: 56,0 mm)
- Полный EXIF
- Adobe
- ColorTransform: YCbCr
- Composite
- Aperture: 2,0
- CircleOfConfusion: 0,003 mm
- FOV: 35,0 deg
- FocalLength35efl: 6,0 mm (35 mm equivalent: 56,0 mm)
- HyperfocalDistance: 5,59 m
- ScaleFactor35efl: 9,3
- ShutterSpeed: 1/40
- ExifIFD
- ApertureValue: 2,0
- ColorSpace: Uncalibrated
- CreateDate: 2010:02:08 15:26:49
- CustomRendered: Normal
- DateTimeOriginal: 2010:02:08 15:26:49
- DigitalZoomRatio: 1
- ExifImageHeight: 600
- ExifImageWidth: 800
- ExposureCompensation: 0
- ExposureMode: Manual
- ExposureTime: 1/40
- FNumber: 2,0
- Flash: Off
- FocalLength: 6,0 mm
- ISO: 100
- MaxApertureValue: 2,0
- MeteringMode: Center-weighted average
- SceneCaptureType: Standard
- SensingMethod: One-chip color area
- ShutterSpeedValue: 1/40
- SubjectDistance: 0,09 m
- WhiteBalance: Auto
- IFD0
- Make: Canon
- Model: Canon PowerShot S90
- ModifyDate: 2010:02:08 20:18:17
- Orientation: Horizontal (normal)
- IFD1
- IPTC
- XMP-aux
- Firmware: 1.00
- FlashCompensation: 0
- Lens: 6.0-22.5 mm
- LensID: 65535
- LensInfo: 6000/1000 22500/1000 0/0 0/0
- XMP-crs
- AlreadyApplied: True
- BlueHue: 0
- BlueSaturation: 0
- Brightness: +19
- ChromaticAberrationB: 0
- ChromaticAberrationR: 0
- Clarity: -42
- ColorNoiseReduction: 22
- Contrast: +28
- ConvertToGrayscale: False
- Defringe: 0
- Exposure: +0.75
- FillLight: 0
- GreenHue: 0
- GreenSaturation: 0
- HasCrop: False
- HasSettings: True
- HighlightRecovery: 24
- HueAdjustmentAqua: 0
- HueAdjustmentBlue: 0
- HueAdjustmentGreen: 0
- HueAdjustmentMagenta: 0
- HueAdjustmentOrange: 0
- HueAdjustmentPurple: 0
- HueAdjustmentRed: 0
- HueAdjustmentYellow: 0
- LuminanceAdjustmentAqua: 0
- LuminanceAdjustmentBlue: 0
- LuminanceAdjustmentGreen: 0
- LuminanceAdjustmentMagenta: 0
- LuminanceAdjustmentOrange: 0
- LuminanceAdjustmentPurple: 0
- LuminanceAdjustmentRed: 0
- LuminanceAdjustmentYellow: 0
- LuminanceSmoothing: 4
- ParametricDarks: 0
- ParametricHighlightSplit: 75
- ParametricHighlights: 0
- ParametricLights: 0
- ParametricMidtoneSplit: 50
- ParametricShadowSplit: 25
- ParametricShadows: 0
- PostCropVignetteAmount: 0
- RawFileName: IMG_0805.CR2
- RedHue: 0
- RedSaturation: 0
- Saturation: 0
- SaturationAdjustmentAqua: 0
- SaturationAdjustmentBlue: 0
- SaturationAdjustmentGreen: 0
- SaturationAdjustmentMagenta: 0
- SaturationAdjustmentOrange: 0
- SaturationAdjustmentPurple: 0
- SaturationAdjustmentRed: 0
- SaturationAdjustmentYellow: 0
- ShadowTint: 0
- Shadows: 15
- SharpenDetail: 16
- SharpenEdgeMasking: 100
- SharpenRadius: +1.4
- Sharpness: 150
- SplitToningBalance: 0
- SplitToningHighlightHue: 0
- SplitToningHighlightSaturation: 0
- SplitToningShadowHue: 0
- SplitToningShadowSaturation: 0
- Temperature: 6350
- Tint: +4
- ToneCurve: 0, 0, 137, 155, 255, 255
- ToneCurveName: Custom
- Version: 5.6
- Vibrance: +2
- VignetteAmount: 0
- WhiteBalance: Custom
- XMP-dc
- XMP-exif
- DateTimeDigitized: 2010:02:08 15:26:49+03:00
- DateTimeOriginal: 2010:02:08 15:26:49+03:00
- FlashFired: False
- FlashFunction: False
- FlashMode: Off
- FlashRedEyeMode: False
- FlashReturn: No return detection
- XMP-tiff
- XMP-xmp
- CreateDate: 2010:02:08 15:26:49+03:00
- ModifyDate: 2010:02:08 20:18:17+03:00
- Rating: 0
- XMP-xmpMM
- Просмотров: 336
- Рейтинг: голосов еще нет
- Отзывов: 0
Получить код для блога
| Вставка фотографии в текущем разрешении |
Вставка миниатюры |
HTML (для вставки в блог):
BBCode (для вставки в форум):
Ссылка на фото:
Ссылка на миниатюру:
- Послать ссылку другу
| Комментарии к фотографии |