Скала святого Явления (Георгиевская скала)
Скала святого Явления своё название получила от того, что по преданию в 891 году здесь терпящим бедствие греческим рыбакам явился Святой Георгий Победоносец, на скале была найдена его икона, и в том же году на побережье основан Свято-Георгиевский монастырь. Другие названия скалы — скала Георгия, Георгиевская скала.
В 1891 году на скале был установлен крест из белого мрамора, разрушенный в 1920-е годы. 14 сентября 1991 в Свято-Никольской церкви (на Братском кладбище в Севастополе) был освящён новый семиметровый металлический крест, который при поддержке Черноморского флота Российской Федерации был установлен на скале святого Явления. (Википедия)
- Раздел: Путешествия
- Дата съёмки: 13.08.2004 17:27
- Дата загрузки фото: 10.02.2010 00:11
- Оригинальная фотография: 1400 x 1050 (1,5 Мб)
- Технические характеристики:
- Фотоаппарат: Canon PowerShot A75
- Выдержка: 1/250
- Гиперфокальное расстояние: 11,95 m
- Диафрагма: 4,8
- Фокусное расстояние: 16,2 mm (35 mm equivalent: 106,3 mm)
- Полный EXIF
- Composite
- Aperture: 4,8
- CircleOfConfusion: 0,005 mm
- FOV: 19,0 deg
- FocalLength35efl: 16,2 mm (35 mm equivalent: 106,3 mm)
- HyperfocalDistance: 11,95 m
- ScaleFactor35efl: 6,6
- ShutterSpeed: 1/250
- ExifIFD
- ApertureValue: 4,8
- CreateDate: 2004:08:13 17:27:40
- CustomRendered: Normal
- DateTimeOriginal: 2004:08:13 17:27:40
- DigitalZoomRatio: 1
- ExifImageHeight: 1050
- ExifImageWidth: 1400
- ExposureCompensation: 0
- ExposureMode: Auto
- ExposureTime: 1/250
- FNumber: 4,8
- Flash: Auto, Did not fire
- FocalLength: 16,2 mm
- MaxApertureValue: 4,8
- MeteringMode: Multi-segment
- SceneCaptureType: Standard
- SensingMethod: One-chip color area
- ShutterSpeedValue: 1/250
- WhiteBalance: Auto
- ICC-header
- ICC-meas
- ICC-view
- IFD0
- Make: Canon
- Model: Canon PowerShot A75
- ModifyDate: 2010:02:09 23:51:30
- Orientation: Horizontal (normal)
- Software: ACD Systems Digital Imaging
- IFD1
- XMP-aux
- Firmware: 1.00
- FlashCompensation: 0
- Lens: 5.4-16.2 mm
- LensInfo: 173/32 519/32 0/0 0/0
- XMP-crs
- AlreadyApplied: True
- BlueHue: 0
- BlueSaturation: 0
- Brightness: 0
- CameraProfile: Embedded
- ChromaticAberrationB: 0
- ChromaticAberrationR: 0
- Clarity: +40
- ColorNoiseReduction: 0
- Contrast: 0
- ConvertToGrayscale: False
- Defringe: 0
- Exposure: 0.00
- FillLight: 0
- GreenHue: 0
- GreenSaturation: 0
- HasCrop: False
- HasSettings: True
- HighlightRecovery: 0
- HueAdjustmentAqua: 0
- HueAdjustmentBlue: 0
- HueAdjustmentGreen: 0
- HueAdjustmentMagenta: 0
- HueAdjustmentOrange: 0
- HueAdjustmentPurple: 0
- HueAdjustmentRed: 0
- HueAdjustmentYellow: 0
- IncrementalTemperature: 0
- IncrementalTint: 0
- LuminanceAdjustmentAqua: 0
- LuminanceAdjustmentBlue: 0
- LuminanceAdjustmentGreen: 0
- LuminanceAdjustmentMagenta: 0
- LuminanceAdjustmentOrange: 0
- LuminanceAdjustmentPurple: 0
- LuminanceAdjustmentRed: 0
- LuminanceAdjustmentYellow: 0
- LuminanceSmoothing: 0
- ParametricDarks: 0
- ParametricHighlightSplit: 75
- ParametricHighlights: 0
- ParametricLights: 0
- ParametricMidtoneSplit: 50
- ParametricShadowSplit: 25
- ParametricShadows: 0
- PostCropVignetteAmount: 0
- RedHue: 0
- RedSaturation: 0
- Saturation: 0
- SaturationAdjustmentAqua: 0
- SaturationAdjustmentBlue: 0
- SaturationAdjustmentGreen: 0
- SaturationAdjustmentMagenta: 0
- SaturationAdjustmentOrange: 0
- SaturationAdjustmentPurple: 0
- SaturationAdjustmentRed: 0
- SaturationAdjustmentYellow: 0
- ShadowTint: 0
- Shadows: 0
- SharpenDetail: 25
- SharpenEdgeMasking: 0
- SharpenRadius: +1.0
- Sharpness: 0
- SplitToningBalance: 0
- SplitToningHighlightHue: 0
- SplitToningHighlightSaturation: 0
- SplitToningShadowHue: 0
- SplitToningShadowSaturation: 0
- ToneCurve: 0, 0, 255, 255
- ToneCurveName: Linear
- Version: 5.4
- Vibrance: +5
- VignetteAmount: 0
- WhiteBalance: As Shot
- XMP-exif
- DateTimeDigitized: 2004:08:13 17:27:40+04:00
- DateTimeOriginal: 2004:08:13 17:27:40+04:00
- ExifImageHeight: 1536
- ExifImageWidth: 2048
- FlashFired: False
- FlashFunction: False
- FlashMode: Auto
- FlashRedEyeMode: False
- FlashReturn: No return detection
- XMP-tiff
- ImageHeight: 1536
- ImageWidth: 2048
- XMP-xmp
- CreateDate: 2004:08:13 17:27:40+04:00
- ModifyDate: 2010:02:09 23:34:49+03:00
- Просмотров: 476
- Рейтинг: голосов еще нет
- Отзывов: 0
Получить код для блога
Вставка фотографии в текущем разрешении |
Вставка миниатюры |
HTML (для вставки в блог):
BBCode (для вставки в форум):
Ссылка на фото:
Ссылка на миниатюру:
- Послать ссылку другу
Комментарии к фотографии |