- Раздел: Путешествия
- Дата съёмки: 14.08.2004 18:11
- Дата загрузки фото: 10.02.2010 00:17
- Оригинальная фотография: 1400 x 1050 (1,4 Мб)
- Технические характеристики:
- Фотоаппарат: Canon PowerShot A75
- Выдержка: 1/2000
- Гиперфокальное расстояние: 5,00 m
- Диафрагма: 8,0
- Фокусное расстояние: 13,4 mm (35 mm equivalent: 89,5 mm)
- Полный EXIF
- Composite
- Aperture: 8,0
- CircleOfConfusion: 0,005 mm
- FOV: 22,0 deg
- FocalLength35efl: 13,4 mm (35 mm equivalent: 89,5 mm)
- HyperfocalDistance: 5,00 m
- ScaleFactor35efl: 6,7
- ShutterSpeed: 1/2000
- ExifIFD
- ApertureValue: 8,0
- CreateDate: 2004:08:14 18:11:51
- CustomRendered: Normal
- DateTimeOriginal: 2004:08:14 18:11:51
- DigitalZoomRatio: 1
- ExifImageHeight: 1050
- ExifImageWidth: 1400
- ExposureCompensation: 0
- ExposureMode: Auto
- ExposureTime: 1/2000
- FNumber: 8,0
- Flash: Auto, Did not fire
- FocalLength: 13,4 mm
- MaxApertureValue: 4,5
- MeteringMode: Multi-segment
- SceneCaptureType: Standard
- SensingMethod: One-chip color area
- ShutterSpeedValue: 1/2000
- WhiteBalance: Auto
- ICC-header
- ICC-meas
- ICC-view
- IFD0
- Make: Canon
- Model: Canon PowerShot A75
- ModifyDate: 2010:02:09 23:52:28
- Orientation: Horizontal (normal)
- Software: ACD Systems Digital Imaging
- IFD1
- XMP-aux
- Firmware: 1.00
- FlashCompensation: 0
- Lens: 5.4-16.2 mm
- LensInfo: 173/32 519/32 0/0 0/0
- XMP-crs
- AlreadyApplied: True
- BlueHue: 0
- BlueSaturation: 0
- Brightness: 0
- CameraProfile: Embedded
- ChromaticAberrationB: 0
- ChromaticAberrationR: 0
- Clarity: +20
- ColorNoiseReduction: 0
- Contrast: +6
- ConvertToGrayscale: False
- CropAngle: 0.7
- CropBottom: 1
- CropHeight: 1511
- CropLeft: 0.012523
- CropRight: 0.987477
- CropTop: 0
- CropUnit: 0
- CropWidth: 2015
- Defringe: 0
- Exposure: 0.00
- FillLight: 0
- GreenHue: 0
- GreenSaturation: 0
- HasCrop: True
- HasSettings: True
- HighlightRecovery: 0
- HueAdjustmentAqua: 0
- HueAdjustmentBlue: 0
- HueAdjustmentGreen: 0
- HueAdjustmentMagenta: 0
- HueAdjustmentOrange: 0
- HueAdjustmentPurple: 0
- HueAdjustmentRed: 0
- HueAdjustmentYellow: 0
- IncrementalTemperature: 0
- IncrementalTint: 0
- LuminanceAdjustmentAqua: 0
- LuminanceAdjustmentBlue: 0
- LuminanceAdjustmentGreen: 0
- LuminanceAdjustmentMagenta: 0
- LuminanceAdjustmentOrange: 0
- LuminanceAdjustmentPurple: 0
- LuminanceAdjustmentRed: 0
- LuminanceAdjustmentYellow: 0
- LuminanceSmoothing: 0
- ParametricDarks: 0
- ParametricHighlightSplit: 75
- ParametricHighlights: 0
- ParametricLights: 0
- ParametricMidtoneSplit: 50
- ParametricShadowSplit: 25
- ParametricShadows: 0
- PostCropVignetteAmount: 0
- RedHue: 0
- RedSaturation: 0
- Saturation: 0
- SaturationAdjustmentAqua: 0
- SaturationAdjustmentBlue: 0
- SaturationAdjustmentGreen: 0
- SaturationAdjustmentMagenta: 0
- SaturationAdjustmentOrange: 0
- SaturationAdjustmentPurple: 0
- SaturationAdjustmentRed: 0
- SaturationAdjustmentYellow: 0
- ShadowTint: 0
- Shadows: 4
- SharpenDetail: 25
- SharpenEdgeMasking: 0
- SharpenRadius: +1.0
- Sharpness: 0
- SplitToningBalance: 0
- SplitToningHighlightHue: 0
- SplitToningHighlightSaturation: 0
- SplitToningShadowHue: 0
- SplitToningShadowSaturation: 0
- ToneCurve: 0, 0, 255, 255
- ToneCurveName: Linear
- Version: 5.4
- Vibrance: +20
- VignetteAmount: 0
- WhiteBalance: As Shot
- XMP-exif
- DateTimeDigitized: 2004:08:14 18:11:51+04:00
- DateTimeOriginal: 2004:08:14 18:11:51+04:00
- ExifImageHeight: 1511
- ExifImageWidth: 2015
- FlashFired: False
- FlashFunction: False
- FlashMode: Auto
- FlashRedEyeMode: False
- FlashReturn: No return detection
- XMP-tiff
- ImageHeight: 1511
- ImageWidth: 2015
- XMP-xmp
- CreateDate: 2004:08:14 18:11:51+04:00
- ModifyDate: 2010:02:09 23:35:18+03:00
- Просмотров: 232
- Рейтинг: голосов еще нет
- Отзывов: 0