- Раздел: Путешествия
- Дата съёмки: 06.07.2008 13:09
- Дата загрузки фото: 11.02.2010 00:35
- Оригинальная фотография: 1200 x 900 (1,0 Мб)
- Технические характеристики:
- Фотоаппарат: FujiFilm FinePix S5700 S700
- Выдержка: 1/75
- Гиперфокальное расстояние: 2,31 m
- Диафрагма: 3,5
- Светочувствительность: 64
- Фокусное расстояние: 6,3 mm (35 mm equivalent: 38,6 mm)
- Полный EXIF
- Composite
- Aperture: 3,5
- CircleOfConfusion: 0,005 mm
- FOV: 49,0 deg
- FocalLength35efl: 6,3 mm (35 mm equivalent: 38,6 mm)
- HyperfocalDistance: 2,31 m
- ScaleFactor35efl: 6,1
- ShutterSpeed: 1/75
- ExifIFD
- ApertureValue: 3,5
- BrightnessValue: 5,5
- CreateDate: 2008:07:06 13:09:37
- CustomRendered: Custom
- DateTimeOriginal: 2008:07:06 13:09:37
- ExifImageHeight: 900
- ExifImageWidth: 1200
- ExposureCompensation: 0
- ExposureMode: Auto
- ExposureProgram: Program AE
- ExposureTime: 1/75
- FNumber: 3,5
- Flash: Auto, Did not fire
- FocalLength: 6,3 mm
- ISO: 64
- LightSource: Unknown
- MaxApertureValue: 3,5
- MeteringMode: Multi-segment
- SceneCaptureType: Standard
- SceneType: Directly photographed
- SensingMethod: One-chip color area
- Sharpness: Normal
- ShutterSpeedValue: 1/75
- SubjectDistanceRange: Unknown
- WhiteBalance: Auto
- ICC-header
- ICC-meas
- ICC-view
- IFD0
- Make: FUJIFILM
- Model: FinePix S5700 S700
- ModifyDate: 2010:02:11 00:05:45
- Orientation: Horizontal (normal)
- Software: ACD Systems Digital Imaging
- IFD1
- XMP-crs
- AlreadyApplied: True
- BlueHue: 0
- BlueSaturation: +52
- Brightness: 0
- CameraProfile: Embedded
- ChromaticAberrationB: 0
- ChromaticAberrationR: 0
- Clarity: +18
- ColorNoiseReduction: 0
- Contrast: +6
- ConvertToGrayscale: False
- CropAngle: -0.523
- CropBottom: 0.987975
- CropHeight: 2276
- CropLeft: 0.00263
- CropRight: 0.99737
- CropTop: 0.012025
- CropUnit: 0
- CropWidth: 3035
- Defringe: 2
- Exposure: 0.00
- FillLight: 0
- GreenHue: 0
- GreenSaturation: 0
- HasCrop: True
- HasSettings: True
- HighlightRecovery: 66
- HueAdjustmentAqua: 0
- HueAdjustmentBlue: 0
- HueAdjustmentGreen: 0
- HueAdjustmentMagenta: 0
- HueAdjustmentOrange: 0
- HueAdjustmentPurple: 0
- HueAdjustmentRed: 0
- HueAdjustmentYellow: 0
- IncrementalTemperature: 0
- IncrementalTint: 0
- LuminanceAdjustmentAqua: 0
- LuminanceAdjustmentBlue: 0
- LuminanceAdjustmentGreen: 0
- LuminanceAdjustmentMagenta: 0
- LuminanceAdjustmentOrange: 0
- LuminanceAdjustmentPurple: 0
- LuminanceAdjustmentRed: 0
- LuminanceAdjustmentYellow: 0
- LuminanceSmoothing: 0
- ParametricDarks: 0
- ParametricHighlightSplit: 75
- ParametricHighlights: 0
- ParametricLights: 0
- ParametricMidtoneSplit: 50
- ParametricShadowSplit: 25
- ParametricShadows: 0
- PostCropVignetteAmount: 0
- RedHue: 0
- RedSaturation: 0
- Saturation: 0
- SaturationAdjustmentAqua: 0
- SaturationAdjustmentBlue: 0
- SaturationAdjustmentGreen: 0
- SaturationAdjustmentMagenta: 0
- SaturationAdjustmentOrange: 0
- SaturationAdjustmentPurple: 0
- SaturationAdjustmentRed: 0
- SaturationAdjustmentYellow: 0
- ShadowTint: 0
- Shadows: 3
- SharpenDetail: 25
- SharpenEdgeMasking: 0
- SharpenRadius: +1.0
- Sharpness: 0
- SplitToningBalance: 0
- SplitToningHighlightHue: 0
- SplitToningHighlightSaturation: 0
- SplitToningShadowHue: 0
- SplitToningShadowSaturation: 0
- ToneCurve: 0, 0, 255, 255
- ToneCurveName: Linear
- Version: 5.4
- Vibrance: +20
- VignetteAmount: 0
- WhiteBalance: As Shot
- XMP-exif
- DateTimeDigitized: 2008:07:06 13:09:37+04:00
- DateTimeOriginal: 2008:07:06 13:09:37+04:00
- ExifImageHeight: 2276
- ExifImageWidth: 3035
- FlashFired: False
- FlashFunction: False
- FlashMode: Auto
- FlashRedEyeMode: False
- FlashReturn: No return detection
- XMP-tiff
- ImageHeight: 2276
- ImageWidth: 3035
- XMP-xmp
- CreateDate: 2008:07:06 13:09:37+04:00
- ModifyDate: 2010:02:10 23:59:23+03:00
- Просмотров: 158
- Рейтинг: голосов еще нет
- Отзывов: 0