- Раздел: Путешествия
- Дата съёмки: 23.06.2005 15:38
- Дата загрузки фото: 11.02.2010 00:47
- Оригинальная фотография: 1200 x 900 (669 Кб)
- Технические характеристики:
- Фотоаппарат: Canon PowerShot A75
- Выдержка: 1/1000
- Гиперфокальное расстояние: 4,29 m
- Диафрагма: 3,2
- Фокусное расстояние: 7,8 mm (35 mm equivalent: 52,6 mm)
- Полный EXIF
- Composite
- Aperture: 3,2
- CircleOfConfusion: 0,004 mm
- FOV: 37,0 deg
- FocalLength35efl: 7,8 mm (35 mm equivalent: 52,6 mm)
- HyperfocalDistance: 4,29 m
- ScaleFactor35efl: 6,7
- ShutterSpeed: 1/1000
- ExifIFD
- ApertureValue: 3,2
- CreateDate: 2005:06:23 15:38:19
- CustomRendered: Normal
- DateTimeOriginal: 2005:06:23 15:38:19
- DigitalZoomRatio: 1
- ExifImageHeight: 900
- ExifImageWidth: 1200
- ExposureCompensation: 0
- ExposureMode: Auto
- ExposureTime: 1/1000
- FNumber: 3,2
- Flash: Auto, Did not fire
- FocalLength: 7,8 mm
- MaxApertureValue: 3,2
- MeteringMode: Multi-segment
- SceneCaptureType: Standard
- SensingMethod: One-chip color area
- ShutterSpeedValue: 1/1000
- WhiteBalance: Auto
- ICC-header
- ICC-meas
- ICC-view
- IFD0
- Make: Canon
- Model: Canon PowerShot A75
- ModifyDate: 2010:02:11 00:04:39
- Orientation: Horizontal (normal)
- Software: ACD Systems Digital Imaging
- IFD1
- XMP-aux
- Firmware: 1.00
- FlashCompensation: 0
- Lens: 5.4-16.2 mm
- LensInfo: 173/32 519/32 0/0 0/0
- XMP-crs
- AlreadyApplied: True
- BlueHue: 0
- BlueSaturation: +39
- Brightness: 0
- CameraProfile: Embedded
- ChromaticAberrationB: 0
- ChromaticAberrationR: 0
- Clarity: 0
- ColorNoiseReduction: 0
- Contrast: +3
- ConvertToGrayscale: False
- CropAngle: 0.05
- CropBottom: 0.988755
- CropHeight: 1500
- CropLeft: 0.012132
- CropRight: 0.987868
- CropTop: 0.011245
- CropUnit: 0
- CropWidth: 2000
- Defringe: 0
- Exposure: 0.00
- FillLight: 0
- GreenHue: 0
- GreenSaturation: 0
- HasCrop: True
- HasSettings: True
- HighlightRecovery: 51
- HueAdjustmentAqua: 0
- HueAdjustmentBlue: 0
- HueAdjustmentGreen: 0
- HueAdjustmentMagenta: 0
- HueAdjustmentOrange: 0
- HueAdjustmentPurple: 0
- HueAdjustmentRed: 0
- HueAdjustmentYellow: 0
- IncrementalTemperature: 0
- IncrementalTint: 0
- LuminanceAdjustmentAqua: 0
- LuminanceAdjustmentBlue: 0
- LuminanceAdjustmentGreen: 0
- LuminanceAdjustmentMagenta: 0
- LuminanceAdjustmentOrange: 0
- LuminanceAdjustmentPurple: 0
- LuminanceAdjustmentRed: 0
- LuminanceAdjustmentYellow: 0
- LuminanceSmoothing: 0
- ParametricDarks: 0
- ParametricHighlightSplit: 75
- ParametricHighlights: 0
- ParametricLights: 0
- ParametricMidtoneSplit: 50
- ParametricShadowSplit: 25
- ParametricShadows: 0
- PostCropVignetteAmount: 0
- RedHue: 0
- RedSaturation: 0
- Saturation: 0
- SaturationAdjustmentAqua: 0
- SaturationAdjustmentBlue: 0
- SaturationAdjustmentGreen: 0
- SaturationAdjustmentMagenta: 0
- SaturationAdjustmentOrange: 0
- SaturationAdjustmentPurple: 0
- SaturationAdjustmentRed: 0
- SaturationAdjustmentYellow: 0
- ShadowTint: 0
- Shadows: 2
- SharpenDetail: 25
- SharpenEdgeMasking: 0
- SharpenRadius: +1.0
- Sharpness: 0
- SplitToningBalance: 0
- SplitToningHighlightHue: 0
- SplitToningHighlightSaturation: 0
- SplitToningShadowHue: 0
- SplitToningShadowSaturation: 0
- ToneCurve: 0, 0, 255, 255
- ToneCurveName: Linear
- Version: 5.4
- Vibrance: +48
- VignetteAmount: 0
- WhiteBalance: As Shot
- XMP-exif
- DateTimeDigitized: 2005:06:23 15:38:19+04:00
- DateTimeOriginal: 2005:06:23 15:38:19+04:00
- ExifImageHeight: 1500
- ExifImageWidth: 2000
- FlashFired: False
- FlashFunction: False
- FlashMode: Auto
- FlashRedEyeMode: False
- FlashReturn: No return detection
- XMP-tiff
- ImageHeight: 1500
- ImageWidth: 2000
- XMP-xmp
- CreateDate: 2005:06:23 15:38:19+04:00
- ModifyDate: 2010:02:10 23:59:46+03:00