Уважаемые друзья и участники проекта iXBT.photo! К сожалению, 1 марта 2026 года проект iXBT.photo прекратит свою работу и будет закрыт. Мы высоко ценим ваше участие и тот вклад, который вы внесли в развитие нашего сообщества. Пожалуйста, не забудьте сохранить ваши фотографии до этой даты.
С уважением, команда iXBT.com
| Павлин |
Павлин
местный, скромный, монохромный
- Раздел: Животные
- Дата съёмки: 01.03.2010 14:50
- Дата загрузки фото: 01.03.2010 16:49
- Оригинальная фотография: 1200 x 1600 (344 Кб)
- Технические характеристики:
- Фотоаппарат: Canon PowerShot G10
- Выдержка: 1/320
- Гиперфокальное расстояние: inf m
- Диафрагма: 4,5
- Светочувствительность: 160
- Фокусное расстояние: 30,0 mm (35 mm equivalent: 120,0 mm)
- Экспокоррекция: +2/3
- Полный EXIF
- Adobe
- ColorTransform: YCbCr
- Composite
- Aperture: 4,5
- CircleOfConfusion: 0,006 mm
- FOV: 17,0 deg
- FocalLength35efl: 30,0 mm (35 mm equivalent: 120,0 mm)
- HyperfocalDistance: inf m
- ScaleFactor35efl: 4,7
- ShutterSpeed: 1/320
- ExifIFD
- ApertureValue: 4,5
- ColorSpace: sRGB
- CreateDate: 2010:03:01 14:50:25
- CustomRendered: Normal
- DateTimeOriginal: 2010:03:01 14:50:25
- DigitalZoomRatio: 1
- ExifImageHeight: 1600
- ExifImageWidth: 1200
- ExposureCompensation: +2/3
- ExposureMode: Manual
- ExposureTime: 1/320
- FNumber: 4,5
- Flash: Off, Did not fire
- FocalLength: 30,5 mm
- ISO: 160
- MaxApertureValue: 4,5
- MeteringMode: Multi-segment
- SceneCaptureType: Standard
- SensingMethod: One-chip color area
- ShutterSpeedValue: 1/320
- WhiteBalance: Auto
- ICC-header
- ICC-meas
- ICC-view
- IFD0
- Make: Canon
- Model: Canon PowerShot G10
- ModifyDate: 2010:03:01 16:34:28
- Orientation: Horizontal (normal)
- IFD1
- IPTC
- System
- XMP-aux
- Firmware: 1.00
- FlashCompensation: 0
- Lens: 6.1-30.5 mm
- LensInfo: 6100/1000 30500/1000 0/0 0/0
- XMP-crs
- AlreadyApplied: True
- BlueHue: 0
- BlueSaturation: 0
- Brightness: +25
- CameraProfile: Camera Standard
- ChromaticAberrationB: +37
- ChromaticAberrationR: +38
- Clarity: 0
- ColorNoiseReduction: 0
- Contrast: +55
- ConvertToGrayscale: False
- Defringe: 2
- Exposure: 0.00
- FillLight: 43
- GreenHue: 0
- GreenSaturation: 0
- HasCrop: False
- HasSettings: True
- HighlightRecovery: 21
- HueAdjustmentAqua: 0
- HueAdjustmentBlue: 0
- HueAdjustmentGreen: 0
- HueAdjustmentMagenta: 0
- HueAdjustmentOrange: 0
- HueAdjustmentPurple: 0
- HueAdjustmentRed: 0
- HueAdjustmentYellow: 0
- LuminanceAdjustmentAqua: 0
- LuminanceAdjustmentBlue: 0
- LuminanceAdjustmentGreen: 0
- LuminanceAdjustmentMagenta: 0
- LuminanceAdjustmentOrange: 0
- LuminanceAdjustmentPurple: 0
- LuminanceAdjustmentRed: 0
- LuminanceAdjustmentYellow: 0
- LuminanceSmoothing: 0
- ParametricDarks: 0
- ParametricHighlightSplit: 75
- ParametricHighlights: 0
- ParametricLights: 0
- ParametricMidtoneSplit: 50
- ParametricShadowSplit: 25
- ParametricShadows: 0
- PostCropVignetteAmount: 0
- RawFileName: IMG_3428.CR2
- RedHue: 0
- RedSaturation: 0
- Saturation: +20
- SaturationAdjustmentAqua: 0
- SaturationAdjustmentBlue: 0
- SaturationAdjustmentGreen: 0
- SaturationAdjustmentMagenta: 0
- SaturationAdjustmentOrange: 0
- SaturationAdjustmentPurple: 0
- SaturationAdjustmentRed: 0
- SaturationAdjustmentYellow: 0
- ShadowTint: 0
- Shadows: 6
- SharpenDetail: 25
- SharpenEdgeMasking: 0
- SharpenRadius: +1.0
- Sharpness: 0
- SplitToningBalance: 0
- SplitToningHighlightHue: 0
- SplitToningHighlightSaturation: 0
- SplitToningShadowHue: 0
- SplitToningShadowSaturation: 0
- Temperature: 4950
- Tint: -1
- ToneCurve: 0, 0, 32, 22, 64, 56, 128, 128, 192, 196, 255, 255
- ToneCurveName: Medium Contrast
- Version: 5.4
- Vibrance: 0
- VignetteAmount: 0
- WhiteBalance: As Shot
- XMP-dc
- XMP-exif
- DateTimeDigitized: 2010:03:01 14:50:25+03:00
- DateTimeOriginal: 2010:03:01 14:50:25+03:00
- FlashFired: False
- FlashFunction: False
- FlashMode: Off
- FlashRedEyeMode: False
- FlashReturn: No return detection
- XMP-tiff
- XMP-xmp
- CreateDate: 2010:03:01 14:50:25+03:00
- ModifyDate: 2010:03:01 16:34:28+03:00
- Rating: 0
- XMP-xmpMM
Получить код для блога
| Вставка фотографии в текущем разрешении |
Вставка миниатюры |
HTML (для вставки в блог):
BBCode (для вставки в форум):
Ссылка на фото:
Ссылка на миниатюру:
- Послать ссылку другу
| Комментарии к фотографии |