- Раздел: Другое, разное
- Дата съёмки: 04.02.2007 15:45
- Дата загрузки фото: 04.02.2007 16:52
- Оригинальная фотография: 700 x 1050 (174 Кб)
- Технические характеристики:
- Фотоаппарат: Canon EOS 5D
- Выдержка: 1/15
- Гиперфокальное расстояние: 216,90 m
- Диафрагма: 1,6
- Светочувствительность: 320
- Фокусное расстояние: 50,0mm (35mm эквивалент: 208,5mm)
- Экспокоррекция: -2/3
- Полный EXIF
- ColorTransform: YCbCr
- Composite
- Aperture: 1,6
- CircleOfConfusion: 0,007 mm
- EV: 3,6
- FocalLength35efl: 50,0mm (35mm equivalent: 208,5mm)
- HyperfocalDistance: 216,90 m
- ScaleFactor35efl: 4,2
- ShutterSpeed: 1/15
- ExifIFD
- ApertureValue: 1,6
- ColorSpace: sRGB
- CreateDate: 2007:02:03 21:26:38
- CustomRendered: Normal
- DateTimeOriginal: 2007:02:03 21:26:38
- ExifImageLength: 1050
- ExifImageWidth: 700
- ExposureCompensation: -2/3
- ExposureMode: Auto
- ExposureProgram: Aperture-priority AE
- ExposureTime: 1/15
- FNumber: 1,6
- Flash: Off
- FocalLength: 50,0mm
- ISO: 320
- MaxApertureValue: 1,4
- MeteringMode: Unknown (0)
- SceneCaptureType: Standard
- ShutterSpeedValue: 1/15
- WhiteBalance: Auto
- ICC-header
- ICC-meas
- ICC-view
- IFD0
- Artist: badnight
- Make: Canon
- Model: Canon EOS 5D
- ModifyDate: 2007:02:04 15:45:57
- Orientation: Horizontal (normal)
- IFD1
- IPTC
- By-line: badnight
- XMP-aux
- Firmware: 1.0.5
- FlashCompensation: 0
- ImageNumber: 8
- Lens: EF50mm f/1.4 USM
- LensInfo: 50
- OwnerName: badnight
- SerialNumber: 1130701913
- XMP-crs
- AlreadyApplied: True
- AutoGrayscaleWeights: True
- BlueHue: 0
- BlueSaturation: 0
- Brightness: +42
- CameraProfile: ACR 3.3
- ChromaticAberrationB: 0
- ChromaticAberrationR: 0
- ColorNoiseReduction: 25
- Contrast: +89
- ConvertToGrayscale: False
- CropAngle: 0
- CropBottom: 0.836898
- CropLeft: 0.037433
- CropRight: 0.855615
- CropTop: 0.018717
- Exposure: +0.35
- FillLight: 60
- GreenHue: 0
- GreenSaturation: 0
- HasCrop: True
- HasSettings: True
- HighlightRecovery: 36
- HueAdjustmentAqua: 0
- HueAdjustmentBlue: 0
- HueAdjustmentGreen: 0
- HueAdjustmentMagenta: 0
- HueAdjustmentOrange: 0
- HueAdjustmentPurple: 0
- HueAdjustmentRed: 0
- HueAdjustmentYellow: 0
- LuminanceAdjustmentAqua: 0
- LuminanceAdjustmentBlue: 0
- LuminanceAdjustmentGreen: 0
- LuminanceAdjustmentMagenta: 0
- LuminanceAdjustmentOrange: 0
- LuminanceAdjustmentPurple: 0
- LuminanceAdjustmentRed: 0
- LuminanceAdjustmentYellow: 0
- LuminanceSmoothing: 0
- ParametricDarks: 0
- ParametricHighlightSplit: 75
- ParametricHighlights: 0
- ParametricLights: 0
- ParametricMidtoneSplit: 50
- ParametricShadowSplit: 25
- ParametricShadows: 0
- RawFileName: IMG_9034.CR2
- RedHue: 0
- RedSaturation: -13
- Saturation: +5
- SaturationAdjustmentAqua: 0
- SaturationAdjustmentBlue: 0
- SaturationAdjustmentGreen: 0
- SaturationAdjustmentMagenta: 0
- SaturationAdjustmentOrange: 0
- SaturationAdjustmentPurple: 0
- SaturationAdjustmentRed: 0
- SaturationAdjustmentYellow: 0
- ShadowTint: 0
- Shadows: 0
- Sharpness: 50
- SplitToningBalance: 0
- SplitToningHighlightHue: 0
- SplitToningHighlightSaturation: 0
- SplitToningShadowHue: 0
- SplitToningShadowSaturation: 0
- Temperature: 2450
- Tint: +2
- ToneCurve: 0, 0, 32, 22, 64, 56, 128, 128, 192, 196, 255, 255
- ToneCurveName: Medium Contrast
- Version: 4.0x168
- Vibrance: +19
- VignetteAmount: 0
- WhiteBalance: Custom
- XMP-dc
- Creator: badnight
- Format: image/jpeg
- XMP-exif
- DateTimeDigitized: 2007:02:03 21:26:38+03:00
- DateTimeOriginal: 2007:02:03 21:26:38+03:00
- ExifImageHeight: 1050
- FlashFired: False
- FlashFunction: False
- FlashMode: Off
- FlashRedEyeMode: False
- FlashReturn: No return detection
- XMP-tiff
- XMP-xmp
- CreateDate: 2007:02:04 15:45:57+03:00
- ModifyDate: 2007:02:04 15:45:57+03:00
- Rating: 0
- XMP-xmpMM
- DerivedFrom:
- Просмотров: 294
- Рейтинг: голосов еще нет
- Отзывов: 0