- Раздел: Другое, разное
- Дата съёмки: 28.02.2010 13:51
- Дата загрузки фото: 12.03.2010 16:47
- Оригинальная фотография: 433 x 650 (137 Кб)
- Технические характеристики:
- Фотоаппарат: Canon EOS 450D
- Выдержка: 1/1000
- Гиперфокальное расстояние: inf m
- Диафрагма: 2,8
- Светочувствительность: 100
- Фокусное расстояние: 17,0 mm (35 mm equivalent: 170,0 mm)
- Полный EXIF
- Adobe
- ColorTransform: YCbCr
- Composite
- Aperture: 2,8
- CircleOfConfusion: 0,003 mm
- FOV: 12,0 deg
- FocalLength35efl: 17,0 mm (35 mm equivalent: 170,0 mm)
- HyperfocalDistance: inf m
- ScaleFactor35efl: 10,6
- ShutterSpeed: 1/1000
- ExifIFD
- ApertureValue: 2,8
- ColorSpace: sRGB
- CreateDate: 2010:02:28 13:51:33
- CustomRendered: Normal
- DateTimeOriginal: 2010:02:28 13:51:33
- ExifImageHeight: 650
- ExifImageWidth: 433
- ExposureCompensation: 0
- ExposureMode: Auto
- ExposureProgram: Aperture-priority AE
- ExposureTime: 1/1000
- FNumber: 2,8
- Flash: Off, Did not fire
- FocalLength: 17,0 mm
- ISO: 100
- MaxApertureValue: 2,8
- MeteringMode: Multi-segment
- SceneCaptureType: Standard
- ShutterSpeedValue: 1/1000
- WhiteBalance: Auto
- ICC-header
- ICC-meas
- ICC-view
- IFD0
- Make: Canon
- Model: Canon EOS 450D
- ModifyDate: 2010:03:12 15:41:41
- Orientation: Horizontal (normal)
- IFD1
- IPTC
- System
- XMP-aux
- Firmware: 1.0.9
- FlashCompensation: 0
- ImageNumber: 0
- Lens: 17-50mm
- LensID: 161
- LensInfo: 17/1 50/1 0/0 0/0
- SerialNumber: 980397873
- XMP-crs
- AlreadyApplied: True
- BlueHue: 0
- BlueSaturation: 0
- Brightness: +50
- CameraProfile: ACR 4.4
- ChromaticAberrationB: 0
- ChromaticAberrationR: 0
- Clarity: +49
- ColorNoiseReduction: 16
- ColorNoiseReductionDetail: 50
- Contrast: +25
- ConvertToGrayscale: False
- CropAngle: 0
- CropBottom: 0.808163
- CropHeight: 2302
- CropLeft: 0.191837
- CropRight: 1
- CropTop: 0
- CropUnit: pixels
- CropWidth: 3452
- Defringe: 0
- Exposure: +0.17
- FillLight: 3
- GrainAmount: 0
- GreenHue: 0
- GreenSaturation: 0
- HasCrop: True
- HasSettings: True
- HighlightRecovery: 0
- HueAdjustmentAqua: 0
- HueAdjustmentBlue: 0
- HueAdjustmentGreen: 0
- HueAdjustmentMagenta: 0
- HueAdjustmentOrange: 0
- HueAdjustmentPurple: 0
- HueAdjustmentRed: 0
- HueAdjustmentYellow: 0
- LuminanceAdjustmentAqua: -77
- LuminanceAdjustmentBlue: -100
- LuminanceAdjustmentGreen: +38
- LuminanceAdjustmentMagenta: 0
- LuminanceAdjustmentOrange: +32
- LuminanceAdjustmentPurple: -62
- LuminanceAdjustmentRed: +89
- LuminanceAdjustmentYellow: -17
- NoiseReductionContrast: 0
- ParametricDarks: 0
- ParametricHighlightSplit: 75
- ParametricHighlights: 0
- ParametricLights: +100
- ParametricMidtoneSplit: 50
- ParametricShadowSplit: 25
- ParametricShadows: 0
- PostCropVignetteAmount: 0
- RedHue: 0
- RedSaturation: 0
- RenderVersion: 5.7
- Saturation: 0
- SaturationAdjustmentAqua: -100
- SaturationAdjustmentBlue: -100
- SaturationAdjustmentGreen: -100
- SaturationAdjustmentMagenta: -100
- SaturationAdjustmentOrange: -100
- SaturationAdjustmentPurple: -100
- SaturationAdjustmentRed: -100
- SaturationAdjustmentYellow: -100
- ShadowTint: 0
- Shadows: 5
- SharpenDetail: 23
- SharpenEdgeMasking: 12
- SharpenRadius: +0.7
- Sharpness: 89
- SplitToningBalance: 0
- SplitToningHighlightHue: 0
- SplitToningHighlightSaturation: 2
- SplitToningShadowHue: 0
- SplitToningShadowSaturation: 0
- Temperature: 5500
- Tint: 0
- ToneCurve: 0, 0, 32, 22, 64, 56, 128, 128, 192, 196, 255, 255
- ToneCurveName: Medium Contrast
- Version: 6.0
- Vibrance: 0
- VignetteAmount: 0
- WhiteBalance: As Shot
- XMP-dc
- XMP-exif
- DateTimeDigitized: 2010:02:28 13:51:33.03+03:00
- DateTimeOriginal: 2010:02:28 13:51:33.03+03:00
- FlashFired: False
- FlashFunction: False
- FlashMode: Off
- FlashRedEyeMode: False
- FlashReturn: No return detection
- XMP-tiff
- ImageHeight: 3452
- ImageWidth: 2302
- XMP-xmp
- CreateDate: 2010:03:12 15:41:41+03:00
- ModifyDate: 2010:03:12 15:41:41+03:00
- XMP-xmpMM
- Просмотров: 130
- Рейтинг: голосов еще нет
- Отзывов: отключены