- Раздел: Другое, разное
- Дата съёмки: 28.03.2010 14:19
- Дата загрузки фото: 03.04.2010 01:47
- Оригинальная фотография: 800 x 1200 (575 Кб)
- Технические характеристики:
- Фотоаппарат: Canon EOS 450D
- Выдержка: 1/125
- Гиперфокальное расстояние: inf m
- Диафрагма: 8,0
- Светочувствительность: 100
- Фокусное расстояние: 17,0 mm (35 mm equivalent: 85,0 mm)
- Полный EXIF
- Adobe
- ColorTransform: YCbCr
- Composite
- Aperture: 8,0
- CircleOfConfusion: 0,005 mm
- FOV: 23,0 deg
- FocalLength35efl: 17,0 mm (35 mm equivalent: 85,0 mm)
- HyperfocalDistance: inf m
- ScaleFactor35efl: 5,8
- ShutterSpeed: 1/125
- ExifIFD
- ApertureValue: 8,0
- ColorSpace: sRGB
- CreateDate: 2010:03:28 14:19:09
- CustomRendered: Normal
- DateTimeOriginal: 2010:03:28 14:19:09
- ExifImageHeight: 1200
- ExifImageWidth: 800
- ExposureCompensation: 0
- ExposureMode: Auto
- ExposureProgram: Aperture-priority AE
- ExposureTime: 1/125
- FNumber: 8,0
- Flash: Off, Did not fire
- FocalLength: 17,0 mm
- ISO: 100
- MaxApertureValue: 2,8
- MeteringMode: Multi-segment
- SceneCaptureType: Standard
- ShutterSpeedValue: 1/125
- WhiteBalance: Auto
- ICC-header
- ICC-meas
- ICC-view
- IFD0
- Artist: http://hiv-iv.livejournal.com
- Copyright: Ivan (HiV) Tsyrkunovich
- Make: Canon
- Model: Canon EOS 450D
- ModifyDate: 2010:04:02 18:47:31
- Orientation: Horizontal (normal)
- IFD1
- IPTC
- By-line: http://hiv-iv.livejournal.com
- CopyrightNotice: Ivan (HiV) Tsyrkunovich
- System
- XMP-aux
- Firmware: 1.0.9
- FlashCompensation: 0
- ImageNumber: 0
- Lens: 17-50mm
- LensID: 161
- LensInfo: 17/1 50/1 0/0 0/0
- OwnerName: Ivan HiV Tsyrkunovich
- SerialNumber: 980397874
- XMP-crs
- AlreadyApplied: True
- BlueHue: 0
- BlueSaturation: 0
- Brightness: +50
- ChromaticAberrationB: 0
- ChromaticAberrationR: 0
- Clarity: +40
- ColorNoiseReduction: 34
- ColorNoiseReductionDetail: 50
- Contrast: +25
- ConvertToGrayscale: False
- Defringe: 0
- Exposure: +0.32
- FillLight: 22
- GrainAmount: 0
- GreenHue: 0
- GreenSaturation: 0
- HasCrop: False
- HasSettings: True
- HighlightRecovery: 24
- HueAdjustmentAqua: 0
- HueAdjustmentBlue: 0
- HueAdjustmentGreen: 0
- HueAdjustmentMagenta: 0
- HueAdjustmentOrange: 0
- HueAdjustmentPurple: 0
- HueAdjustmentRed: 0
- HueAdjustmentYellow: 0
- LuminanceAdjustmentAqua: 0
- LuminanceAdjustmentBlue: -70
- LuminanceAdjustmentGreen: 0
- LuminanceAdjustmentMagenta: 0
- LuminanceAdjustmentOrange: 0
- LuminanceAdjustmentPurple: 0
- LuminanceAdjustmentRed: 0
- LuminanceAdjustmentYellow: 0
- LuminanceNoiseReductionContrast: 0
- LuminanceNoiseReductionDetail: 50
- LuminanceSmoothing: 30
- ParametricDarks: +9
- ParametricHighlightSplit: 75
- ParametricHighlights: -15
- ParametricLights: -6
- ParametricMidtoneSplit: 50
- ParametricShadowSplit: 25
- ParametricShadows: -47
- PostCropVignetteAmount: 0
- ProcessVersion: 5.7
- RedHue: 0
- RedSaturation: 0
- Saturation: -1
- SaturationAdjustmentAqua: 0
- SaturationAdjustmentBlue: +10
- SaturationAdjustmentGreen: 0
- SaturationAdjustmentMagenta: 0
- SaturationAdjustmentOrange: 0
- SaturationAdjustmentPurple: 0
- SaturationAdjustmentRed: 0
- SaturationAdjustmentYellow: 0
- ShadowTint: 0
- Shadows: 32
- SharpenDetail: 25
- SharpenEdgeMasking: 28
- SharpenRadius: +1.0
- Sharpness: 78
- SplitToningBalance: 0
- SplitToningHighlightHue: 0
- SplitToningHighlightSaturation: 0
- SplitToningShadowHue: 0
- SplitToningShadowSaturation: 0
- Temperature: 5400
- Tint: -1
- ToneCurve: 0, 0, 32, 22, 64, 56, 128, 128, 192, 196, 255, 255
- ToneCurveName: Medium Contrast
- Version: 6.0
- Vibrance: +31
- VignetteAmount: 0
- WhiteBalance: As Shot
- XMP-dc
- Creator: http://hiv-iv.livejournal.com
- Format: image/jpeg
- Rights: Ivan (HiV) Tsyrkunovich
- XMP-exif
- DateTimeDigitized: 2010:03:28 14:19:09.03+03:00
- DateTimeOriginal: 2010:03:28 14:19:09.03+03:00
- FlashFired: False
- FlashFunction: False
- FlashMode: Off
- FlashRedEyeMode: False
- FlashReturn: No return detection
- XMP-tiff
- ImageHeight: 4272
- ImageWidth: 2848
- XMP-xmp
- CreateDate: 2010:03:28 14:19:09.03+03:00
- ModifyDate: 2010:04:02 18:47:31+03:00
- XMP-xmpMM
- Просмотров: 227
- Рейтинг: голосов еще нет
- Отзывов: отключены