- Раздел: Путешествия
- Дата съёмки: 27.03.2010 09:47
- Дата загрузки фото: 10.04.2010 14:57
- Оригинальная фотография: 683 x 1024 (835 Кб)
- Технические характеристики:
- Фотоаппарат: Sony DSLR-A850
- Выдержка: 1/320
- Гиперфокальное расстояние: inf m
- Диафрагма: 4,0
- Светочувствительность: 200
- Фокусное расстояние: 28,0 mm (35 mm equivalent: 28,0 mm)
- Полный EXIF
- Adobe
- ColorTransform: YCbCr
- Composite
- Aperture: 4,0
- CircleOfConfusion: 0,030 mm
- FOV: 65,0 deg
- FocalLength35efl: 28,0 mm (35 mm equivalent: 28,0 mm)
- HyperfocalDistance: inf m
- ScaleFactor35efl: 1,0
- ShutterSpeed: 1/320
- ExifIFD
- ApertureValue: 4,0
- BrightnessValue: 6,25
- Contrast: Normal
- CreateDate: 2010:03:27 09:47:14
- CustomRendered: Normal
- DateTimeOriginal: 2010:03:27 09:47:14
- ExposureCompensation: 0
- ExposureMode: Auto
- ExposureProgram: Aperture-priority AE
- ExposureTime: 1/320
- FNumber: 4,0
- Flash: Off, Did not fire
- FocalLength: 28,0 mm
- FocalLengthIn35mmFormat: 28 mm
- ISO: 200
- LightSource: Unknown
- MaxApertureValue: 2,8
- MeteringMode: Multi-segment
- Saturation: Normal
- SceneCaptureType: Standard
- SceneType: Directly photographed
- Sharpness: Normal
- ShutterSpeedValue: 1/320
- WhiteBalance: Manual
- ICC-header
- ICC-meas
- ICC-view
- IFD0
- ImageDescription: Blood compact monument, Bohol, Philippines. On 16 March 1565 (or 25 March, records are confused due to the Gregorian calendar reform in 1584), Legazpi and Sikatuna performed the now famous blood compact, probably not far from the modern town of Loay. This event is still celebrated in Bohol every year in June with the Sandugo ("One Blood") festival
- Make: SONY
- Model: DSLR-A850
- ModifyDate: 2010:04:10 09:41:56
- Software: DSLR-A850 v1.00
- IFD1
- IPTC
- Caption-Abstract: Blood compact monument, Bohol, Philippines. On 16 March 1565 (or 25 March, records are confused due to the Gregorian calendar reform in 1584), Legazpi and Sikatuna performed the now famous blood compact, probably not far from the modern town of Loay. This event is still celebrated in Bohol every year in June with the Sandugo ("One Blood") festival
- Keywords: Blood, architecture, asia, bohol, cebu, colonial, compact, conquistador, destinations, famous, filipino, landmark, memorial, monument, old, philippines, places, spain, spanish, statue, tourism
- ObjectName: Blood compact monument, Bohol, Philippines. On 16 March 1565 (or
- System
- XMP-aux
- Lens: 24-105mm F3.5-4.5
- LensID: 24
- LensInfo: 24/1 105/1 35/10 45/10
- XMP-crs
- AlreadyApplied: True
- BlueHue: 0
- BlueSaturation: 0
- Brightness: +50
- ChromaticAberrationB: 0
- ChromaticAberrationR: 0
- Clarity: 0
- ColorNoiseReduction: 0
- Contrast: +25
- ConvertToGrayscale: False
- Defringe: 2
- Exposure: 0.00
- FillLight: 0
- GreenHue: 0
- GreenSaturation: 0
- HasCrop: False
- HasSettings: True
- HighlightRecovery: 33
- HueAdjustmentAqua: 0
- HueAdjustmentBlue: 0
- HueAdjustmentGreen: 0
- HueAdjustmentMagenta: 0
- HueAdjustmentOrange: 0
- HueAdjustmentPurple: 0
- HueAdjustmentRed: 0
- HueAdjustmentYellow: 0
- LuminanceAdjustmentAqua: 0
- LuminanceAdjustmentBlue: 0
- LuminanceAdjustmentGreen: 0
- LuminanceAdjustmentMagenta: 0
- LuminanceAdjustmentOrange: 0
- LuminanceAdjustmentPurple: 0
- LuminanceAdjustmentRed: 0
- LuminanceAdjustmentYellow: 0
- LuminanceSmoothing: 0
- ParametricDarks: 0
- ParametricHighlightSplit: 75
- ParametricHighlights: 0
- ParametricLights: 0
- ParametricMidtoneSplit: 50
- ParametricShadowSplit: 25
- ParametricShadows: 0
- PostCropVignetteAmount: 0
- RedHue: 0
- RedSaturation: 0
- Saturation: 0
- SaturationAdjustmentAqua: 0
- SaturationAdjustmentBlue: 0
- SaturationAdjustmentGreen: 0
- SaturationAdjustmentMagenta: 0
- SaturationAdjustmentOrange: 0
- SaturationAdjustmentPurple: 0
- SaturationAdjustmentRed: 0
- SaturationAdjustmentYellow: 0
- ShadowTint: 0
- Shadows: 3
- SharpenDetail: 0
- SharpenEdgeMasking: 0
- SharpenRadius: +1.0
- Sharpness: 0
- SplitToningBalance: 0
- SplitToningHighlightHue: 0
- SplitToningHighlightSaturation: 0
- SplitToningShadowHue: 0
- SplitToningShadowSaturation: 0
- Temperature: 5200
- Tint: +13
- ToneCurve: 0, 0, 32, 22, 64, 56, 128, 128, 192, 196, 255, 255
- ToneCurveName: Medium Contrast
- Version: 5.6
- Vibrance: 0
- VignetteAmount: 0
- WhiteBalance: As Shot
- XMP-dc
- Description: Blood compact monument, Bohol, Philippines. On 16 March 1565 (or 25 March, records are confused due to the Gregorian calendar reform in 1584), Legazpi and Sikatuna performed the now famous blood compact, probably not far from the modern town of Loay. This event is still celebrated in Bohol every year in June with the Sandugo ("One Blood") festival
- Subject: Blood, architecture, asia, bohol, cebu, colonial, compact, conquistador, destinations, famous, filipino, landmark, memorial, monument, old, philippines, places, spain, spanish, statue, tourism
- Title: Blood compact monument, Bohol, Philippines. On 16 March 1565 (or 25 March, records are confused due to the Gregorian calendar reform in 1584), Legazpi and Sikatuna performed the now famous blood compact, probably not far from the modern town of Loay. This event is still celebrated in Bohol every year in June with the Sandugo ("One Blood") festival
- XMP-exif
- DateTimeDigitized: 2010:03:27 09:47:14+03:00
- DateTimeOriginal: 2010:03:27 09:47:14+03:00
- ExifImageHeight: 1024
- ExifImageWidth: 683
- FlashFired: False
- FlashFunction: False
- FlashMode: Off
- FlashRedEyeMode: False
- FlashReturn: No return detection
- XMP-tiff
- ImageHeight: 1024
- ImageWidth: 683
- XMP-xmp
- CreateDate: 2010:03:27 09:47:14+03:00
- ModifyDate: 2010:04:10 09:41:56+03:00
- Просмотров: 204
- Рейтинг: голосов еще нет
- Отзывов: 0