- Раздел: Путешествия
- Дата съёмки: 27.03.2010 13:24
- Дата загрузки фото: 10.04.2010 15:08
- Оригинальная фотография: 712 x 1024 (1,1 Мб)
- Технические характеристики:
- Фотоаппарат: Sony DSLR-A850
- Выдержка: 1/80
- Гиперфокальное расстояние: inf m
- Диафрагма: 2,5
- Светочувствительность: 200
- Фокусное расстояние: 50,0 mm (35 mm equivalent: 50,0 mm)
- Полный EXIF
- Adobe
- ColorTransform: YCbCr
- Composite
- Aperture: 2,5
- CircleOfConfusion: 0,030 mm
- FOV: 39,0 deg
- FocalLength35efl: 50,0 mm (35 mm equivalent: 50,0 mm)
- HyperfocalDistance: inf m
- ScaleFactor35efl: 1,0
- ShutterSpeed: 1/80
- ExifIFD
- ApertureValue: 2,5
- BrightnessValue: 3
- Contrast: Normal
- CreateDate: 2010:03:27 13:24:47
- CustomRendered: Normal
- DateTimeOriginal: 2010:03:27 13:24:47
- ExposureCompensation: 0
- ExposureMode: Auto
- ExposureProgram: Aperture-priority AE
- ExposureTime: 1/80
- FNumber: 2,5
- Flash: Off, Did not fire
- FocalLength: 50,0 mm
- FocalLengthIn35mmFormat: 50 mm
- ISO: 200
- LightSource: Unknown
- MaxApertureValue: 1,4
- MeteringMode: Multi-segment
- Saturation: Normal
- SceneCaptureType: Standard
- SceneType: Directly photographed
- Sharpness: Normal
- ShutterSpeedValue: 1/80
- WhiteBalance: Manual
- ICC-header
- ICC-meas
- ICC-view
- IFD0
- ImageDescription: SONY DSC
- Make: SONY
- Model: DSLR-A850
- ModifyDate: 2010:04:10 09:43:34
- Software: DSLR-A850 v1.00
- IFD1
- IPTC
- Caption-Abstract: SONY DSC
- System
- XMP-aux
- Lens: 50mm F1.4
- LensID: 44
- LensInfo: 50/1 50/1 14/10 14/10
- XMP-crs
- AlreadyApplied: True
- BlueHue: 0
- BlueSaturation: 0
- Brightness: +50
- ChromaticAberrationB: 0
- ChromaticAberrationR: 0
- Clarity: 0
- ColorNoiseReduction: 25
- Contrast: +25
- ConvertToGrayscale: False
- CropAngle: 0
- CropBottom: 1
- CropHeight: 712
- CropLeft: 0.052711
- CropRight: 0.968374
- CropTop: 0.045147
- CropUnit: pixels
- CropWidth: 1024
- Defringe: 0
- Exposure: 0.00
- FillLight: 0
- GreenHue: 0
- GreenSaturation: 0
- HasCrop: True
- HasSettings: True
- HighlightRecovery: 100
- HueAdjustmentAqua: 0
- HueAdjustmentBlue: 0
- HueAdjustmentGreen: 0
- HueAdjustmentMagenta: 0
- HueAdjustmentOrange: 0
- HueAdjustmentPurple: 0
- HueAdjustmentRed: 0
- HueAdjustmentYellow: 0
- LuminanceAdjustmentAqua: 0
- LuminanceAdjustmentBlue: 0
- LuminanceAdjustmentGreen: 0
- LuminanceAdjustmentMagenta: 0
- LuminanceAdjustmentOrange: 0
- LuminanceAdjustmentPurple: 0
- LuminanceAdjustmentRed: 0
- LuminanceAdjustmentYellow: 0
- LuminanceSmoothing: 0
- ParametricDarks: 0
- ParametricHighlightSplit: 75
- ParametricHighlights: 0
- ParametricLights: 0
- ParametricMidtoneSplit: 50
- ParametricShadowSplit: 25
- ParametricShadows: 0
- PostCropVignetteAmount: 0
- RedHue: 0
- RedSaturation: 0
- Saturation: 0
- SaturationAdjustmentAqua: 0
- SaturationAdjustmentBlue: 0
- SaturationAdjustmentGreen: 0
- SaturationAdjustmentMagenta: 0
- SaturationAdjustmentOrange: 0
- SaturationAdjustmentPurple: 0
- SaturationAdjustmentRed: 0
- SaturationAdjustmentYellow: 0
- ShadowTint: 0
- Shadows: 5
- SharpenDetail: 25
- SharpenEdgeMasking: 0
- SharpenRadius: +1.0
- Sharpness: 25
- SplitToningBalance: 0
- SplitToningHighlightHue: 0
- SplitToningHighlightSaturation: 0
- SplitToningShadowHue: 0
- SplitToningShadowSaturation: 0
- Temperature: 5200
- Tint: +13
- ToneCurve: 0, 0, 32, 22, 64, 56, 128, 128, 192, 196, 255, 255
- ToneCurveName: Medium Contrast
- Version: 5.6
- Vibrance: 0
- VignetteAmount: 0
- WhiteBalance: As Shot
- XMP-dc
- XMP-exif
- DateTimeDigitized: 2010:03:27 13:24:47+03:00
- DateTimeOriginal: 2010:03:27 13:24:47+03:00
- ExifImageHeight: 1024
- ExifImageWidth: 712
- FlashFired: False
- FlashFunction: False
- FlashMode: Off
- FlashRedEyeMode: False
- FlashReturn: No return detection
- XMP-tiff
- ImageHeight: 1024
- ImageWidth: 712
- XMP-xmp
- CreateDate: 2010:03:27 13:24:47+03:00
- ModifyDate: 2010:04:10 09:43:34+03:00
- Просмотров: 227
- Рейтинг: голосов еще нет
- Отзывов: 0