- Раздел: Путешествия
- Дата съёмки: 30.03.2010 11:17
- Дата загрузки фото: 10.04.2010 15:10
- Оригинальная фотография: 1024 x 704 (595 Кб)
- Технические характеристики:
- Фотоаппарат: Sony DSLR-A850
- Выдержка: 1/200
- Гиперфокальное расстояние: inf m
- Диафрагма: 6,3
- Светочувствительность: 200
- Фокусное расстояние: 200,0 mm (35 mm equivalent: 200,0 mm)
- Полный EXIF
- Adobe
- ColorTransform: YCbCr
- Composite
- Aperture: 6,3
- CircleOfConfusion: 0,030 mm
- FOV: 10,0 deg
- FocalLength35efl: 200,0 mm (35 mm equivalent: 200,0 mm)
- HyperfocalDistance: inf m
- ScaleFactor35efl: 1,0
- ShutterSpeed: 1/200
- ExifIFD
- ApertureValue: 6,3
- BrightnessValue: 7,12
- Contrast: Normal
- CreateDate: 2010:03:30 11:17:40
- CustomRendered: Normal
- DateTimeOriginal: 2010:03:30 11:17:40
- ExposureCompensation: 0
- ExposureMode: Auto
- ExposureProgram: Aperture-priority AE
- ExposureTime: 1/200
- FNumber: 6,3
- Flash: Off, Did not fire
- FocalLength: 200,0 mm
- FocalLengthIn35mmFormat: 200 mm
- ISO: 200
- LightSource: Unknown
- MaxApertureValue: 2,8
- MeteringMode: Multi-segment
- Saturation: Normal
- SceneCaptureType: Standard
- SceneType: Directly photographed
- Sharpness: Normal
- ShutterSpeedValue: 1/200
- WhiteBalance: Manual
- ICC-header
- ICC-meas
- ICC-view
- IFD0
- ImageDescription: traditional outrigger or banka, the philippines
- Make: SONY
- Model: DSLR-A850
- ModifyDate: 2010:04:10 09:44:19
- Software: DSLR-A850 v1.00
- IFD1
- IPTC
- Caption-Abstract: traditional outrigger or banka, the philippines
- Keywords: asia, asian, bamboo, banka, beach, blue, boat, cebu, coastal, coastline, destinations, east, feature, filipino, fishing, islands, nature, nautical, outdoors, outrigger, palm, philippines, sailing, sand, sea, small, southeast, traditional, traditionally, transport, transportation, travel, traveling, tropical, vessel, water's, wood
- ObjectName: traditional outrigger or banka, the philippines
- System
- XMP-aux
- Lens: 80-200mm F2.8
- LensID: 1
- LensInfo: 80/1 200/1 28/10 28/10
- XMP-crs
- AlreadyApplied: True
- BlueHue: 0
- BlueSaturation: 0
- Brightness: +50
- ChromaticAberrationB: 0
- ChromaticAberrationR: 0
- Clarity: 0
- ColorNoiseReduction: 0
- Contrast: +25
- ConvertToGrayscale: False
- CropAngle: 0.559876
- CropBottom: 0.94834
- CropHeight: 704
- CropLeft: 0.05471
- CropRight: 0.930641
- CropTop: 0.026047
- CropUnit: pixels
- CropWidth: 1024
- Defringe: 2
- Exposure: 0.00
- FillLight: 0
- GreenHue: 0
- GreenSaturation: 0
- HasCrop: True
- HasSettings: True
- HighlightRecovery: 21
- HueAdjustmentAqua: 0
- HueAdjustmentBlue: 0
- HueAdjustmentGreen: 0
- HueAdjustmentMagenta: 0
- HueAdjustmentOrange: 0
- HueAdjustmentPurple: 0
- HueAdjustmentRed: 0
- HueAdjustmentYellow: 0
- LuminanceAdjustmentAqua: 0
- LuminanceAdjustmentBlue: 0
- LuminanceAdjustmentGreen: 0
- LuminanceAdjustmentMagenta: 0
- LuminanceAdjustmentOrange: 0
- LuminanceAdjustmentPurple: 0
- LuminanceAdjustmentRed: 0
- LuminanceAdjustmentYellow: 0
- LuminanceSmoothing: 0
- ParametricDarks: 0
- ParametricHighlightSplit: 75
- ParametricHighlights: 0
- ParametricLights: 0
- ParametricMidtoneSplit: 50
- ParametricShadowSplit: 25
- ParametricShadows: 0
- PostCropVignetteAmount: 0
- RedHue: 0
- RedSaturation: 0
- Saturation: 0
- SaturationAdjustmentAqua: 0
- SaturationAdjustmentBlue: 0
- SaturationAdjustmentGreen: 0
- SaturationAdjustmentMagenta: 0
- SaturationAdjustmentOrange: 0
- SaturationAdjustmentPurple: 0
- SaturationAdjustmentRed: 0
- SaturationAdjustmentYellow: 0
- ShadowTint: 0
- Shadows: 5
- SharpenDetail: 0
- SharpenEdgeMasking: 0
- SharpenRadius: +0.5
- Sharpness: 0
- SplitToningBalance: 0
- SplitToningHighlightHue: 0
- SplitToningHighlightSaturation: 0
- SplitToningShadowHue: 0
- SplitToningShadowSaturation: 0
- Temperature: 5200
- Tint: +13
- ToneCurve: 0, 0, 32, 22, 64, 56, 128, 128, 192, 196, 255, 255
- ToneCurveName: Medium Contrast
- Version: 5.6
- Vibrance: 0
- VignetteAmount: 0
- WhiteBalance: As Shot
- XMP-dc
- Description: traditional outrigger or banka, the philippines
- Subject: asia, asian, bamboo, banka, beach, blue, boat, cebu, coastal, coastline, destinations, east, feature, filipino, fishing, islands, nature, nautical, outdoors, outrigger, palm, philippines, sailing, sand, sea, small, southeast, traditional, traditionally, transport, transportation, travel, traveling, tropical, vessel, water's, wood
- Title: traditional outrigger or banka, the philippines
- XMP-exif
- DateTimeDigitized: 2010:03:30 11:17:40+03:00
- DateTimeOriginal: 2010:03:30 11:17:40+03:00
- ExifImageHeight: 704
- ExifImageWidth: 1024
- FlashFired: False
- FlashFunction: False
- FlashMode: Off
- FlashRedEyeMode: False
- FlashReturn: No return detection
- XMP-tiff
- ImageHeight: 704
- ImageWidth: 1024
- XMP-xmp
- CreateDate: 2010:03:30 11:17:40+03:00
- ModifyDate: 2010:04:10 09:44:19+03:00
- Просмотров: 263
- Рейтинг: голосов еще нет
- Отзывов: 0