- Раздел: Путешествия
- Дата съёмки: 06.04.2010 15:11
- Дата загрузки фото: 10.04.2010 15:18
- Оригинальная фотография: 683 x 1024 (691 Кб)
- Технические характеристики:
- Фотоаппарат: Sony DSLR-A850
- Выдержка: 1/500
- Гиперфокальное расстояние: inf m
- Диафрагма: 6,3
- Светочувствительность: 200
- Фокусное расстояние: 35,0 mm (35 mm equivalent: 35,0 mm)
- Полный EXIF
- Adobe
- ColorTransform: YCbCr
- Composite
- Aperture: 6,3
- CircleOfConfusion: 0,030 mm
- FOV: 54,0 deg
- FocalLength35efl: 35,0 mm (35 mm equivalent: 35,0 mm)
- HyperfocalDistance: inf m
- ScaleFactor35efl: 1,0
- ShutterSpeed: 1/500
- ExifIFD
- ApertureValue: 6,3
- BrightnessValue: 8,25
- Contrast: Normal
- CreateDate: 2010:04:06 15:11:31
- CustomRendered: Normal
- DateTimeOriginal: 2010:04:06 15:11:31
- ExposureCompensation: 0
- ExposureMode: Auto
- ExposureProgram: Aperture-priority AE
- ExposureTime: 1/500
- FNumber: 6,3
- Flash: Off, Did not fire
- FocalLength: 35,0 mm
- FocalLengthIn35mmFormat: 35 mm
- ISO: 200
- LightSource: Unknown
- MaxApertureValue: 2,8
- MeteringMode: Multi-segment
- Saturation: Normal
- SceneCaptureType: Standard
- SceneType: Directly photographed
- Sharpness: Normal
- ShutterSpeedValue: 1/500
- WhiteBalance: Manual
- ICC-header
- ICC-meas
- ICC-view
- IFD0
- ImageDescription: Skyscrapers in the city and blue sky. Frankfurt. Germany
- Make: SONY
- Model: DSLR-A850
- ModifyDate: 2010:04:10 09:45:51
- Software: DSLR-A850 v1.00
- IFD1
- IPTC
- Caption-Abstract: Skyscrapers in the city and blue sky. Frankfurt. Germany
- Keywords: architecture, blue, bright, building, center, city, cityscape, clear, contemporary, day, deutsche, district, downtown, europe, finance, financial, frankfurt, germany, high, house, large, main, office, scene, sky, skyline, skyscraper, tall, tower, urban, western
- ObjectName: Skyscrapers in the city and blue sky. Frankfurt. Germany
- System
- XMP-aux
- Lens: 24-105mm F3.5-4.5
- LensID: 24
- LensInfo: 24/1 105/1 35/10 45/10
- XMP-crs
- AlreadyApplied: True
- BlueHue: 0
- BlueSaturation: 0
- Brightness: +50
- ChromaticAberrationB: 0
- ChromaticAberrationR: 0
- Clarity: 0
- ColorNoiseReduction: 0
- Contrast: +25
- ConvertToGrayscale: False
- Defringe: 2
- Exposure: 0.00
- FillLight: 0
- GreenHue: 0
- GreenSaturation: 0
- HasCrop: False
- HasSettings: True
- HighlightRecovery: 100
- HueAdjustmentAqua: 0
- HueAdjustmentBlue: 0
- HueAdjustmentGreen: 0
- HueAdjustmentMagenta: 0
- HueAdjustmentOrange: 0
- HueAdjustmentPurple: 0
- HueAdjustmentRed: 0
- HueAdjustmentYellow: 0
- LuminanceAdjustmentAqua: 0
- LuminanceAdjustmentBlue: 0
- LuminanceAdjustmentGreen: 0
- LuminanceAdjustmentMagenta: 0
- LuminanceAdjustmentOrange: 0
- LuminanceAdjustmentPurple: 0
- LuminanceAdjustmentRed: 0
- LuminanceAdjustmentYellow: 0
- LuminanceSmoothing: 0
- ParametricDarks: 0
- ParametricHighlightSplit: 75
- ParametricHighlights: 0
- ParametricLights: 0
- ParametricMidtoneSplit: 50
- ParametricShadowSplit: 25
- ParametricShadows: 0
- PostCropVignetteAmount: 0
- RedHue: 0
- RedSaturation: 0
- Saturation: 0
- SaturationAdjustmentAqua: 0
- SaturationAdjustmentBlue: 0
- SaturationAdjustmentGreen: 0
- SaturationAdjustmentMagenta: 0
- SaturationAdjustmentOrange: 0
- SaturationAdjustmentPurple: 0
- SaturationAdjustmentRed: 0
- SaturationAdjustmentYellow: 0
- ShadowTint: 0
- Shadows: 3
- SharpenDetail: 0
- SharpenEdgeMasking: 0
- SharpenRadius: +1.0
- Sharpness: 0
- SplitToningBalance: 0
- SplitToningHighlightHue: 0
- SplitToningHighlightSaturation: 0
- SplitToningShadowHue: 0
- SplitToningShadowSaturation: 0
- Temperature: 5200
- Tint: +13
- ToneCurve: 0, 0, 32, 22, 64, 56, 128, 128, 192, 196, 255, 255
- ToneCurveName: Medium Contrast
- Version: 5.6
- Vibrance: 0
- VignetteAmount: 0
- WhiteBalance: As Shot
- XMP-dc
- Description: Skyscrapers in the city and blue sky. Frankfurt. Germany
- Subject: architecture, blue, bright, building, center, city, cityscape, clear, contemporary, day, deutsche, district, downtown, europe, finance, financial, frankfurt, germany, high, house, large, main, office, scene, sky, skyline, skyscraper, tall, tower, urban, western
- Title: Skyscrapers in the city and blue sky. Frankfurt. Germany
- XMP-exif
- DateTimeDigitized: 2010:04:06 15:11:31+03:00
- DateTimeOriginal: 2010:04:06 15:11:31+03:00
- ExifImageHeight: 1024
- ExifImageWidth: 683
- FlashFired: False
- FlashFunction: False
- FlashMode: Off
- FlashRedEyeMode: False
- FlashReturn: No return detection
- XMP-tiff
- ImageHeight: 1024
- ImageWidth: 683
- XMP-xmp
- CreateDate: 2010:04:06 15:11:31+03:00
- ModifyDate: 2010:04:10 09:45:51+03:00
- Просмотров: 236
- Рейтинг: голосов еще нет
- Отзывов: 0