Уважаемые друзья и участники проекта iXBT.photo! К сожалению, 1 марта 2026 года проект iXBT.photo прекратит свою работу и будет закрыт. Мы высоко ценим ваше участие и тот вклад, который вы внесли в развитие нашего сообщества. Пожалуйста, не забудьте сохранить ваши фотографии до этой даты.
С уважением, команда iXBT.com
| 50/1.8@f/2.8 |
50/1.8@f/2.8
- Раздел: Тесты фототехники
- Дата съёмки: 13.04.2010 10:07
- Дата загрузки фото: 13.04.2010 16:56
- Оригинальная фотография: 4256 x 2383 (2,2 Мб)
- Технические характеристики:
- Фотоаппарат: Nikon D700
- Выдержка: 1/40
- Гиперфокальное расстояние: inf m
- Диафрагма: 2,8
- Светочувствительность: 200
- Фокусное расстояние: 50,0 mm (35 mm equivalent: 50,0 mm)
- Полный EXIF
- Adobe
- ColorTransform: YCbCr
- Composite
- Aperture: 2,8
- CircleOfConfusion: 0,030 mm
- FOV: 39,0 deg
- FocalLength35efl: 50,0 mm (35 mm equivalent: 50,0 mm)
- HyperfocalDistance: inf m
- ScaleFactor35efl: 1,0
- ShutterSpeed: 1/40
- ExifIFD
- ApertureValue: 2,8
- CFAPattern: [Red,Green][Green,Blue]
- Contrast: Normal
- CreateDate: 2010:04:13 10:07:01
- CustomRendered: Normal
- DateTimeOriginal: 2010:04:13 10:07:01
- DigitalZoomRatio: 1
- ExposureCompensation: 0
- ExposureMode: Auto
- ExposureProgram: Aperture-priority AE
- ExposureTime: 1/40
- FNumber: 2,8
- Flash: No Flash
- FocalLength: 50,0 mm
- FocalLengthIn35mmFormat: 50 mm
- GainControl: None
- ISO: 200
- LightSource: Unknown
- MaxApertureValue: 1,4
- MeteringMode: Multi-segment
- Saturation: Normal
- SceneCaptureType: Standard
- SceneType: Directly photographed
- SensingMethod: One-chip color area
- Sharpness: Hard
- ShutterSpeedValue: 1/40
- SubjectDistance: 0,5 m
- SubjectDistanceRange: Unknown
- UserComment: www.dimalozz.ho.ua
- WhiteBalance: Auto
- ICC-header
- ICC-meas
- ICC-view
- IFD0
- Artist: DIMALOZZ@GMAIL.COM
- Make: NIKON CORPORATION
- Model: NIKON D700
- ModifyDate: 2010:04:13 12:47:09
- Software: Ver.1.02
- IFD1
- IPTC
- By-line: DIMALOZZ@GMAIL.COM
- System
- XMP-aux
- ImageNumber: 63684
- Lens: 50.0 mm f/1.4
- LensID: 67
- LensInfo: 500/10 500/10 14/10 14/10
- SerialNumber: 2130255
- XMP-crs
- AlreadyApplied: True
- BlueHue: 0
- BlueSaturation: +47
- Brightness: +50
- ChromaticAberrationB: 0
- ChromaticAberrationR: 0
- Clarity: 0
- ColorNoiseReduction: 25
- Contrast: +30
- ConvertToGrayscale: False
- CropAngle: 0
- CropBottom: 0.918033
- CropLeft: 0
- CropRight: 1
- CropTop: 0.076503
- Defringe: 2
- Exposure: 0.00
- FillLight: 0
- GreenHue: 0
- GreenSaturation: +28
- HasCrop: True
- HasSettings: True
- HighlightRecovery: 0
- HueAdjustmentAqua: 0
- HueAdjustmentBlue: 0
- HueAdjustmentGreen: +3
- HueAdjustmentMagenta: +17
- HueAdjustmentOrange: 0
- HueAdjustmentPurple: 0
- HueAdjustmentRed: +7
- HueAdjustmentYellow: 0
- LuminanceAdjustmentAqua: 0
- LuminanceAdjustmentBlue: 0
- LuminanceAdjustmentGreen: 0
- LuminanceAdjustmentMagenta: 0
- LuminanceAdjustmentOrange: +3
- LuminanceAdjustmentPurple: 0
- LuminanceAdjustmentRed: +3
- LuminanceAdjustmentYellow: 0
- LuminanceSmoothing: 0
- ParametricDarks: 0
- ParametricHighlightSplit: 75
- ParametricHighlights: 0
- ParametricLights: 0
- ParametricMidtoneSplit: 50
- ParametricShadowSplit: 25
- ParametricShadows: 0
- PostCropVignetteAmount: 0
- RawFileName: DFX_2589.NEF
- RedHue: 0
- RedSaturation: -25
- Saturation: 0
- SaturationAdjustmentAqua: 0
- SaturationAdjustmentBlue: 0
- SaturationAdjustmentGreen: 0
- SaturationAdjustmentMagenta: 0
- SaturationAdjustmentOrange: 0
- SaturationAdjustmentPurple: 0
- SaturationAdjustmentRed: 0
- SaturationAdjustmentYellow: 0
- ShadowTint: 0
- Shadows: 3
- SharpenDetail: 25
- SharpenEdgeMasking: 0
- SharpenRadius: +1.0
- Sharpness: 45
- SplitToningBalance: +88
- SplitToningHighlightHue: 40
- SplitToningHighlightSaturation: 0
- SplitToningShadowHue: 250
- SplitToningShadowSaturation: 0
- Temperature: 5050
- Tint: -7
- ToneCurve: 0, 0, 20, 15, 124, 133, 255, 255
- ToneCurveName: Custom
- Version: 5.6
- Vibrance: +25
- VignetteAmount: 0
- WhiteBalance: Custom
- XMP-dc
- Creator: DIMALOZZ@GMAIL.COM
- XMP-exif
- DateTimeDigitized: 2010:04:13 10:07:01.92+03:00
- DateTimeOriginal: 2010:04:13 10:07:01.92+03:00
- ExifImageHeight: 2383
- ExifImageWidth: 4256
- FlashFired: False
- FlashFunction: False
- FlashMode: Unknown
- FlashRedEyeMode: False
- FlashReturn: No return detection
- XMP-tiff
- ImageHeight: 2383
- ImageWidth: 4256
- XMP-xmp
- CreateDate: 2010:04:13 10:07:01.92+03:00
- CreatorTool: Ver.1.02
- ModifyDate: 2010:04:13 12:47:09+03:00
- Rating: 0
- Просмотров: 480
- Рейтинг: голосов еще нет
- Отзывов: 0
Получить код для блога
| Вставка фотографии в текущем разрешении |
Вставка миниатюры |
HTML (для вставки в блог):
BBCode (для вставки в форум):
Ссылка на фото:
Ссылка на миниатюру:
- Послать ссылку другу
| Комментарии к фотографии |