Уважаемые друзья и участники проекта iXBT.photo! К сожалению, 1 марта 2026 года проект iXBT.photo прекратит свою работу и будет закрыт. Мы высоко ценим ваше участие и тот вклад, который вы внесли в развитие нашего сообщества. Пожалуйста, не забудьте сохранить ваши фотографии до этой даты.
С уважением, команда iXBT.com
| 50/1.8@f/2.8 |
50/1.8@f/2.8
день, конверт. ACR sharp 40%
- Раздел: Тесты фототехники
- Дата съёмки: 13.04.2010 10:59
- Дата загрузки фото: 13.04.2010 17:41
- Оригинальная фотография: 4256 x 2832 (4,1 Мб)
- Технические характеристики:
- Фотоаппарат: Nikon D700
- Выдержка: 1/5000
- Гиперфокальное расстояние: inf m
- Диафрагма: 2,8
- Светочувствительность: 200
- Фокусное расстояние: 50,0 mm (35 mm equivalent: 50,0 mm)
- Экспокоррекция: -1/3
- Полный EXIF
- Adobe
- ColorTransform: YCbCr
- Composite
- Aperture: 2,8
- CircleOfConfusion: 0,030 mm
- DOF: inf (0,00 m - inf)
- FOV: 39,0 deg
- FocalLength35efl: 50,0 mm (35 mm equivalent: 50,0 mm)
- HyperfocalDistance: inf m
- ScaleFactor35efl: 1,0
- ShutterSpeed: 1/5000
- ExifIFD
- ApertureValue: 2,8
- CFAPattern: [Red,Green][Green,Blue]
- Contrast: Normal
- CreateDate: 2010:04:13 10:59:58
- CustomRendered: Normal
- DateTimeOriginal: 2010:04:13 10:59:58
- DigitalZoomRatio: 1
- ExposureCompensation: -1/3
- ExposureMode: Auto
- ExposureProgram: Aperture-priority AE
- ExposureTime: 1/5000
- FNumber: 2,8
- Flash: No Flash
- FocalLength: 50,0 mm
- FocalLengthIn35mmFormat: 50 mm
- GainControl: None
- ISO: 200
- LightSource: Fine Weather
- MaxApertureValue: 1,4
- MeteringMode: Multi-segment
- Saturation: Normal
- SceneCaptureType: Standard
- SceneType: Directly photographed
- SensingMethod: One-chip color area
- Sharpness: Hard
- ShutterSpeedValue: 1/5000
- SubjectDistance: 4294967295 m
- SubjectDistanceRange: Unknown
- UserComment: www.dimalozz.ho.ua
- WhiteBalance: Manual
- ICC-header
- ICC-meas
- ICC-view
- IFD0
- Artist: DIMALOZZ@GMAIL.COM
- Make: NIKON CORPORATION
- Model: NIKON D700
- ModifyDate: 2010:04:13 16:28:10
- Software: Ver.1.02
- IFD1
- IPTC
- By-line: DIMALOZZ@GMAIL.COM
- System
- XMP-aux
- ImageNumber: 63770
- Lens: 50.0 mm f/1.4
- LensID: 67
- LensInfo: 500/10 500/10 14/10 14/10
- SerialNumber: 2130255
- XMP-crs
- AlreadyApplied: True
- BlueHue: 0
- BlueSaturation: +47
- Brightness: +50
- ChromaticAberrationB: 0
- ChromaticAberrationR: 0
- Clarity: 0
- ColorNoiseReduction: 25
- Contrast: +30
- ConvertToGrayscale: False
- Defringe: 2
- Exposure: +0.05
- FillLight: 0
- GreenHue: 0
- GreenSaturation: +28
- HasCrop: False
- HasSettings: True
- HighlightRecovery: 15
- HueAdjustmentAqua: 0
- HueAdjustmentBlue: 0
- HueAdjustmentGreen: +3
- HueAdjustmentMagenta: +17
- HueAdjustmentOrange: 0
- HueAdjustmentPurple: 0
- HueAdjustmentRed: +7
- HueAdjustmentYellow: 0
- LuminanceAdjustmentAqua: 0
- LuminanceAdjustmentBlue: 0
- LuminanceAdjustmentGreen: 0
- LuminanceAdjustmentMagenta: 0
- LuminanceAdjustmentOrange: +3
- LuminanceAdjustmentPurple: 0
- LuminanceAdjustmentRed: +3
- LuminanceAdjustmentYellow: 0
- LuminanceSmoothing: 0
- ParametricDarks: 0
- ParametricHighlightSplit: 75
- ParametricHighlights: 0
- ParametricLights: 0
- ParametricMidtoneSplit: 50
- ParametricShadowSplit: 25
- ParametricShadows: 0
- PostCropVignetteAmount: 0
- RawFileName: DFX_2661.NEF
- RedHue: 0
- RedSaturation: -25
- Saturation: 0
- SaturationAdjustmentAqua: 0
- SaturationAdjustmentBlue: 0
- SaturationAdjustmentGreen: 0
- SaturationAdjustmentMagenta: 0
- SaturationAdjustmentOrange: 0
- SaturationAdjustmentPurple: 0
- SaturationAdjustmentRed: 0
- SaturationAdjustmentYellow: 0
- ShadowTint: 0
- Shadows: 3
- SharpenDetail: 25
- SharpenEdgeMasking: 0
- SharpenRadius: +1.0
- Sharpness: 45
- SplitToningBalance: +88
- SplitToningHighlightHue: 40
- SplitToningHighlightSaturation: 0
- SplitToningShadowHue: 250
- SplitToningShadowSaturation: 0
- Temperature: 5000
- Tint: -6
- ToneCurve: 0, 0, 37, 29, 114, 110, 255, 255
- ToneCurveName: Custom
- Version: 5.6
- Vibrance: +25
- VignetteAmount: 0
- WhiteBalance: As Shot
- XMP-dc
- Creator: DIMALOZZ@GMAIL.COM
- XMP-exif
- DateTimeDigitized: 2010:04:13 10:59:58.25+03:00
- DateTimeOriginal: 2010:04:13 10:59:58.25+03:00
- ExifImageHeight: 2832
- ExifImageWidth: 4256
- FlashFired: False
- FlashFunction: False
- FlashMode: Unknown
- FlashRedEyeMode: False
- FlashReturn: No return detection
- XMP-tiff
- ImageHeight: 2832
- ImageWidth: 4256
- XMP-xmp
- CreateDate: 2010:04:13 10:59:58.25+03:00
- CreatorTool: Ver.1.02
- ModifyDate: 2010:04:13 16:28:10+03:00
- Rating: 0
- Просмотров: 469
- Рейтинг: голосов еще нет
- Отзывов: 0
Получить код для блога
| Вставка фотографии в текущем разрешении |
Вставка миниатюры |
HTML (для вставки в блог):
BBCode (для вставки в форум):
Ссылка на фото:
Ссылка на миниатюру:
- Послать ссылку другу
| Комментарии к фотографии |