- Раздел: Пейзаж
- Дата съёмки: 22.07.2008 16:39
- Дата загрузки фото: 18.04.2010 14:55
- Оригинальная фотография: 1960 x 1307 (388 Кб)
- Технические характеристики:
- Фотоаппарат: Sony DSLR-A200
- Выдержка: 1/4000
- Гиперфокальное расстояние: inf m
- Диафрагма: 5,6
- Светочувствительность: 100
- Фокусное расстояние: 18,0 mm (35 mm equivalent: 18,0 mm)
- Полный EXIF
- Adobe
- ColorTransform: YCbCr
- Composite
- Aperture: 5,6
- CircleOfConfusion: 0,020 mm
- FOV: 90,0 deg
- FocalLength35efl: 18,0 mm (35 mm equivalent: 18,0 mm)
- HyperfocalDistance: inf m
- ScaleFactor35efl: 1,5
- ShutterSpeed: 1/4000
- ExifIFD
- ApertureValue: 5,6
- BrightnessValue: 12
- Contrast: Normal
- CreateDate: 2008:07:22 16:39:00
- CustomRendered: Normal
- DateTimeOriginal: 2008:07:22 16:39:00
- ExposureCompensation: 0
- ExposureMode: Manual
- ExposureProgram: Manual
- ExposureTime: 1/4000
- FNumber: 5,6
- Flash: Off, Did not fire
- FocalLength: 18,0 mm
- FocalLengthIn35mmFormat: 27 mm
- ISO: 100
- LightSource: Unknown
- MaxApertureValue: 3,5
- MeteringMode: Spot
- Saturation: Normal
- SceneCaptureType: Standard
- SceneType: Directly photographed
- Sharpness: Normal
- ShutterSpeedValue: 1/4000
- WhiteBalance: Auto
- ICC-header
- IFD0
- ImageDescription: SONY DSC
- Make: SONY
- Model: DSLR-A200
- ModifyDate: 2010:04:18 14:54:24
- Software: DSLR-A200 v1.00
- IPTC
- Caption-Abstract: SONY DSC
- Keywords: ГЌГҐГЎГ®, Îáëà êà , Ïåéçà æè, Ïîëóîñòðîâ Êîïûëîâî, ÑîëГГҐГ·Гûå ëó÷è, Òîëüÿòòè
- System
- XMP-crs
- AlreadyApplied: True
- BlueHue: 0
- BlueSaturation: 0
- Brightness: +50
- CameraProfile: ACR 4.4
- ChromaticAberrationB: 0
- ChromaticAberrationR: 0
- Clarity: 0
- ColorNoiseReduction: 25
- Contrast: +25
- ConvertToGrayscale: False
- CropAngle: -1.895622
- CropBottom: 0.952703
- CropHeight: 3
- CropLeft: 0.011126
- CropRight: 0.988874
- CropTop: 0.047297
- CropUnit: Unknown (3)
- CropWidth: 2
- Defringe: 0
- Exposure: 0.00
- FillLight: 0
- GradientBasedCorrActive: true
- GradientBasedCorrAmount: 1.000000
- GradientBasedCorrBrightness: 0.210000
- GradientBasedCorrContrast: -0.490000
- GradientBasedCorrExposure: 0.287500
- GradientBasedCorrMaskFullX: 0.748116
- GradientBasedCorrMaskFullY: 0.941742
- GradientBasedCorrMaskValue: 1.000000
- GradientBasedCorrMaskWhat: Mask/Gradient
- GradientBasedCorrMaskZeroX: 0.697979
- GradientBasedCorrMaskZeroY: 0.553904
- GradientBasedCorrWhat: Correction
- GreenHue: 0
- GreenSaturation: 0
- HasCrop: True
- HasSettings: True
- HighlightRecovery: 0
- HueAdjustmentAqua: 0
- HueAdjustmentBlue: 0
- HueAdjustmentGreen: 0
- HueAdjustmentMagenta: 0
- HueAdjustmentOrange: 0
- HueAdjustmentPurple: 0
- HueAdjustmentRed: 0
- HueAdjustmentYellow: 0
- LuminanceAdjustmentAqua: 0
- LuminanceAdjustmentBlue: 0
- LuminanceAdjustmentGreen: 0
- LuminanceAdjustmentMagenta: 0
- LuminanceAdjustmentOrange: 0
- LuminanceAdjustmentPurple: 0
- LuminanceAdjustmentRed: 0
- LuminanceAdjustmentYellow: 0
- LuminanceSmoothing: 0
- ParametricDarks: -63
- ParametricHighlightSplit: 75
- ParametricHighlights: 0
- ParametricLights: +31
- ParametricMidtoneSplit: 50
- ParametricShadowSplit: 25
- ParametricShadows: +26
- PostCropVignetteAmount: 0
- RawFileName: _DSC2054.ARW
- RedHue: 0
- RedSaturation: 0
- Saturation: +29
- SaturationAdjustmentAqua: 0
- SaturationAdjustmentBlue: 0
- SaturationAdjustmentGreen: 0
- SaturationAdjustmentMagenta: 0
- SaturationAdjustmentOrange: 0
- SaturationAdjustmentPurple: 0
- SaturationAdjustmentRed: 0
- SaturationAdjustmentYellow: 0
- ShadowTint: 0
- Shadows: 0
- SharpenDetail: 25
- SharpenEdgeMasking: 0
- SharpenRadius: +1.0
- Sharpness: 25
- SplitToningBalance: 0
- SplitToningHighlightHue: 0
- SplitToningHighlightSaturation: 0
- SplitToningShadowHue: 0
- SplitToningShadowSaturation: 0
- Temperature: 5000
- Tint: +5
- ToneCurve: 0, 0, 32, 22, 64, 56, 128, 128, 192, 196, 255, 255
- ToneCurveName: Medium Contrast
- Version: 5.0
- Vibrance: +22
- VignetteAmount: 0
- WhiteBalance: As Shot
- XMP-dc
- Description: SONY DSC
- Subject: Небо, Облака, Пейзажи, Полуостров Копылово, Солнечные лучи, Тольятти
- XMP-exif
- DateTimeDigitized: 2008:07:22 16:39:00+05:00
- DateTimeOriginal: 2008:07:22 16:39:00+05:00
- ExifImageHeight: 1307
- ExifImageWidth: 1960
- FlashFired: False
- FlashFunction: False
- FlashMode: Off
- FlashRedEyeMode: False
- FlashReturn: No return detection
- XMP-lr
- HierarchicalSubject: Места|Тольятти|Полуостров Копылово, Места|Тольятти, Небо, Небо|Облака, Небо|Солнечные лучи, Пейзажи
- XMP-tiff
- ImageHeight: 1307
- ImageWidth: 1960
- XMP-xmp
- CreateDate: 2008:07:22 16:39:00+05:00
- CreatorTool: DSLR-A200 v1.00
- ModifyDate: 2010:04:18 14:54:24+04:00
- Rating: 0
- Просмотров: 270
- Рейтинг: голосов еще нет
- Отзывов: 0