- Раздел: Репортаж
- Дата съёмки: 11.03.2010 18:21
- Дата загрузки фото: 19.04.2010 17:44
- Оригинальная фотография: 2560 x 1707 (887 Кб)
- Технические характеристики:
- Фотоаппарат: Canon EOS 500D
- Выдержка: 1/125
- Гиперфокальное расстояние: inf m
- Диафрагма: 7,1
- Светочувствительность: 100
- Фокусное расстояние: 55,0 mm (35 mm equivalent: 110,0 mm)
- Полный EXIF
- Adobe
- ColorTransform: YCbCr
- Composite
- Aperture: 7,1
- CircleOfConfusion: 0,010 mm
- DOF: inf (0,00 m - inf)
- FOV: 18,0 deg
- FocalLength35efl: 55,0 mm (35 mm equivalent: 110,0 mm)
- HyperfocalDistance: inf m
- ScaleFactor35efl: 2,9
- ShutterSpeed: 1/125
- ExifIFD
- ApertureValue: 7,1
- CreateDate: 2010:03:11 18:21:52
- CustomRendered: Normal
- DateTimeOriginal: 2010:03:11 18:21:52
- ExposureCompensation: 0
- ExposureMode: Auto
- ExposureProgram: Program AE
- ExposureTime: 1/125
- FNumber: 7,1
- Flash: Off, Did not fire
- FocalLength: 55,0 mm
- ISO: 100
- MaxApertureValue: 5,7
- MeteringMode: Multi-segment
- SceneCaptureType: Standard
- ShutterSpeedValue: 1/125
- SubjectDistance: 4294967295 m
- WhiteBalance: Auto
- ICC-header
- ICC-meas
- ICC-view
- IFD0
- Artist: UAP
- Copyright: Copyright: Yurovskikh Home Photo
- Make: Canon
- Model: Canon EOS 500D
- ModifyDate: 2010:04:19 21:42:56
- IFD1
- IPTC
- By-line: UAP
- CopyrightNotice: Copyright: Yurovskikh Home Photo
- System
- XMP-aux
- Firmware: 1.0.9
- FlashCompensation: 0
- ImageNumber: 0
- Lens: EF-S18-55mm f/3.5-5.6 IS
- LensID: 48
- LensInfo: 18/1 55/1 0/0 0/0
- OwnerName: Yurovskikh Andrey
- SerialNumber: 530102231
- XMP-crs
- AlreadyApplied: True
- BlueHue: 0
- BlueSaturation: 0
- Brightness: +50
- ChromaticAberrationB: 0
- ChromaticAberrationR: 0
- Clarity: 0
- ColorNoiseReduction: 25
- Contrast: +25
- ConvertToGrayscale: False
- CropAngle: 0
- CropBottom: 0.755343
- CropHeight: 3
- CropLeft: 0.098625
- CropRight: 0.637324
- CropTop: 0.216645
- CropUnit: Unknown (3)
- CropWidth: 2
- Defringe: 0
- Exposure: -0.20
- FillLight: 0
- GreenHue: 0
- GreenSaturation: 0
- HasCrop: True
- HasSettings: True
- HighlightRecovery: 21
- HueAdjustmentAqua: 0
- HueAdjustmentBlue: 0
- HueAdjustmentGreen: 0
- HueAdjustmentMagenta: 0
- HueAdjustmentOrange: 0
- HueAdjustmentPurple: 0
- HueAdjustmentRed: 0
- HueAdjustmentYellow: 0
- LuminanceAdjustmentAqua: 0
- LuminanceAdjustmentBlue: 0
- LuminanceAdjustmentGreen: 0
- LuminanceAdjustmentMagenta: 0
- LuminanceAdjustmentOrange: 0
- LuminanceAdjustmentPurple: 0
- LuminanceAdjustmentRed: 0
- LuminanceAdjustmentYellow: 0
- LuminanceSmoothing: 0
- ParametricDarks: 0
- ParametricHighlightSplit: 75
- ParametricHighlights: 0
- ParametricLights: 0
- ParametricMidtoneSplit: 50
- ParametricShadowSplit: 25
- ParametricShadows: 0
- PostCropVignetteAmount: 0
- RawFileName: 161.CR2
- RedHue: 0
- RedSaturation: 0
- Saturation: 0
- SaturationAdjustmentAqua: 0
- SaturationAdjustmentBlue: 0
- SaturationAdjustmentGreen: 0
- SaturationAdjustmentMagenta: 0
- SaturationAdjustmentOrange: 0
- SaturationAdjustmentPurple: 0
- SaturationAdjustmentRed: 0
- SaturationAdjustmentYellow: 0
- ShadowTint: 0
- Shadows: 5
- SharpenDetail: 25
- SharpenEdgeMasking: 0
- SharpenRadius: +1.0
- Sharpness: 25
- SplitToningBalance: 0
- SplitToningHighlightHue: 0
- SplitToningHighlightSaturation: 0
- SplitToningShadowHue: 0
- SplitToningShadowSaturation: 0
- Temperature: 4550
- Tint: -4
- ToneCurve: 0, 0, 32, 22, 64, 56, 128, 128, 192, 196, 255, 255
- ToneCurveName: Medium Contrast
- Version: 5.6
- Vibrance: 0
- VignetteAmount: 0
- WhiteBalance: As Shot
- XMP-dc
- Creator: UAP
- Rights: Copyright: Yurovskikh Home Photo
- XMP-exif
- DateTimeDigitized: 2010:03:11 18:21:52.49+07:00
- DateTimeOriginal: 2010:03:11 18:21:52.49+07:00
- ExifImageHeight: 1707
- ExifImageWidth: 2560
- FlashFired: False
- FlashFunction: False
- FlashMode: Off
- FlashRedEyeMode: False
- FlashReturn: No return detection
- XMP-tiff
- ImageHeight: 1707
- ImageWidth: 2560
- XMP-xmp
- CreateDate: 2010:03:11 18:21:52.49+07:00
- ModifyDate: 2010:04:19 21:42:56+08:00
- Rating: 5
- Просмотров: 167
- Рейтинг: голосов еще нет
- Отзывов: 0