- Раздел: Другое, разное
- Дата съёмки: 04.04.2010 16:11
- Дата загрузки фото: 27.04.2010 11:15
- Оригинальная фотография: 650 x 433 (143 Кб)
- Технические характеристики:
- Фотоаппарат: Canon EOS 450D
- Выдержка: 1/1250
- Гиперфокальное расстояние: inf m
- Диафрагма: 1,8
- Светочувствительность: 100
- Фокусное расстояние: 85,0 mm (35 mm equivalent: 850,0 mm)
- Экспокоррекция: -1/3
- Полный EXIF
- Adobe
- ColorTransform: YCbCr
- Composite
- Aperture: 1,8
- CircleOfConfusion: 0,003 mm
- DOF: inf (0,00 m - inf)
- FOV: 2,0 deg
- FocalLength35efl: 85,0 mm (35 mm equivalent: 850,0 mm)
- HyperfocalDistance: inf m
- ScaleFactor35efl: 10,6
- ShutterSpeed: 1/1250
- ExifIFD
- ApertureValue: 1,8
- ColorSpace: sRGB
- CreateDate: 2010:04:04 16:11:38
- CustomRendered: Normal
- DateTimeOriginal: 2010:04:04 16:11:38
- ExifImageHeight: 433
- ExifImageWidth: 650
- ExposureCompensation: -1/3
- ExposureMode: Auto
- ExposureProgram: Aperture-priority AE
- ExposureTime: 1/1250
- FNumber: 1,8
- Flash: Off, Did not fire
- FocalLength: 85,0 mm
- ISO: 100
- MaxApertureValue: 1,8
- MeteringMode: Multi-segment
- SceneCaptureType: Standard
- ShutterSpeedValue: 1/1250
- SubjectDistance: 7,27 m
- WhiteBalance: Auto
- ICC-header
- ICC-meas
- ICC-view
- IFD0
- Make: Canon
- Model: Canon EOS 450D
- ModifyDate: 2010:04:27 10:13:46
- Orientation: Horizontal (normal)
- IFD1
- IPTC
- System
- XMP-aux
- Firmware: 1.0.9
- FlashCompensation: 0
- ImageNumber: 0
- Lens: EF85mm f/1.8 USM
- LensID: 155
- LensInfo: 85/1 85/1 0/0 0/0
- SerialNumber: 980397873
- XMP-crs
- AlreadyApplied: True
- BlueHue: 0
- BlueSaturation: 0
- Brightness: +65
- ChromaticAberrationB: 0
- ChromaticAberrationR: 0
- Clarity: 0
- ColorNoiseReduction: 100
- ColorNoiseReductionDetail: 50
- Contrast: +21
- ConvertToGrayscale: True
- Defringe: 0
- Exposure: +0.33
- FillLight: 7
- GrainAmount: 0
- GrayMixerAqua: +32
- GrayMixerBlue: +1
- GrayMixerGreen: +62
- GrayMixerMagenta: +25
- GrayMixerOrange: +27
- GrayMixerPurple: +25
- GrayMixerRed: -11
- GrayMixerYellow: -1
- GreenHue: 0
- GreenSaturation: 0
- HasCrop: False
- HasSettings: True
- HighlightRecovery: 12
- LuminanceNoiseReductionContrast: 0
- LuminanceNoiseReductionDetail: 50
- LuminanceSmoothing: 6
- ParametricDarks: +29
- ParametricHighlightSplit: 75
- ParametricHighlights: +53
- ParametricLights: -46
- ParametricMidtoneSplit: 39
- ParametricShadowSplit: 10
- ParametricShadows: -20
- PostCropVignetteAmount: 0
- ProcessVersion: 5.7
- RedHue: 0
- RedSaturation: 0
- ShadowTint: 0
- Shadows: 30
- SharpenDetail: 21
- SharpenEdgeMasking: 0
- SharpenRadius: +1.1
- Sharpness: 81
- SplitToningBalance: 0
- SplitToningHighlightHue: 0
- SplitToningHighlightSaturation: 0
- SplitToningShadowHue: 0
- SplitToningShadowSaturation: 0
- Temperature: 3211
- Tint: -77
- ToneCurve: 0, 0, 255, 255
- ToneCurveName: Linear
- Version: 6.0
- VignetteAmount: -53
- VignetteMidpoint: 44
- WhiteBalance: Custom
- XMP-dc
- XMP-exif
- DateTimeDigitized: 2010:04:04 16:11:38.25+04:00
- DateTimeOriginal: 2010:04:04 16:11:38.25+04:00
- FlashFired: False
- FlashFunction: False
- FlashMode: Off
- FlashRedEyeMode: False
- FlashReturn: No return detection
- XMP-tiff
- ImageHeight: 2848
- ImageWidth: 4272
- XMP-xmp
- CreateDate: 2010:04:27 09:29:23+04:00
- ModifyDate: 2010:04:27 10:13:46+04:00
- XMP-xmpMM
- DerivedFrom: