| » Участники » Andey from Penza » Альбом #3 » Банкет на свадьбе - простмотр СШ предсвадебной съемки |
Уважаемые друзья и участники проекта iXBT.photo! К сожалению, 1 марта 2026 года проект iXBT.photo прекратит свою работу и будет закрыт. Мы высоко ценим ваше участие и тот вклад, который вы внесли в развитие нашего сообщества. Пожалуйста, не забудьте сохранить ваши фотографии до этой даты.
С уважением, команда iXBT.com
| Банкет на свадьбе - простмотр СШ предсвадебной съемки |
Банкет на свадьбе - простмотр СШ предсвадебной съемки
- Раздел: Другое, разное
- Дата съёмки: 17.04.2010 18:10
- Дата загрузки фото: 29.04.2010 20:24
- Оригинальная фотография: 1200 x 800 (928 Кб)
- Технические характеристики:
- Фотоаппарат: Canon EOS 500D
- Выдержка: 1/40
- Гиперфокальное расстояние: inf m
- Диафрагма: 2,2
- Светочувствительность: 1600
- Фокусное расстояние: 35,0 mm (35 mm equivalent: 210,0 mm)
- Полный EXIF
- Adobe
- ColorTransform: YCbCr
- Composite
- Aperture: 2,2
- CircleOfConfusion: 0,005 mm
- FOV: 9,0 deg
- FocalLength35efl: 35,0 mm (35 mm equivalent: 210,0 mm)
- HyperfocalDistance: inf m
- ScaleFactor35efl: 6,3
- ShutterSpeed: 1/40
- ExifIFD
- ApertureValue: 2,2
- CreateDate: 2010:04:17 18:10:02
- CustomRendered: Normal
- DateTimeOriginal: 2010:04:17 18:10:02
- ExposureCompensation: 0
- ExposureMode: Auto
- ExposureProgram: Aperture-priority AE
- ExposureTime: 1/40
- FNumber: 2,2
- Flash: Off, Did not fire
- FocalLength: 35,0 mm
- ISO: 1600
- MaxApertureValue: 2,0
- MeteringMode: Center-weighted average
- SceneCaptureType: Standard
- ShutterSpeedValue: 1/40
- WhiteBalance: Auto
- ICC-header
- ICC-meas
- ICC-view
- IFD0
- Artist: KUZOVNIKOV Andrey Nikolaevich
- tel. 89631000777:
- Copyright: Kuzovnikov A.N.
- e-mail: a_kuzovnikov@yahoo.com
- Make: Canon
- Model: Canon EOS 500D
- ModifyDate: 2010:04:29 20:24:05
- IFD1
- IPTC
- By-line: KUZOVNIKOV Andrey Nikolaevich
te
- CopyrightNotice: Kuzovnikov A.N.
e-mail: a_kuzovnikov@yahoo.com
- System
- XMP-aux
- Firmware: 1.0.9
- FlashCompensation: 0
- ImageNumber: 0
- Lens: EF35mm f/2
- LensID: 11
- LensInfo: 35/1 35/1 0/0 0/0
- OwnerName: Kuzovnikov Andrey Nikolaevich
- SerialNumber: 330110626
- XMP-crs
- AlreadyApplied: True
- BlueHue: 0
- BlueSaturation: 0
- Brightness: +56
- CameraProfile: Camera Faithful
- ChromaticAberrationB: -2
- ChromaticAberrationR: -7
- Clarity: 0
- ColorNoiseReduction: 12
- Contrast: +44
- ConvertToGrayscale: False
- CropAngle: 0
- CropBottom: 1
- CropHeight: 800
- CropLeft: 0
- CropRight: 0.853244
- CropTop: 0.146756
- CropUnit: pixels
- CropWidth: 1200
- Defringe: 0
- Exposure: +0.15
- FillLight: 1
- GreenHue: 0
- GreenSaturation: 0
- HasCrop: True
- HasSettings: True
- HighlightRecovery: 0
- HueAdjustmentAqua: 0
- HueAdjustmentBlue: 0
- HueAdjustmentGreen: 0
- HueAdjustmentMagenta: 0
- HueAdjustmentOrange: 0
- HueAdjustmentPurple: 0
- HueAdjustmentRed: 0
- HueAdjustmentYellow: 0
- LuminanceAdjustmentAqua: 0
- LuminanceAdjustmentBlue: 0
- LuminanceAdjustmentGreen: 0
- LuminanceAdjustmentMagenta: 0
- LuminanceAdjustmentOrange: 0
- LuminanceAdjustmentPurple: 0
- LuminanceAdjustmentRed: 0
- LuminanceAdjustmentYellow: 0
- LuminanceSmoothing: 32
- ParametricDarks: -8
- ParametricHighlightSplit: 63
- ParametricHighlights: -5
- ParametricLights: +24
- ParametricMidtoneSplit: 36
- ParametricShadowSplit: 13
- ParametricShadows: -13
- PostCropVignetteAmount: 0
- RedHue: 0
- RedSaturation: 0
- Saturation: -14
- SaturationAdjustmentAqua: 0
- SaturationAdjustmentBlue: 0
- SaturationAdjustmentGreen: 0
- SaturationAdjustmentMagenta: 0
- SaturationAdjustmentOrange: -2
- SaturationAdjustmentPurple: 0
- SaturationAdjustmentRed: 0
- SaturationAdjustmentYellow: 0
- ShadowTint: 0
- Shadows: 4
- SharpenDetail: 11
- SharpenEdgeMasking: 0
- SharpenRadius: +0.9
- Sharpness: 132
- SplitToningBalance: +59
- SplitToningHighlightHue: 170
- SplitToningHighlightSaturation: 7
- SplitToningShadowHue: 183
- SplitToningShadowSaturation: 8
- Temperature: 3049
- Tint: -22
- ToneCurve: 0, 0, 255, 255
- ToneCurveName: Linear
- Version: 5.6
- Vibrance: +16
- VignetteAmount: 0
- WhiteBalance: Custom
- XMP-dc
- Creator: KUZOVNIKOV Andrey Nikolaevich
- Rights: Kuzovnikov A.N.
- XMP-exif
- DateTimeDigitized: 2010:04:17 18:10:02.82+04:00
- DateTimeOriginal: 2010:04:17 18:10:02.82+04:00
- ExifImageHeight: 800
- ExifImageWidth: 1200
- FlashFired: False
- FlashFunction: False
- FlashMode: Off
- FlashRedEyeMode: False
- FlashReturn: No return detection
- XMP-tiff
- ImageHeight: 800
- ImageWidth: 1200
- XMP-xmp
- CreateDate: 2010:04:17 18:10:02.82+04:00
- ModifyDate: 2010:04:29 20:24:05+04:00
- Просмотров: 827
- Рейтинг: голосов еще нет
- Отзывов: 0
Получить код для блога
| Вставка фотографии в текущем разрешении |
Вставка миниатюры |
HTML (для вставки в блог):
BBCode (для вставки в форум):
Ссылка на фото:
Ссылка на миниатюру:
- Послать ссылку другу
| Комментарии к фотографии |