| » Участники » Andey from Penza » Альбом #4 » 20100418_21-05-43_IMG_7908.jpg |
Уважаемые друзья и участники проекта iXBT.photo! К сожалению, 1 марта 2026 года проект iXBT.photo прекратит свою работу и будет закрыт. Мы высоко ценим ваше участие и тот вклад, который вы внесли в развитие нашего сообщества. Пожалуйста, не забудьте сохранить ваши фотографии до этой даты.
С уважением, команда iXBT.com
| 20100418_21-05-43_IMG_7908.jpg |
20100418_21-05-43_IMG_7908.jpg
- Раздел: Другое, разное
- Дата съёмки: 18.04.2010 21:05
- Дата загрузки фото: 06.05.2010 16:23
- Оригинальная фотография: 1500 x 1000 (1,2 Мб)
- Технические характеристики:
- Фотоаппарат: Canon EOS 500D
- Выдержка: 1/80
- Гиперфокальное расстояние: inf m
- Диафрагма: 2,5
- Светочувствительность: 800
- Фокусное расстояние: 35,0 mm (35 mm equivalent: 175,0 mm)
- Полный EXIF
- Adobe
- ColorTransform: YCbCr
- Composite
- Aperture: 2,5
- CircleOfConfusion: 0,006 mm
- FOV: 11,0 deg
- FocalLength35efl: 35,0 mm (35 mm equivalent: 175,0 mm)
- HyperfocalDistance: inf m
- ScaleFactor35efl: 5,0
- ShutterSpeed: 1/80
- ExifIFD
- ApertureValue: 2,5
- CreateDate: 2010:04:18 21:05:43
- CustomRendered: Normal
- DateTimeOriginal: 2010:04:18 21:05:43
- ExposureCompensation: 0
- ExposureMode: Auto
- ExposureProgram: Aperture-priority AE
- ExposureTime: 1/80
- FNumber: 2,5
- Flash: Off, Did not fire
- FocalLength: 35,0 mm
- ISO: 800
- MaxApertureValue: 2,0
- MeteringMode: Center-weighted average
- SceneCaptureType: Standard
- ShutterSpeedValue: 1/80
- WhiteBalance: Auto
- ICC-header
- ICC-meas
- ICC-view
- IFD0
- Artist: KUZOVNIKOV Andrey Nikolaevich
- tel. 89631000777:
- Copyright: Kuzovnikov A.N.
- e-mail: a_kuzovnikov@yahoo.com
- Make: Canon
- Model: Canon EOS 500D
- ModifyDate: 2010:05:06 16:21:19
- IFD1
- IPTC
- By-line: KUZOVNIKOV Andrey Nikolaevich
te
- CopyrightNotice: Kuzovnikov A.N.
e-mail: a_kuzovnikov@yahoo.com
- System
- XMP-aux
- Firmware: 1.0.9
- FlashCompensation: 0
- ImageNumber: 0
- Lens: EF35mm f/2
- LensID: 11
- LensInfo: 35/1 35/1 0/0 0/0
- OwnerName: Kuzovnikov Andrey Nikolaevich
- SerialNumber: 330110626
- XMP-crs
- AlreadyApplied: True
- BlueHue: 0
- BlueSaturation: 0
- Brightness: +65
- CameraProfile: Camera Faithful
- ChromaticAberrationB: 0
- ChromaticAberrationR: 0
- Clarity: 0
- ColorNoiseReduction: 25
- Contrast: +23
- ConvertToGrayscale: False
- Defringe: 0
- Exposure: +0.40
- FillLight: 20
- GreenHue: 0
- GreenSaturation: 0
- HasCrop: False
- HasSettings: True
- HighlightRecovery: 0
- HueAdjustmentAqua: 0
- HueAdjustmentBlue: 0
- HueAdjustmentGreen: 0
- HueAdjustmentMagenta: 0
- HueAdjustmentOrange: 0
- HueAdjustmentPurple: 0
- HueAdjustmentRed: 0
- HueAdjustmentYellow: 0
- LuminanceAdjustmentAqua: 0
- LuminanceAdjustmentBlue: 0
- LuminanceAdjustmentGreen: 0
- LuminanceAdjustmentMagenta: 0
- LuminanceAdjustmentOrange: +23
- LuminanceAdjustmentPurple: 0
- LuminanceAdjustmentRed: 0
- LuminanceAdjustmentYellow: +2
- LuminanceSmoothing: 0
- ParametricDarks: 0
- ParametricHighlightSplit: 75
- ParametricHighlights: 0
- ParametricLights: +9
- ParametricMidtoneSplit: 50
- ParametricShadowSplit: 25
- ParametricShadows: 0
- PostCropVignetteAmount: 0
- RedHue: 0
- RedSaturation: 0
- Saturation: +6
- SaturationAdjustmentAqua: 0
- SaturationAdjustmentBlue: 0
- SaturationAdjustmentGreen: 0
- SaturationAdjustmentMagenta: 0
- SaturationAdjustmentOrange: -19
- SaturationAdjustmentPurple: 0
- SaturationAdjustmentRed: 0
- SaturationAdjustmentYellow: -1
- ShadowTint: 0
- Shadows: 5
- SharpenDetail: 8
- SharpenEdgeMasking: 0
- SharpenRadius: +0.6
- Sharpness: 132
- SplitToningBalance: 0
- SplitToningHighlightHue: 0
- SplitToningHighlightSaturation: 0
- SplitToningShadowHue: 0
- SplitToningShadowSaturation: 0
- Temperature: 2864
- Tint: -11
- ToneCurve: 0, 0, 32, 16, 64, 50, 128, 128, 192, 202, 255, 255
- ToneCurveName: Strong Contrast
- Version: 5.6
- Vibrance: +53
- VignetteAmount: 0
- WhiteBalance: Custom
- XMP-dc
- Creator: KUZOVNIKOV Andrey Nikolaevich
- Rights: Kuzovnikov A.N.
- XMP-exif
- DateTimeDigitized: 2010:04:18 21:05:43.22+04:00
- DateTimeOriginal: 2010:04:18 21:05:43.22+04:00
- ExifImageHeight: 1000
- ExifImageWidth: 1500
- FlashFired: False
- FlashFunction: False
- FlashMode: Off
- FlashRedEyeMode: False
- FlashReturn: No return detection
- XMP-tiff
- ImageHeight: 1000
- ImageWidth: 1500
- XMP-xmp
- CreateDate: 2010:04:18 21:05:43.22+04:00
- ModifyDate: 2010:05:06 16:21:19+04:00
- Просмотров: 289
- Рейтинг: голосов еще нет
- Отзывов: 0
Получить код для блога
| Вставка фотографии в текущем разрешении |
Вставка миниатюры |
HTML (для вставки в блог):
BBCode (для вставки в форум):
Ссылка на фото:
Ссылка на миниатюру:
- Послать ссылку другу
| Комментарии к фотографии |