| » Участники » Andey from Penza » Альбом #4 » 20100501_13-42-50_IMG_8442.jpg |
Уважаемые друзья и участники проекта iXBT.photo! К сожалению, 1 марта 2026 года проект iXBT.photo прекратит свою работу и будет закрыт. Мы высоко ценим ваше участие и тот вклад, который вы внесли в развитие нашего сообщества. Пожалуйста, не забудьте сохранить ваши фотографии до этой даты.
С уважением, команда iXBT.com
| 20100501_13-42-50_IMG_8442.jpg |
20100501_13-42-50_IMG_8442.jpg
- Раздел: Другое, разное
- Дата съёмки: 01.05.2010 13:42
- Дата загрузки фото: 06.05.2010 16:24
- Оригинальная фотография: 1500 x 1000 (809 Кб)
- Технические характеристики:
- Фотоаппарат: Canon EOS 500D
- Выдержка: 1/640
- Гиперфокальное расстояние: inf m
- Диафрагма: 2,8
- Светочувствительность: 100
- Фокусное расстояние: 35,0 mm (35 mm equivalent: 175,0 mm)
- Полный EXIF
- Adobe
- ColorTransform: YCbCr
- Composite
- Aperture: 2,8
- CircleOfConfusion: 0,006 mm
- FOV: 11,0 deg
- FocalLength35efl: 35,0 mm (35 mm equivalent: 175,0 mm)
- HyperfocalDistance: inf m
- ScaleFactor35efl: 5,0
- ShutterSpeed: 1/640
- ExifIFD
- ApertureValue: 2,8
- CreateDate: 2010:05:01 13:42:50
- CustomRendered: Normal
- DateTimeOriginal: 2010:05:01 13:42:50
- ExposureCompensation: 0
- ExposureMode: Auto
- ExposureProgram: Aperture-priority AE
- ExposureTime: 1/640
- FNumber: 2,8
- Flash: Off, Did not fire
- FocalLength: 35,0 mm
- ISO: 100
- MaxApertureValue: 2,0
- MeteringMode: Center-weighted average
- SceneCaptureType: Standard
- ShutterSpeedValue: 1/640
- WhiteBalance: Auto
- ICC-header
- ICC-meas
- ICC-view
- IFD0
- Artist: KUZOVNIKOV Andrey Nikolaevich
- tel. 89631000777:
- Copyright: Kuzovnikov A.N.
- e-mail: a_kuzovnikov@yahoo.com
- Make: Canon
- Model: Canon EOS 500D
- ModifyDate: 2010:05:05 21:42:58
- IFD1
- IPTC
- By-line: KUZOVNIKOV Andrey Nikolaevich
te
- CopyrightNotice: Kuzovnikov A.N.
e-mail: a_kuzovnikov@yahoo.com
- System
- XMP-aux
- Firmware: 1.0.9
- FlashCompensation: 0
- ImageNumber: 0
- Lens: EF35mm f/2
- LensID: 11
- LensInfo: 35/1 35/1 0/0 0/0
- OwnerName: Kuzovnikov Andrey Nikolaevich
- SerialNumber: 330110626
- XMP-crs
- AlreadyApplied: True
- BlueHue: +10
- BlueSaturation: +4
- Brightness: +60
- CameraProfile: Camera Faithful
- ChromaticAberrationB: -2
- ChromaticAberrationR: -7
- Clarity: +1
- ColorNoiseReduction: 14
- Contrast: +46
- ConvertToGrayscale: False
- Defringe: 0
- Exposure: 0.00
- FillLight: 3
- GreenHue: +21
- GreenSaturation: +14
- HasCrop: False
- HasSettings: True
- HighlightRecovery: 0
- HueAdjustmentAqua: 0
- HueAdjustmentBlue: 0
- HueAdjustmentGreen: 0
- HueAdjustmentMagenta: 0
- HueAdjustmentOrange: 0
- HueAdjustmentPurple: 0
- HueAdjustmentRed: 0
- HueAdjustmentYellow: 0
- LuminanceAdjustmentAqua: 0
- LuminanceAdjustmentBlue: 0
- LuminanceAdjustmentGreen: 0
- LuminanceAdjustmentMagenta: 0
- LuminanceAdjustmentOrange: -5
- LuminanceAdjustmentPurple: 0
- LuminanceAdjustmentRed: -1
- LuminanceAdjustmentYellow: 0
- LuminanceSmoothing: 8
- ParametricDarks: +6
- ParametricHighlightSplit: 75
- ParametricHighlights: +4
- ParametricLights: +27
- ParametricMidtoneSplit: 51
- ParametricShadowSplit: 26
- ParametricShadows: -13
- PostCropVignetteAmount: 0
- RedHue: +4
- RedSaturation: 0
- Saturation: +1
- SaturationAdjustmentAqua: 0
- SaturationAdjustmentBlue: 0
- SaturationAdjustmentGreen: 0
- SaturationAdjustmentMagenta: 0
- SaturationAdjustmentOrange: -16
- SaturationAdjustmentPurple: 0
- SaturationAdjustmentRed: 0
- SaturationAdjustmentYellow: -4
- ShadowTint: 0
- Shadows: 5
- SharpenDetail: 3
- SharpenEdgeMasking: 0
- SharpenRadius: +0.5
- Sharpness: 132
- SplitToningBalance: 0
- SplitToningHighlightHue: 0
- SplitToningHighlightSaturation: 0
- SplitToningShadowHue: 0
- SplitToningShadowSaturation: 0
- Temperature: 5050
- Tint: -13
- ToneCurve: 0, 0, 255, 255
- ToneCurveName: Linear
- Version: 5.6
- Vibrance: +33
- VignetteAmount: 0
- WhiteBalance: Custom
- XMP-dc
- Creator: KUZOVNIKOV Andrey Nikolaevich
- Rights: Kuzovnikov A.N.
- XMP-exif
- DateTimeDigitized: 2010:05:01 13:42:50.39+04:00
- DateTimeOriginal: 2010:05:01 13:42:50.39+04:00
- ExifImageHeight: 1000
- ExifImageWidth: 1500
- FlashFired: False
- FlashFunction: False
- FlashMode: Off
- FlashRedEyeMode: False
- FlashReturn: No return detection
- XMP-tiff
- ImageHeight: 1000
- ImageWidth: 1500
- XMP-xmp
- CreateDate: 2010:05:01 13:42:50.39+04:00
- ModifyDate: 2010:05:05 21:42:58+04:00
Получить код для блога
| Вставка фотографии в текущем разрешении |
Вставка миниатюры |
HTML (для вставки в блог):
BBCode (для вставки в форум):
Ссылка на фото:
Ссылка на миниатюру:
- Послать ссылку другу
| Комментарии к фотографии |