- Раздел: Другое, разное
- Дата съёмки: 09.05.2010 15:46
- Дата загрузки фото: 18.05.2010 14:30
- Оригинальная фотография: 650 x 433 (100 Кб)
- Технические характеристики:
- Фотоаппарат: Canon EOS 450D
- Выдержка: 1/400
- Гиперфокальное расстояние: inf m
- Диафрагма: 1,8
- Светочувствительность: 100
- Фокусное расстояние: 50,0 mm (35 mm equivalent: 500,0 mm)
- Полный EXIF
- Adobe
- ColorTransform: YCbCr
- Composite
- Aperture: 1,8
- CircleOfConfusion: 0,003 mm
- FOV: 4,0 deg
- FocalLength35efl: 50,0 mm (35 mm equivalent: 500,0 mm)
- HyperfocalDistance: inf m
- ScaleFactor35efl: 10,6
- ShutterSpeed: 1/400
- ExifIFD
- ApertureValue: 1,8
- ColorSpace: sRGB
- CreateDate: 2010:05:09 15:46:23
- CustomRendered: Normal
- DateTimeOriginal: 2010:05:09 15:46:23
- ExifImageHeight: 433
- ExifImageWidth: 650
- ExposureCompensation: 0
- ExposureMode: Manual
- ExposureProgram: Manual
- ExposureTime: 1/400
- FNumber: 1,8
- Flash: Off, Did not fire
- FocalLength: 50,0 mm
- ISO: 100
- MaxApertureValue: 1,4
- MeteringMode: Multi-segment
- SceneCaptureType: Standard
- ShutterSpeedValue: 1/400
- WhiteBalance: Auto
- ICC-header
- ICC-meas
- ICC-view
- IFD0
- BitsPerSample: 8 8 8
- ImageHeight: 2848
- ImageWidth: 4272
- Make: Canon
- Model: Canon EOS 450D
- ModifyDate: 2010:05:18 13:17:48
- Orientation: Horizontal (normal)
- PhotometricInterpretation: RGB
- SamplesPerPixel: 3
- IFD1
- IPTC
- DateCreated: 2010:05:09
- System
- XMP-aux
- Firmware: 1.0.9
- FlashCompensation: 0
- ImageNumber: 0
- Lens: EF50mm f/1.4 USM
- LensID: 198
- LensInfo: 50/1 50/1 0/0 0/0
- SerialNumber: 980397873
- XMP-crs
- AlreadyApplied: True
- BlueHue: 0
- BlueSaturation: -72
- Brightness: -2
- CameraProfile: ACR 4.4
- ChromaticAberrationB: +6
- ChromaticAberrationR: 0
- Clarity: +100
- ColorNoiseReduction: 9
- ColorNoiseReductionDetail: 50
- Contrast: +52
- ConvertToGrayscale: False
- Defringe: 0
- Exposure: +1.89
- FillLight: 25
- GrainAmount: 0
- GreenHue: 0
- GreenSaturation: 0
- HasCrop: False
- HasSettings: True
- HighlightRecovery: 100
- HueAdjustmentAqua: 0
- HueAdjustmentBlue: 0
- HueAdjustmentGreen: -8
- HueAdjustmentMagenta: +4
- HueAdjustmentOrange: +6
- HueAdjustmentPurple: -13
- HueAdjustmentRed: -6
- HueAdjustmentYellow: -4
- LuminanceAdjustmentAqua: 0
- LuminanceAdjustmentBlue: 0
- LuminanceAdjustmentGreen: 0
- LuminanceAdjustmentMagenta: 0
- LuminanceAdjustmentOrange: 0
- LuminanceAdjustmentPurple: 0
- LuminanceAdjustmentRed: 0
- LuminanceAdjustmentYellow: 0
- LuminanceNoiseReductionContrast: 0
- LuminanceNoiseReductionDetail: 50
- LuminanceSmoothing: 28
- PaintCorrectionActive: true
- PaintCorrectionAmount: 1.000000
- PaintCorrectionBrightness: 0.000000
- PaintCorrectionClarity: 0.000000
- PaintCorrectionContrast: 0.000000
- PaintCorrectionExposure: -0.045000
- PaintCorrectionHue: 0.000000
- PaintCorrectionMaskCenterWeight: 0.000000
- PaintCorrectionMaskFlow: 1.000000
- PaintCorrectionMaskRadius: 0.069953
- PaintCorrectionMaskValue: 1.000000
- PaintCorrectionMaskWhat: Mask/Paint
- PaintCorrectionSaturation: 0.000000
- PaintCorrectionSharpness: 0.000000
- PaintCorrectionWhat: Correction
- ParametricDarks: +13
- ParametricHighlightSplit: 90
- ParametricHighlights: +36
- ParametricLights: +60
- ParametricMidtoneSplit: 58
- ParametricShadowSplit: 36
- ParametricShadows: -34
- PostCropVignetteAmount: 0
- ProcessVersion: 5.7
- RedHue: 0
- RedSaturation: 0
- Saturation: -18
- SaturationAdjustmentAqua: 0
- SaturationAdjustmentBlue: 0
- SaturationAdjustmentGreen: 0
- SaturationAdjustmentMagenta: 0
- SaturationAdjustmentOrange: 0
- SaturationAdjustmentPurple: 0
- SaturationAdjustmentRed: 0
- SaturationAdjustmentYellow: 0
- ShadowTint: 0
- Shadows: 0
- SharpenDetail: 25
- SharpenEdgeMasking: 0
- SharpenRadius: +1.0
- Sharpness: 49
- SplitToningBalance: -1
- SplitToningHighlightHue: 47
- SplitToningHighlightSaturation: 33
- SplitToningShadowHue: 0
- SplitToningShadowSaturation: 0
- Temperature: 4768
- Tint: +10
- ToneCurve: 0, 0, 255, 255
- ToneCurveName: Linear
- Version: 6.0
- Vibrance: +1
- VignetteAmount: -100
- VignetteMidpoint: 0
- WhiteBalance: Custom
- XMP-dc
- XMP-exif
- DateTimeDigitized: 2010:05:09 15:46:23+04:00
- DateTimeOriginal: 2010:05:09 15:46:23+04:00
- FlashFired: False
- FlashFunction: False
- FlashMode: Off
- FlashRedEyeMode: False
- FlashReturn: No return detection
- XMP-tiff
- BitsPerSample: 8, 8, 8
- XMP-xmp
- CreateDate: 2010:05:18 10:51:20+04:00
- ModifyDate: 2010:05:18 13:17:48+04:00
- XMP-xmpMM