- Раздел: Природа
- Дата съёмки: 17.05.2010 14:24
- Дата загрузки фото: 20.05.2010 18:17
- Оригинальная фотография: 2000 x 1333 (697 Кб)
- Технические характеристики:
- Фотоаппарат: Canon EOS-1D Mark III
- Выдержка: 1/500
- Гиперфокальное расстояние: inf m
- Диафрагма: 4,0
- Светочувствительность: 250
- Фокусное расстояние: 155,0 mm (35 mm equivalent: 310,0 mm)
- Полный EXIF
- Composite
- Aperture: 4,0
- CircleOfConfusion: 0,012 mm
- DOF: inf (0,00 m - inf)
- FOV: 6,0 deg
- FocalLength35efl: 155,0 mm (35 mm equivalent: 310,0 mm)
- HyperfocalDistance: inf m
- ScaleFactor35efl: 2,5
- ShutterSpeed: 1/500
- ExifIFD
- ApertureValue: 4,0
- CreateDate: 2010:05:17 14:24:54
- CustomRendered: Normal
- DateTimeOriginal: 2010:05:17 14:24:54
- ExifImageHeight: 1333
- ExifImageWidth: 2000
- ExposureCompensation: 0
- ExposureMode: Auto
- ExposureProgram: Aperture-priority AE
- ExposureTime: 1/500
- FNumber: 4,0
- Flash: No Flash
- FocalLength: 155,0 mm
- ISO: 250
- MaxApertureValue: 4,0
- MeteringMode: Center-weighted average
- SceneCaptureType: Standard
- ShutterSpeedValue: 1/500
- SubjectDistance: 6,3 m
- WhiteBalance: Auto
- ICC-header
- ICC-meas
- ICC-view
- IFD0
- Artist: demakov.ru
- Make: Canon
- Model: Canon EOS-1D Mark III
- ModifyDate: 2010:05:20 18:16:46
- Orientation: Horizontal (normal)
- Software: ACD Systems Digital Imaging
- IFD1
- IPTC
- System
- XMP-aux
- Firmware: 1.3.0
- FlashCompensation: 0
- ImageNumber: 0
- Lens: EF70-200mm f/4L IS USM
- LensID: 242
- LensInfo: 70/1 200/1 0/0 0/0
- OwnerName: demakov.ru
- SerialNumber: 543680
- XMP-crs
- AlreadyApplied: True
- BlueHue: 0
- BlueSaturation: 0
- Brightness: +60
- CameraProfile: Camera Faithful
- ChromaticAberrationB: 0
- ChromaticAberrationR: 0
- Clarity: -33
- ColorNoiseReduction: 5
- ColorNoiseReductionDetail: 50
- Contrast: +25
- ConvertToGrayscale: False
- Defringe: 0
- Exposure: +0.23
- FillLight: 0
- GrainAmount: 8
- GrainFrequency: 50
- GrainSize: 25
- GreenHue: 0
- GreenSaturation: 0
- HasCrop: False
- HasSettings: True
- HighlightRecovery: 0
- HueAdjustmentAqua: 0
- HueAdjustmentBlue: 0
- HueAdjustmentGreen: 0
- HueAdjustmentMagenta: 0
- HueAdjustmentOrange: 0
- HueAdjustmentPurple: 0
- HueAdjustmentRed: 0
- HueAdjustmentYellow: 0
- LuminanceAdjustmentAqua: 0
- LuminanceAdjustmentBlue: 0
- LuminanceAdjustmentGreen: 0
- LuminanceAdjustmentMagenta: 0
- LuminanceAdjustmentOrange: 0
- LuminanceAdjustmentPurple: 0
- LuminanceAdjustmentRed: 0
- LuminanceAdjustmentYellow: 0
- LuminanceSmoothing: 0
- ParametricDarks: 0
- ParametricHighlightSplit: 75
- ParametricHighlights: 0
- ParametricLights: 0
- ParametricMidtoneSplit: 50
- ParametricShadowSplit: 25
- ParametricShadows: 0
- PostCropVignetteAmount: -24
- PostCropVignetteFeather: 50
- PostCropVignetteHighlightContrast: 0
- PostCropVignetteMidpoint: 50
- PostCropVignetteRoundness: 0
- PostCropVignetteStyle: 1
- ProcessVersion: 5.7
- RedHue: 0
- RedSaturation: 0
- Saturation: 0
- SaturationAdjustmentAqua: 0
- SaturationAdjustmentBlue: 0
- SaturationAdjustmentGreen: +66
- SaturationAdjustmentMagenta: 0
- SaturationAdjustmentOrange: -17
- SaturationAdjustmentPurple: 0
- SaturationAdjustmentRed: 0
- SaturationAdjustmentYellow: 0
- ShadowTint: 0
- Shadows: 5
- SharpenDetail: 25
- SharpenEdgeMasking: 0
- SharpenRadius: +1.0
- Sharpness: 0
- SplitToningBalance: 0
- SplitToningHighlightHue: 0
- SplitToningHighlightSaturation: 0
- SplitToningShadowHue: 0
- SplitToningShadowSaturation: 0
- Temperature: 5908
- Tint: +15
- ToneCurve: 0, 0, 32, 22, 64, 56, 128, 128, 192, 196, 255, 255
- ToneCurveName: Medium Contrast
- Version: 6.0
- Vibrance: 0
- VignetteAmount: 0
- WhiteBalance: Custom
- XMP-dc
- XMP-exif
- DateTimeDigitized: 2010:05:17 14:24:54.41+3:00
- DateTimeOriginal: 2010:05:17 14:24:54.41+3:00
- ExifImageHeight: 2592
- ExifImageWidth: 3888
- FlashFired: False
- FlashFunction: False
- FlashMode: Unknown
- FlashRedEyeMode: False
- FlashReturn: No return detection
- XMP-tiff
- ImageHeight: 2592
- ImageWidth: 3888
- XMP-x
- XMP-xmp
- CreateDate: 2010:05:17 15:24:54.41+04:00
- ModifyDate: 2010:05:20 17:16:12.0+3:00