- Раздел: Другое, разное
- Дата съёмки: 22.03.2009 12:27
- Дата загрузки фото: 21.05.2010 20:07
- Оригинальная фотография: 402 x 600 (154 Кб)
- Технические характеристики:
- Фотоаппарат: Canon EOS DIGITAL REBEL XTi
- Выдержка: 1/125
- Гиперфокальное расстояние: inf m
- Диафрагма: 9,0
- Светочувствительность:
- Фокусное расстояние: 42,0 mm (35 mm equivalent: 420,0 mm)
- Экспокоррекция: +1/3
- Полный EXIF
- Composite
- Aperture: 9,0
- CircleOfConfusion: 0,003 mm
- FOV: 4,0 deg
- FocalLength35efl: 42,0 mm (35 mm equivalent: 420,0 mm)
- HyperfocalDistance: inf m
- ScaleFactor35efl: 10,5
- ShutterSpeed: 1/125
- ExifIFD
- ApertureValue: 9,0
- ColorSpace: Unknown ()
- CreateDate: 2009:03:22 12:27:31
- CustomRendered: Normal
- DateTimeOriginal: 2009:03:22 12:27:31
- ExifImageHeight: 600
- ExifImageWidth: 402
- ExposureCompensation: +1/3
- ExposureMode: Auto
- ExposureProgram: Aperture-priority AE
- ExposureTime: 1/125
- FNumber: 9,0
- Flash: Off, Did not fire
- FocalLength: 42,0 mm
- ISO:
- MaxApertureValue: 2,8
- MeteringMode: Average
- SceneCaptureType: Standard
- ShutterSpeedValue: 1/125
- WhiteBalance: Manual
- ICC-header
- IFD0
- Artist: unknown
- Make: Canon
- Model: Canon EOS DIGITAL REBEL XTi
- ModifyDate: 2010:05:21 19:09:54
- Orientation: Horizontal (normal)
- Software: ACD Systems Digital Imaging
- IFD1
- IPTC
- System
- XMP-aux
- Firmware: 1.1.1
- FlashCompensation: 0
- ImageNumber: 224
- Lens: 28.0-75.0 mm
- LensInfo: 28/1 75/1 0/0 0/0
- OwnerName: unknown
- SerialNumber: 2371208005
- XMP-crs
- AlreadyApplied: True
- BlueHue: 0
- BlueSaturation: 0
- Brightness: +11
- CameraProfile: ACR 2.4
- ChromaticAberrationB: 0
- ChromaticAberrationR: 0
- Clarity: 70
- ColorNoiseReduction: 25
- Contrast: +2
- ConvertToGrayscale: False
- Defringe: 0
- Exposure: +1.67
- FillLight: 7
- GreenHue: 0
- GreenSaturation: 0
- HasCrop: False
- HasSettings: True
- HighlightRecovery: 100
- HueAdjustmentAqua: 0
- HueAdjustmentBlue: 0
- HueAdjustmentGreen: 0
- HueAdjustmentMagenta: 0
- HueAdjustmentOrange: 0
- HueAdjustmentPurple: 0
- HueAdjustmentRed: 0
- HueAdjustmentYellow: 0
- IncrementalTemperature: -2
- IncrementalTint: -5
- LuminanceAdjustmentAqua: 0
- LuminanceAdjustmentBlue: 0
- LuminanceAdjustmentGreen: 0
- LuminanceAdjustmentMagenta: 0
- LuminanceAdjustmentOrange: 0
- LuminanceAdjustmentPurple: 0
- LuminanceAdjustmentRed: 0
- LuminanceAdjustmentYellow: 0
- LuminanceSmoothing: 0
- ParametricDarks: 0
- ParametricHighlightSplit: 75
- ParametricHighlights: 0
- ParametricLights: 0
- ParametricMidtoneSplit: 50
- ParametricShadowSplit: 25
- ParametricShadows: 0
- RedHue: 0
- RedSaturation: 0
- Saturation: -55
- SaturationAdjustmentAqua: 0
- SaturationAdjustmentBlue: -13
- SaturationAdjustmentGreen: 0
- SaturationAdjustmentMagenta: 0
- SaturationAdjustmentOrange: +26
- SaturationAdjustmentPurple: 0
- SaturationAdjustmentRed: 0
- SaturationAdjustmentYellow: -55
- ShadowTint: -2
- Shadows: 15
- SharpenDetail: 25
- SharpenEdgeMasking: 0
- SharpenRadius: +1.0
- Sharpness: 25
- SplitToningBalance: 0
- SplitToningHighlightHue: 61
- SplitToningHighlightSaturation: 26
- SplitToningShadowHue: 237
- SplitToningShadowSaturation: 37
- ToneCurve: 0, 0, 32, 22, 64, 56, 128, 128, 192, 196, 255, 255
- ToneCurveName: Medium Contrast
- Version: 1.0
- Vibrance: +19
- VignetteAmount: -100
- VignetteMidpoint: 22
- WhiteBalance: Custom
- XMP-dc
- Creator: unknown
- Format: image/jpeg
- XMP-exif
- ColorSpace: Unknown (0)
- DateTimeDigitized: 2009:03:22 12:27:310Z
- DateTimeOriginal: 2009:03:22 12:27:310Z
- ExifImageHeight: 3928
- ExifImageWidth: 2632
- FlashFired: False
- FlashFunction: False
- FlashMode: Off
- FlashRedEyeMode: False
- FlashReturn: No return detection
- XMP-tiff
- ImageHeight: 3888
- ImageWidth: 2592
- XMP-x
- XMP-xmp
- CreateDate: 2009:03:22 14:27:31+02:00
- ModifyDate: 2009:03:23 18:54:510Z
- XMP-xmpMM