- Раздел: Отдых, развлечения
- Дата съёмки: 27.03.2009 09:57
- Дата загрузки фото: 22.05.2010 01:06
- Оригинальная фотография: 1255 x 714 (704 Кб)
- Технические характеристики:
- Фотоаппарат: Nikon COOLPIX P80
- Выдержка: 1/500
- Гиперфокальное расстояние: inf m
- Диафрагма: 5,6
- Светочувствительность: 64
- Фокусное расстояние: 21,0 mm (35 mm equivalent: 105,0 mm)
- Полный EXIF
- Adobe
- ColorTransform: YCbCr
- Composite
- Aperture: 5,6
- CircleOfConfusion: 0,005 mm
- FOV: 19,0 deg
- FocalLength35efl: 21,0 mm (35 mm equivalent: 105,0 mm)
- HyperfocalDistance: inf m
- ScaleFactor35efl: 5,7
- ShutterSpeed: 1/500
- ExifIFD
- ApertureValue: 5,6
- Contrast: Normal
- CreateDate: 2009:03:27 09:57:15
- CustomRendered: Normal
- DateTimeOriginal: 2009:03:27 09:57:15
- DigitalZoomRatio: 0
- ExposureCompensation: 0
- ExposureMode: Auto
- ExposureProgram: Shutter speed priority AE
- ExposureTime: 1/500
- FNumber: 5,6
- Flash: Off, Did not fire
- FocalLength: 21,0 mm
- FocalLengthIn35mmFormat: 119 mm
- GainControl: None
- ISO: 64
- LightSource: Unknown
- MaxApertureValue: 2,8
- MeteringMode: Multi-segment
- Saturation: Normal
- SceneCaptureType: Standard
- SceneType: Directly photographed
- Sharpness: Normal
- ShutterSpeedValue: 1/500
- SubjectDistanceRange: Unknown
- WhiteBalance: Auto
- ICC-header
- ICC-meas
- ICC-view
- IFD0
- Artist: Genady Chenkin
- Copyright: (C)2009 {Genady Chenkin}, all rights reserved
- Make: NIKON
- Model: COOLPIX P80
- ModifyDate: 2009:03:28 11:11:20
- XPKeywords: flowers;home;Narcissus;Dew
- IFD1
- IPTC
- By-line: Genady Chenkin
- CopyrightNotice: Genady Chenkin
- Keywords: Dew, Narcissus, flowers, home
- Sub-location: Warminster, PA
- System
- XMP-crs
- AlreadyApplied: True
- BlueHue: 0
- BlueSaturation: 0
- Brightness: 0
- CameraProfile: Embedded
- ChromaticAberrationB: 0
- ChromaticAberrationR: 0
- Clarity: +100
- ColorNoiseReduction: 0
- Contrast: 0
- ConvertToGrayscale: False
- CropAngle: 0
- CropBottom: 0.562863
- CropHeight: 714
- CropLeft: 0.087083
- CropRight: 0.431059
- CropTop: 0.301741
- CropUnit: pixels
- CropWidth: 1255
- Defringe: 0
- Exposure: 0.00
- FillLight: 0
- GreenHue: 0
- GreenSaturation: 0
- HasCrop: True
- HasSettings: True
- HighlightRecovery: 0
- HueAdjustmentAqua: 0
- HueAdjustmentBlue: 0
- HueAdjustmentGreen: 0
- HueAdjustmentMagenta: 0
- HueAdjustmentOrange: 0
- HueAdjustmentPurple: 0
- HueAdjustmentRed: 0
- HueAdjustmentYellow: 0
- IncrementalTemperature: 0
- IncrementalTint: 0
- LuminanceAdjustmentAqua: 0
- LuminanceAdjustmentBlue: 0
- LuminanceAdjustmentGreen: 0
- LuminanceAdjustmentMagenta: 0
- LuminanceAdjustmentOrange: 0
- LuminanceAdjustmentPurple: 0
- LuminanceAdjustmentRed: 0
- LuminanceAdjustmentYellow: 0
- LuminanceSmoothing: 0
- ParametricDarks: 0
- ParametricHighlightSplit: 75
- ParametricHighlights: 0
- ParametricLights: 0
- ParametricMidtoneSplit: 50
- ParametricShadowSplit: 25
- ParametricShadows: 0
- PostCropVignetteAmount: 0
- RedHue: 0
- RedSaturation: 0
- Saturation: 0
- SaturationAdjustmentAqua: 0
- SaturationAdjustmentBlue: 0
- SaturationAdjustmentGreen: 0
- SaturationAdjustmentMagenta: 0
- SaturationAdjustmentOrange: 0
- SaturationAdjustmentPurple: 0
- SaturationAdjustmentRed: 0
- SaturationAdjustmentYellow: 0
- ShadowTint: 0
- Shadows: 0
- SharpenDetail: 25
- SharpenEdgeMasking: 38
- SharpenRadius: +0.9
- Sharpness: 61
- SplitToningBalance: 0
- SplitToningHighlightHue: 0
- SplitToningHighlightSaturation: 0
- SplitToningShadowHue: 0
- SplitToningShadowSaturation: 0
- ToneCurve: 0, 0, 255, 255
- ToneCurveName: Linear
- Version: 5.3
- Vibrance: +10
- VignetteAmount: 0
- WhiteBalance: As Shot
- XMP-crss
- SavedSettingsName: Import
- SavedSettingsParametersBlueHue: 0
- SavedSettingsParametersBlueSaturation: 0
- SavedSettingsParametersBrightness: 0
- SavedSettingsParametersCameraProfile: Embedded
- SavedSettingsParametersChromaticAberrationB: 0
- SavedSettingsParametersChromaticAberrationR: 0
- SavedSettingsParametersClarity: 0
- SavedSettingsParametersColorNoiseReduction: 0
- SavedSettingsParametersContrast: 0
- SavedSettingsParametersConvertToGrayscale: False
- SavedSettingsParametersDefringe: 0
- SavedSettingsParametersExposure: 0.00
- SavedSettingsParametersFillLight: 0
- SavedSettingsParametersGreenHue: 0
- SavedSettingsParametersGreenSaturation: 0
- SavedSettingsParametersHighlightRecovery: 0
- SavedSettingsParametersHueAdjustmentAqua: 0
- SavedSettingsParametersHueAdjustmentBlue: 0
- SavedSettingsParametersHueAdjustmentGreen: 0
- SavedSettingsParametersHueAdjustmentMagenta: 0
- SavedSettingsParametersHueAdjustmentOrange: 0
- SavedSettingsParametersHueAdjustmentPurple: 0
- SavedSettingsParametersHueAdjustmentRed: 0
- SavedSettingsParametersHueAdjustmentYellow: 0
- SavedSettingsParametersIncrementalTemperature: 0
- SavedSettingsParametersIncrementalTint: 0
- SavedSettingsParametersLuminanceAdjustmentAqua: 0
- SavedSettingsParametersLuminanceAdjustmentBlue: 0
- SavedSettingsParametersLuminanceAdjustmentGreen: 0
- SavedSettingsParametersLuminanceAdjustmentMagenta: 0
- SavedSettingsParametersLuminanceAdjustmentOrange: 0
- SavedSettingsParametersLuminanceAdjustmentPurple: 0
- SavedSettingsParametersLuminanceAdjustmentRed: 0
- SavedSettingsParametersLuminanceAdjustmentYellow: 0
- SavedSettingsParametersLuminanceSmoothing: 0
- SavedSettingsParametersParametricDarks: 0
- SavedSettingsParametersParametricHighlightSplit: 75
- SavedSettingsParametersParametricHighlights: 0
- SavedSettingsParametersParametricLights: 0
- SavedSettingsParametersParametricMidtoneSplit: 50
- SavedSettingsParametersParametricShadowSplit: 25
- SavedSettingsParametersParametricShadows: 0
- SavedSettingsParametersPostCropVignetteAmount: 0
- SavedSettingsParametersRedHue: 0
- SavedSettingsParametersRedSaturation: 0
- SavedSettingsParametersSaturation: 0
- SavedSettingsParametersSaturationAdjustmentAqua: 0
- SavedSettingsParametersSaturationAdjustmentBlue: 0
- SavedSettingsParametersSaturationAdjustmentGreen: 0
- SavedSettingsParametersSaturationAdjustmentMagenta: 0
- SavedSettingsParametersSaturationAdjustmentOrange: 0
- SavedSettingsParametersSaturationAdjustmentPurple: 0
- SavedSettingsParametersSaturationAdjustmentRed: 0
- SavedSettingsParametersSaturationAdjustmentYellow: 0
- SavedSettingsParametersShadowTint: 0
- SavedSettingsParametersShadows: 0
- SavedSettingsParametersSharpenDetail: 25
- SavedSettingsParametersSharpenEdgeMasking: 0
- SavedSettingsParametersSharpenRadius: +1.0
- SavedSettingsParametersSharpness: 0
- SavedSettingsParametersSplitToningBalance: 0
- SavedSettingsParametersSplitToningHighlightHue: 0
- SavedSettingsParametersSplitToningHighlightSaturation: 0
- SavedSettingsParametersSplitToningShadowHue: 0
- SavedSettingsParametersSplitToningShadowSaturation: 0
- SavedSettingsParametersToneCurve: 0, 0, 255, 255
- SavedSettingsParametersToneCurveName: Linear
- SavedSettingsParametersVersion: 5.4
- SavedSettingsParametersVibrance: 0
- SavedSettingsParametersVignetteAmount: 0
- SavedSettingsParametersWhiteBalance: As Shot
- SavedSettingsType: Snapshot
- XMP-dc
- Creator: Genady Chenkin
- Rights: Genady Chenkin
- Subject: Dew, Narcissus, flowers, home
- XMP-exif
- DateTimeDigitized: 2009:03:27 09:57:15-04:00
- DateTimeOriginal: 2009:03:27 09:57:15-04:00
- ExifImageHeight: 714
- ExifImageWidth: 1255
- FlashFired: False
- FlashFunction: False
- FlashMode: Off
- FlashRedEyeMode: False
- FlashReturn: No return detection
- XMP-iptcCore
- CreatorCity: Warminster
- CreatorRegion: PA
- Location: Warminster, PA
- XMP-lr
- HierarchicalSubject: Dew, Narcissus, flowers, home
- XMP-microsoft
- LastKeywordIPTC: flowers, home, Narcissus, Dew
- LastKeywordXMP: flowers, home, Narcissus, Dew
- RatingPercent: 0
- XMP-tiff
- ImageHeight: 714
- ImageWidth: 1255
- Orientation: Horizontal (normal)
- XMP-xmp
- CreateDate: 2009:03:27 09:57:15-04:00
- ModifyDate: 2009:03:28 11:11:20-04:00
- XMP-xmpRights
- Marked: True
- UsageTerms: For consideration only, no reproduction without prior permission