- Раздел: Отдых, развлечения
- Дата съёмки: 01.07.2009 21:53
- Дата загрузки фото: 22.05.2010 01:50
- Оригинальная фотография: 3597 x 2623 (4,0 Мб)
- Технические характеристики:
- Фотоаппарат: Nikon COOLPIX P80
- Выдержка: 0,5
- Гиперфокальное расстояние: inf m
- Диафрагма: 4,0
- Светочувствительность: 400
- Фокусное расстояние: 13,0 mm (35 mm equivalent: 65,0 mm)
- Экспокоррекция: +2
- Полный EXIF
- Adobe
- ColorTransform: YCbCr
- Composite
- Aperture: 4,0
- CircleOfConfusion: 0,005 mm
- FOV: 30,0 deg
- FocalLength35efl: 13,0 mm (35 mm equivalent: 65,0 mm)
- HyperfocalDistance: inf m
- ScaleFactor35efl: 5,8
- ShutterSpeed: 0,5
- ExifIFD
- ApertureValue: 4,0
- Contrast: Normal
- CreateDate: 2009:07:01 21:53:55
- CustomRendered: Normal
- DateTimeOriginal: 2009:07:01 21:53:55
- DigitalZoomRatio: 0
- ExposureCompensation: +2
- ExposureMode: Auto
- ExposureProgram: Program AE
- ExposureTime: 0,5
- FNumber: 4,0
- Flash: Off, Did not fire
- FocalLength: 13,4 mm
- FocalLengthIn35mmFormat: 76 mm
- GainControl: High gain up
- ISO: 400
- LightSource: Unknown
- MaxApertureValue: 2,8
- MeteringMode: Multi-segment
- Saturation: Normal
- SceneCaptureType: Night
- SceneType: Directly photographed
- Sharpness: Normal
- ShutterSpeedValue: 0,5
- SubjectDistanceRange: Unknown
- WhiteBalance: Auto
- ICC-header
- ICC-meas
- ICC-view
- IFD0
- Make: NIKON
- Model: COOLPIX P80
- ModifyDate: 2009:07:08 09:27:38
- Software: COOLPIX P80V1.1
- XPKeywords: Six Flags;NJ
- IFD1
- IPTC
- CopyrightNotice: Genady Chenkin
- Keywords: NJ, Six Flags
- Sub-location: Warminster, PA
- System
- XMP-crs
- AlreadyApplied: True
- BlueHue: 0
- BlueSaturation: 0
- Brightness: -18
- CameraProfile: Embedded
- ChromaticAberrationB: 0
- ChromaticAberrationR: 0
- Clarity: +29
- ColorNoiseReduction: 75
- Contrast: +21
- ConvertToGrayscale: False
- CropAngle: 0
- CropBottom: 0.958801
- CropHeight: 2623
- CropLeft: 0.014045
- CropRight: 1
- CropTop: 0
- CropUnit: pixels
- CropWidth: 3597
- Defringe: 0
- Exposure: 0.00
- FillLight: 0
- GreenHue: 0
- GreenSaturation: 0
- HasCrop: True
- HasSettings: True
- HighlightRecovery: 0
- HueAdjustmentAqua: 0
- HueAdjustmentBlue: 0
- HueAdjustmentGreen: 0
- HueAdjustmentMagenta: 0
- HueAdjustmentOrange: 0
- HueAdjustmentPurple: 0
- HueAdjustmentRed: 0
- HueAdjustmentYellow: 0
- IncrementalTemperature: 0
- IncrementalTint: 0
- LuminanceAdjustmentAqua: 0
- LuminanceAdjustmentBlue: 0
- LuminanceAdjustmentGreen: -29
- LuminanceAdjustmentMagenta: 0
- LuminanceAdjustmentOrange: 0
- LuminanceAdjustmentPurple: 0
- LuminanceAdjustmentRed: 0
- LuminanceAdjustmentYellow: 0
- LuminanceSmoothing: 75
- ParametricDarks: +24
- ParametricHighlightSplit: 75
- ParametricHighlights: 0
- ParametricLights: 0
- ParametricMidtoneSplit: 50
- ParametricShadowSplit: 25
- ParametricShadows: +21
- PostCropVignetteAmount: 0
- RedHue: 0
- RedSaturation: 0
- Saturation: +10
- SaturationAdjustmentAqua: 0
- SaturationAdjustmentBlue: 0
- SaturationAdjustmentGreen: -43
- SaturationAdjustmentMagenta: 0
- SaturationAdjustmentOrange: 0
- SaturationAdjustmentPurple: 0
- SaturationAdjustmentRed: 0
- SaturationAdjustmentYellow: 0
- ShadowTint: 0
- Shadows: 0
- SharpenDetail: 25
- SharpenEdgeMasking: 44
- SharpenRadius: +1.0
- Sharpness: 25
- SplitToningBalance: 0
- SplitToningHighlightHue: 0
- SplitToningHighlightSaturation: 0
- SplitToningShadowHue: 0
- SplitToningShadowSaturation: 0
- ToneCurve: 0, 0, 255, 255
- ToneCurveName: Linear
- Version: 5.4
- Vibrance: +21
- VignetteAmount: 0
- WhiteBalance: As Shot
- XMP-crss
- SavedSettingsName: Import
- SavedSettingsParametersBlueHue: 0
- SavedSettingsParametersBlueSaturation: 0
- SavedSettingsParametersBrightness: 0
- SavedSettingsParametersCameraProfile: Embedded
- SavedSettingsParametersChromaticAberrationB: 0
- SavedSettingsParametersChromaticAberrationR: 0
- SavedSettingsParametersClarity: 0
- SavedSettingsParametersColorNoiseReduction: 0
- SavedSettingsParametersContrast: 0
- SavedSettingsParametersConvertToGrayscale: False
- SavedSettingsParametersDefringe: 0
- SavedSettingsParametersExposure: 0.00
- SavedSettingsParametersFillLight: 0
- SavedSettingsParametersGreenHue: 0
- SavedSettingsParametersGreenSaturation: 0
- SavedSettingsParametersHighlightRecovery: 0
- SavedSettingsParametersHueAdjustmentAqua: 0
- SavedSettingsParametersHueAdjustmentBlue: 0
- SavedSettingsParametersHueAdjustmentGreen: 0
- SavedSettingsParametersHueAdjustmentMagenta: 0
- SavedSettingsParametersHueAdjustmentOrange: 0
- SavedSettingsParametersHueAdjustmentPurple: 0
- SavedSettingsParametersHueAdjustmentRed: 0
- SavedSettingsParametersHueAdjustmentYellow: 0
- SavedSettingsParametersIncrementalTemperature: 0
- SavedSettingsParametersIncrementalTint: 0
- SavedSettingsParametersLuminanceAdjustmentAqua: 0
- SavedSettingsParametersLuminanceAdjustmentBlue: 0
- SavedSettingsParametersLuminanceAdjustmentGreen: 0
- SavedSettingsParametersLuminanceAdjustmentMagenta: 0
- SavedSettingsParametersLuminanceAdjustmentOrange: 0
- SavedSettingsParametersLuminanceAdjustmentPurple: 0
- SavedSettingsParametersLuminanceAdjustmentRed: 0
- SavedSettingsParametersLuminanceAdjustmentYellow: 0
- SavedSettingsParametersLuminanceSmoothing: 0
- SavedSettingsParametersParametricDarks: 0
- SavedSettingsParametersParametricHighlightSplit: 75
- SavedSettingsParametersParametricHighlights: 0
- SavedSettingsParametersParametricLights: 0
- SavedSettingsParametersParametricMidtoneSplit: 50
- SavedSettingsParametersParametricShadowSplit: 25
- SavedSettingsParametersParametricShadows: 0
- SavedSettingsParametersPostCropVignetteAmount: 0
- SavedSettingsParametersRedHue: 0
- SavedSettingsParametersRedSaturation: 0
- SavedSettingsParametersSaturation: 0
- SavedSettingsParametersSaturationAdjustmentAqua: 0
- SavedSettingsParametersSaturationAdjustmentBlue: 0
- SavedSettingsParametersSaturationAdjustmentGreen: 0
- SavedSettingsParametersSaturationAdjustmentMagenta: 0
- SavedSettingsParametersSaturationAdjustmentOrange: 0
- SavedSettingsParametersSaturationAdjustmentPurple: 0
- SavedSettingsParametersSaturationAdjustmentRed: 0
- SavedSettingsParametersSaturationAdjustmentYellow: 0
- SavedSettingsParametersShadowTint: 0
- SavedSettingsParametersShadows: 0
- SavedSettingsParametersSharpenDetail: 25
- SavedSettingsParametersSharpenEdgeMasking: 0
- SavedSettingsParametersSharpenRadius: +1.0
- SavedSettingsParametersSharpness: 0
- SavedSettingsParametersSplitToningBalance: 0
- SavedSettingsParametersSplitToningHighlightHue: 0
- SavedSettingsParametersSplitToningHighlightSaturation: 0
- SavedSettingsParametersSplitToningShadowHue: 0
- SavedSettingsParametersSplitToningShadowSaturation: 0
- SavedSettingsParametersToneCurve: 0, 0, 255, 255
- SavedSettingsParametersToneCurveName: Linear
- SavedSettingsParametersVersion: 5.4
- SavedSettingsParametersVibrance: 0
- SavedSettingsParametersVignetteAmount: 0
- SavedSettingsParametersWhiteBalance: As Shot
- SavedSettingsType: Snapshot
- XMP-dc
- Rights: Genady Chenkin
- Subject: NJ, Six Flags
- XMP-exif
- DateTimeDigitized: 2009:07:01 21:53:55-04:00
- DateTimeOriginal: 2009:07:01 21:53:55-04:00
- ExifImageHeight: 2623
- ExifImageWidth: 3597
- FlashFired: False
- FlashFunction: False
- FlashMode: Off
- FlashRedEyeMode: False
- FlashReturn: No return detection
- XMP-iptcCore
- XMP-lr
- HierarchicalSubject: NJ, Six Flags
- XMP-microsoft
- DateAcquired: 2009:07:02 00:04:42.435
- LastKeywordXMP: Six Flags, NJ
- XMP-tiff
- ImageHeight: 2623
- ImageWidth: 3597
- Orientation: Horizontal (normal)
- XMP-xmp
- CreateDate: 2009:07:01 21:53:55-04:00
- ModifyDate: 2009:07:08 09:27:38-04:00
- XMP-xmpMM
- XMP-xmpRights
- Просмотров: 409
- Рейтинг: голосов еще нет
- Отзывов: 0