- Раздел: Другое, разное
- Дата съёмки: 24.05.2010 15:30
- Дата загрузки фото: 24.05.2010 21:02
- Оригинальная фотография: 3872 x 2592 (1,2 Мб)
- Технические характеристики:
- Фотоаппарат: Sony DSLR-A230
- Выдержка: 1/320
- Гиперфокальное расстояние: inf m
- Диафрагма: 4,5
- Светочувствительность: 400
- Фокусное расстояние: 180,0 mm (35 mm equivalent: 180,0 mm)
- Полный EXIF
- Adobe
- ColorTransform: YCbCr
- Composite
- Aperture: 4,5
- CircleOfConfusion: 0,020 mm
- FOV: 11,0 deg
- FocalLength35efl: 180,0 mm (35 mm equivalent: 180,0 mm)
- HyperfocalDistance: inf m
- ScaleFactor35efl: 1,5
- ShutterSpeed: 1/320
- ExifIFD
- ApertureValue: 4,5
- BrightnessValue: 5,75
- ColorSpace: Uncalibrated
- Contrast: Normal
- CreateDate: 2010:05:24 15:30:32
- CustomRendered: Normal
- DateTimeOriginal: 2010:05:24 15:30:32
- ExifImageHeight: 2592
- ExifImageWidth: 3872
- ExposureCompensation: 0
- ExposureMode: Auto
- ExposureProgram: Program AE
- ExposureTime: 1/320
- FNumber: 4,5
- Flash: Auto, Did not fire
- FocalLength: 180,0 mm
- FocalLengthIn35mmFormat: 270 mm
- ISO: 400
- LightSource: Unknown
- MaxApertureValue: 4,5
- MeteringMode: Multi-segment
- Saturation: Normal
- SceneCaptureType: Standard
- SceneType: Directly photographed
- Sharpness: Normal
- ShutterSpeedValue: 1/320
- WhiteBalance: Auto
- ICC-header
- IFD0
- ImageDescription: SONY DSC
- Make: SONY
- Model: DSLR-A230
- ModifyDate: 2010:05:24 20:55:27
- Orientation: Horizontal (normal)
- IFD1
- IPTC
- Caption-Abstract: SONY DSC
- System
- XMP-aux
- XMP-crs
- AlreadyApplied: True
- BlueHue: 0
- BlueSaturation: 0
- Brightness: +36
- ChromaticAberrationB: 0
- ChromaticAberrationR: 0
- Clarity: 0
- ColorNoiseReduction: 25
- Contrast: +48
- ConvertToGrayscale: False
- Defringe: 0
- Exposure: +0.55
- FillLight: 3
- GreenHue: 0
- GreenSaturation: 0
- HasCrop: False
- HasSettings: True
- HighlightRecovery: 0
- HueAdjustmentAqua: 0
- HueAdjustmentBlue: 0
- HueAdjustmentGreen: 0
- HueAdjustmentMagenta: 0
- HueAdjustmentOrange: 0
- HueAdjustmentPurple: 0
- HueAdjustmentRed: 0
- HueAdjustmentYellow: 0
- LuminanceAdjustmentAqua: 0
- LuminanceAdjustmentBlue: 0
- LuminanceAdjustmentGreen: 0
- LuminanceAdjustmentMagenta: 0
- LuminanceAdjustmentOrange: 0
- LuminanceAdjustmentPurple: 0
- LuminanceAdjustmentRed: 0
- LuminanceAdjustmentYellow: 0
- LuminanceSmoothing: 0
- ParametricDarks: 0
- ParametricHighlightSplit: 75
- ParametricHighlights: 0
- ParametricLights: 0
- ParametricMidtoneSplit: 50
- ParametricShadowSplit: 25
- ParametricShadows: 0
- PostCropVignetteAmount: 0
- RawFileName: _DSC0856.ARW
- RedHue: 0
- RedSaturation: 0
- Saturation: -10
- SaturationAdjustmentAqua: 0
- SaturationAdjustmentBlue: 0
- SaturationAdjustmentGreen: 0
- SaturationAdjustmentMagenta: 0
- SaturationAdjustmentOrange: 0
- SaturationAdjustmentPurple: 0
- SaturationAdjustmentRed: 0
- SaturationAdjustmentYellow: 0
- ShadowTint: 0
- Shadows: 5
- SharpenDetail: 25
- SharpenEdgeMasking: 0
- SharpenRadius: +1.0
- Sharpness: 25
- SplitToningBalance: 0
- SplitToningHighlightHue: 0
- SplitToningHighlightSaturation: 0
- SplitToningShadowHue: 0
- SplitToningShadowSaturation: 0
- Temperature: 4950
- Tint: +7
- ToneCurve: 0, 0, 32, 22, 64, 56, 128, 128, 192, 196, 255, 255
- ToneCurveName: Medium Contrast
- Version: 5.6
- Vibrance: 0
- VignetteAmount: 0
- WhiteBalance: As Shot
- XMP-dc
- Description: SONY DSC
- Format: image/jpeg
- XMP-exif
- DateTimeDigitized: 2010:05:24 15:30:32+04:00
- DateTimeOriginal: 2010:05:24 15:30:32+04:00
- FlashFired: False
- FlashFunction: False
- FlashMode: Auto
- FlashRedEyeMode: False
- FlashReturn: No return detection
- XMP-tiff
- XMP-xmp
- CreateDate: 2010:05:24 15:30:32+04:00
- CreatorTool: DSLR-A230 v1.10
- ModifyDate: 2010:05:24 20:55:27+04:00
- Rating: 0
- XMP-xmpMM
- Просмотров: 281
- Рейтинг: голосов еще нет
- Отзывов: 0