- Раздел: Другое, разное
- Дата съёмки: 15.08.2009 18:25
- Дата загрузки фото: 27.05.2010 12:02
- Оригинальная фотография: 3051 x 3492 (4,8 Мб)
- Технические характеристики:
- Фотоаппарат: Samsung GX20
- Выдержка: 1/180
- Гиперфокальное расстояние: inf m
- Диафрагма: 2,8
- Светочувствительность: 800
- Фокусное расстояние: 35,0 mm (35 mm equivalent: 35,0 mm)
- Полный EXIF
- Adobe
- ColorTransform: YCbCr
- Composite
- Aperture: 2,8
- CircleOfConfusion: 0,020 mm
- FOV: 54,0 deg
- FocalLength35efl: 35,0 mm (35 mm equivalent: 35,0 mm)
- HyperfocalDistance: inf m
- ScaleFactor35efl: 1,5
- ShutterSpeed: 1/180
- ExifIFD
- ApertureValue: 2,8
- ColorSpace: sRGB
- Contrast: Normal
- CreateDate: 2009:08:15 18:25:00
- CustomRendered: Normal
- DateTimeOriginal: 2009:08:15 18:25:00
- ExifImageHeight: 3492
- ExifImageWidth: 3051
- ExposureCompensation: 0
- ExposureMode: Manual
- ExposureProgram: Manual
- ExposureTime: 1/180
- FNumber: 2,8
- Flash: On, Did not fire
- FocalLength: 35,0 mm
- FocalLengthIn35mmFormat: 52 mm
- ISO: 800
- MeteringMode: Multi-segment
- Saturation: Normal
- SceneCaptureType: Standard
- SensingMethod: One-chip color area
- Sharpness: Normal
- ShutterSpeedValue: 1/180
- SubjectDistanceRange: Distant
- WhiteBalance: Auto
- ICC-header
- ICC-meas
- ICC-view
- IFD0
- Make: SAMSUNG TECHWIN Co.
- Model: SAMSUNG GX20
- ModifyDate: 2009:08:16 21:56:15
- Orientation: Horizontal (normal)
- IFD1
- IPTC
- System
- XMP-aux
- XMP-crs
- AlreadyApplied: True
- BlueHue: 0
- BlueSaturation: 0
- Brightness: +50
- CameraProfile: ACR 4.4
- ChromaticAberrationB: 0
- ChromaticAberrationR: 0
- Clarity: -20
- ColorNoiseReduction: 25
- Contrast: +30
- ConvertToGrayscale: False
- Defringe: 0
- Exposure: +0.40
- FillLight: 0
- GreenHue: 0
- GreenSaturation: 0
- HasCrop: False
- HasSettings: True
- HighlightRecovery: 30
- HueAdjustmentAqua: 0
- HueAdjustmentBlue: 0
- HueAdjustmentGreen: 0
- HueAdjustmentMagenta: 0
- HueAdjustmentOrange: 0
- HueAdjustmentPurple: 0
- HueAdjustmentRed: 0
- HueAdjustmentYellow: 0
- LuminanceAdjustmentAqua: 0
- LuminanceAdjustmentBlue: -14
- LuminanceAdjustmentGreen: +57
- LuminanceAdjustmentMagenta: +10
- LuminanceAdjustmentOrange: +10
- LuminanceAdjustmentPurple: -14
- LuminanceAdjustmentRed: +20
- LuminanceAdjustmentYellow: 0
- LuminanceSmoothing: 0
- ParametricDarks: 0
- ParametricHighlightSplit: 75
- ParametricHighlights: +10
- ParametricLights: +5
- ParametricMidtoneSplit: 50
- ParametricShadowSplit: 25
- ParametricShadows: -5
- PostCropVignetteAmount: 0
- RedHue: 0
- RedSaturation: 0
- Saturation: 0
- SaturationAdjustmentAqua: 0
- SaturationAdjustmentBlue: 0
- SaturationAdjustmentGreen: 0
- SaturationAdjustmentMagenta: 0
- SaturationAdjustmentOrange: 0
- SaturationAdjustmentPurple: 0
- SaturationAdjustmentRed: 0
- SaturationAdjustmentYellow: 0
- ShadowTint: 0
- Shadows: 5
- SharpenDetail: 86
- SharpenEdgeMasking: 0
- SharpenRadius: +1.0
- Sharpness: 25
- SplitToningBalance: 0
- SplitToningHighlightHue: 0
- SplitToningHighlightSaturation: 0
- SplitToningShadowHue: 0
- SplitToningShadowSaturation: 0
- Temperature: 3300
- Tint: -13
- ToneCurve: 0, 0, 32, 22, 64, 56, 128, 128, 192, 196, 255, 255
- ToneCurveName: Medium Contrast
- Version: 4.5
- Vibrance: 0
- VignetteAmount: +2
- VignetteMidpoint: 50
- WhiteBalance: Custom
- XMP-dc
- XMP-exif
- DateTimeDigitized: 2009:08:15 18:25:00+04:00
- DateTimeOriginal: 2009:08:15 18:25:00+04:00
- FlashFired: False
- FlashFunction: False
- FlashMode: On
- FlashRedEyeMode: False
- FlashReturn: No return detection
- XMP-tiff
- ImageHeight: 4672
- ImageWidth: 3104
- XMP-xmp
- CreateDate: 2009:08:16 21:56:15+04:00
- ModifyDate: 2009:08:16 21:56:15+04:00
- XMP-xmpMM
- DerivedFrom:
- Просмотров: 1036
- Рейтинг: голосов еще нет
- Отзывов: 0