- Раздел: Отдых, развлечения
- Дата съёмки: 29.05.2010 19:48
- Дата загрузки фото: 31.05.2010 23:11
- Оригинальная фотография: 1333 x 2000 (534 Кб)
- Технические характеристики:
- Фотоаппарат: Canon EOS-1D Mark III
- Выдержка: 1/250
- Гиперфокальное расстояние: inf m
- Диафрагма: 1,8
- Светочувствительность: 1000
- Фокусное расстояние: 85,0 mm (35 mm equivalent: 170,0 mm)
- Полный EXIF
- Composite
- Aperture: 1,8
- CircleOfConfusion: 0,012 mm
- DOF: inf (0,00 m - inf)
- FOV: 12,0 deg
- FocalLength35efl: 85,0 mm (35 mm equivalent: 170,0 mm)
- HyperfocalDistance: inf m
- ScaleFactor35efl: 2,5
- ShutterSpeed: 1/250
- ExifIFD
- ApertureValue: 1,8
- CreateDate: 2010:05:29 19:48:23
- CustomRendered: Normal
- DateTimeOriginal: 2010:05:29 19:48:23
- ExifImageHeight: 2000
- ExifImageWidth: 1333
- ExposureCompensation: 0
- ExposureMode: Auto
- ExposureProgram: Aperture-priority AE
- ExposureTime: 1/250
- FNumber: 1,8
- Flash: No Flash
- FocalLength: 85,0 mm
- ISO: 1000
- MaxApertureValue: 1,8
- MeteringMode: Center-weighted average
- SceneCaptureType: Standard
- ShutterSpeedValue: 1/250
- SubjectDistance: 2,14 m
- WhiteBalance: Auto
- ICC-header
- ICC-meas
- ICC-view
- IFD0
- Artist: demakov.ru
- Make: Canon
- Model: Canon EOS-1D Mark III
- ModifyDate: 2010:05:31 22:52:29
- Orientation: Horizontal (normal)
- Software: ACD Systems Digital Imaging
- IFD1
- IPTC
- System
- XMP-aux
- Firmware: 1.3.0
- FlashCompensation: 0
- ImageNumber: 0
- Lens: EF85mm f/1.8 USM
- LensID: 155
- LensInfo: 85/1 85/1 0/0 0/0
- OwnerName: demakov.ru
- SerialNumber: 543680
- XMP-crs
- AlreadyApplied: True
- BlueHue: +11
- BlueSaturation: -21
- Brightness: +57
- CameraProfile: Camera Faithful
- ChromaticAberrationB: 0
- ChromaticAberrationR: 0
- Clarity: 0
- ColorNoiseReduction: 25
- ColorNoiseReductionDetail: 50
- Contrast: +32
- ConvertToGrayscale: True
- CropAngle: 2.72378
- CropBottom: 1
- CropHeight: 2422
- CropLeft: 0.05007
- CropRight: 0.953858
- CropTop: 0
- CropUnit: pixels
- CropWidth: 3633
- Defringe: 0
- Exposure: 0.00
- FillLight: 0
- GrainAmount: 0
- GrayMixerAqua: -10
- GrayMixerBlue: +19
- GrayMixerGreen: -9
- GrayMixerMagenta: +30
- GrayMixerOrange: +20
- GrayMixerPurple: +25
- GrayMixerRed: +34
- GrayMixerYellow: +9
- GreenHue: +16
- GreenSaturation: +51
- HasCrop: True
- HasSettings: True
- HighlightRecovery: 0
- LuminanceNoiseReductionContrast: 0
- LuminanceNoiseReductionDetail: 50
- LuminanceSmoothing: 6
- ParametricDarks: 0
- ParametricHighlightSplit: 75
- ParametricHighlights: 0
- ParametricLights: -2
- ParametricMidtoneSplit: 50
- ParametricShadowSplit: 25
- ParametricShadows: 0
- PostCropVignetteAmount: -15
- PostCropVignetteFeather: 50
- PostCropVignetteHighlightContrast: 0
- PostCropVignetteMidpoint: 50
- PostCropVignetteRoundness: 0
- PostCropVignetteStyle: 1
- ProcessVersion: 5.7
- RedHue: +23
- RedSaturation: +10
- ShadowTint: +4
- Shadows: 0
- SharpenDetail: 25
- SharpenEdgeMasking: 0
- SharpenRadius: +1.0
- Sharpness: 25
- SplitToningBalance: 0
- SplitToningHighlightHue: 215
- SplitToningHighlightSaturation: 49
- SplitToningShadowHue: 216
- SplitToningShadowSaturation: 12
- Temperature: 3950
- Tint: +9
- ToneCurve: 0, 0, 255, 255
- ToneCurveName: Linear
- Version: 6.0
- VignetteAmount: -100
- VignetteMidpoint: 40
- WhiteBalance: As Shot
- XMP-dc
- XMP-exif
- DateTimeDigitized: 2010:05:29 19:48:23.0+3:00
- DateTimeOriginal: 2010:05:29 19:48:23.0+3:00
- ExifImageHeight: 3633
- ExifImageWidth: 2422
- FlashFired: False
- FlashFunction: False
- FlashMode: Unknown
- FlashRedEyeMode: False
- FlashReturn: No return detection
- XMP-tiff
- ImageHeight: 3633
- ImageWidth: 2422
- XMP-x
- XMP-xmp
- CreateDate: 2010:05:29 20:48:23.00+04:00
- ModifyDate: 2010:05:31 20:21:35.0+3:00
- Просмотров: 294
- Рейтинг: голосов еще нет
- Отзывов: отключены