- Раздел: Тесты фототехники
- Дата съёмки: 01.06.2010 17:24
- Дата загрузки фото: 01.06.2010 22:04
- Оригинальная фотография: 7512 x 4992 (10,0 Мб)
- Технические характеристики:
- Фотоаппарат: Leica Camera AG S2
- Выдержка: 1/250
- Диафрагма: 2,5
- Светочувствительность: 160
- Фокусное расстояние: 70,0 mm
- Полный EXIF
- Adobe
- ColorTransform: YCbCr
- Composite
- Aperture: 2,5
- FocalLength35efl: 70,0 mm
- ShutterSpeed: 1/250
- ExifIFD
- ApertureValue: 2,5
- ColorSpace: sRGB
- Contrast: Normal
- CreateDate: 2010:06:01 17:24:15
- CustomRendered: Normal
- DateTimeOriginal: 2010:06:01 17:24:15
- DigitalZoomRatio: 0
- ExifImageHeight: 4992
- ExifImageWidth: 7512
- ExposureCompensation: 0
- ExposureProgram: Aperture-priority AE
- ExposureTime: 1/250
- FNumber: 2,5
- Flash: No Flash
- FocalLength: 70,0 mm
- ISO: 160
- LightSource: Unknown
- MaxApertureValue: 2,5
- MeteringMode: Multi-spot
- Saturation: Normal
- SceneCaptureType: Standard
- SceneType: Directly photographed
- Sharpness: Normal
- ShutterSpeedValue: 1/250
- WhiteBalance: Auto
- ICC-header
- ICC-meas
- ICC-view
- IFD0
- Artist: Leica Camera AG
- Copyright: Leica Camera AG
- Make: Leica Camera AG
- Model: S2
- ModifyDate: 2010:06:01 20:28:48
- Orientation: Horizontal (normal)
- IFD1
- IPTC
- By-line: Leica Camera AG
- CopyrightNotice: Leica Camera AG
- System
- XMP-aux
- Firmware: 1.0.0.13
- Lens: Summarit-S 70
- SerialNumber: 00225
- XMP-crs
- AlreadyApplied: True
- BlueHue: 0
- BlueSaturation: 0
- Brightness: +50
- CameraProfile: Embedded
- ChromaticAberrationB: 0
- ChromaticAberrationR: 0
- Clarity: 0
- ColorNoiseReduction: 25
- Contrast: +25
- ConvertToGrayscale: False
- Defringe: 2
- Exposure: 0.00
- FillLight: 0
- GrainAmount: 0
- GreenHue: 0
- GreenSaturation: 0
- HasCrop: False
- HasSettings: True
- HighlightRecovery: 0
- HueAdjustmentAqua: 0
- HueAdjustmentBlue: 0
- HueAdjustmentGreen: 0
- HueAdjustmentMagenta: 0
- HueAdjustmentOrange: 0
- HueAdjustmentPurple: 0
- HueAdjustmentRed: 0
- HueAdjustmentYellow: 0
- LuminanceAdjustmentAqua: 0
- LuminanceAdjustmentBlue: 0
- LuminanceAdjustmentGreen: 0
- LuminanceAdjustmentMagenta: 0
- LuminanceAdjustmentOrange: 0
- LuminanceAdjustmentPurple: 0
- LuminanceAdjustmentRed: 0
- LuminanceAdjustmentYellow: 0
- LuminanceSmoothing: 0
- ParametricDarks: -12
- ParametricHighlightSplit: 75
- ParametricHighlights: 0
- ParametricLights: +9
- ParametricMidtoneSplit: 50
- ParametricShadowSplit: 25
- ParametricShadows: 0
- PostCropVignetteAmount: 0
- ProcessVersion: 5.0
- RawFileName: L1000122.DNG
- RedHue: 0
- RedSaturation: 0
- Saturation: 0
- SaturationAdjustmentAqua: 0
- SaturationAdjustmentBlue: 0
- SaturationAdjustmentGreen: 0
- SaturationAdjustmentMagenta: 0
- SaturationAdjustmentOrange: 0
- SaturationAdjustmentPurple: 0
- SaturationAdjustmentRed: 0
- SaturationAdjustmentYellow: 0
- ShadowTint: 0
- Shadows: 0
- SharpenDetail: 0
- SharpenEdgeMasking: 0
- SharpenRadius: +0.6
- Sharpness: 43
- SplitToningBalance: 0
- SplitToningHighlightHue: 0
- SplitToningHighlightSaturation: 0
- SplitToningShadowHue: 0
- SplitToningShadowSaturation: 0
- Temperature: 5500
- Tint: +10
- ToneCurve: 0, 0, 32, 22, 64, 56, 128, 128, 192, 196, 255, 255
- ToneCurveName: Medium Contrast
- Version: 5.7
- Vibrance: 0
- VignetteAmount: 0
- WhiteBalance: Daylight
- XMP-dc
- Creator: Leica Camera AG
- Format: image/jpeg
- Rights: Leica Camera AG
- XMP-exif
- DateTimeDigitized: 2010:06:01 17:24:15+04:00
- DateTimeOriginal: 2010:06:01 17:24:15+04:00
- FlashFired: False
- FlashFunction: False
- FlashMode: Unknown
- FlashRedEyeMode: False
- FlashReturn: No return detection
- XMP-tiff
- XMP-xmp
- CreateDate: 2010:06:01 17:24:15+04:00
- CreatorTool: 1.0.0.13
- ModifyDate: 2010:06:01 20:28:48+04:00
- Rating: 0
- XMP-xmpMM
- Просмотров: 1087
- Рейтинг: голосов еще нет
- Отзывов: 0