- Раздел: Животные
- Дата съёмки: 24.05.2009 12:20
- Дата загрузки фото: 02.06.2010 20:20
- Оригинальная фотография: 1024 x 768 (189 Кб)
- Технические характеристики:
- Фотоаппарат: Canon EOS 450D
- Выдержка: 1/1250
- Гиперфокальное расстояние: inf m
- Диафрагма: 9,0
- Светочувствительность: 400
- Фокусное расстояние: 400,0 mm (35 mm equivalent: 2400,0 mm)
- Экспокоррекция: +2/3
- Полный EXIF
- Adobe
- ColorTransform: YCbCr
- Composite
- Aperture: 9,0
- CircleOfConfusion: 0,005 mm
- FOV: 0,0 deg
- FocalLength35efl: 400,0 mm (35 mm equivalent: 2400,0 mm)
- GPSAltitude: 166 m Above Sea Level
- GPSDateTime: 2009:05:24 08:20:49Z
- GPSLatitude: 55 deg 50' 9,00" N
- GPSLatitudeRef: North
- GPSLongitude: 30 deg 21' 13,00" E
- GPSLongitudeRef: East
- GPSPosition: 55 deg 50' 9,00" N, 30 deg 21' 13,00" E
- HyperfocalDistance: inf m
- ScaleFactor35efl: 6,5
- ShutterSpeed: 1/1250
- ExifIFD
- ApertureValue: 9,0
- ColorSpace: Uncalibrated
- CreateDate: 2009:05:24 12:20:49
- CustomRendered: Normal
- DateTimeOriginal: 2009:05:24 12:20:49
- ExifImageHeight: 768
- ExifImageWidth: 1024
- ExposureCompensation: +2/3
- ExposureMode: Auto
- ExposureProgram: Aperture-priority AE
- ExposureTime: 1/1250
- FNumber: 9,0
- Flash: Off, Did not fire
- FocalLength: 400,0 mm
- ISO: 400
- MaxApertureValue: 5,7
- MeteringMode: Spot
- SceneCaptureType: Standard
- ShutterSpeedValue: 1/1250
- WhiteBalance: Auto
- GPS
- GPSAltitude: 166,0050049 m
- GPSAltitudeRef: Above Sea Level
- GPSDateStamp: 2009:05:24
- GPSLatitude: 55 deg 50' 9,00"
- GPSLongitude: 30 deg 21' 13,00"
- GPSMapDatum: WGS-84
- GPSTimeStamp: 08:20:49
- GPSVersionID: 2.2.0.0
- IFD0
- Artist: Roman Alexandrov
- BitsPerSample: 16 16 16
- ImageHeight: 2848
- ImageWidth: 4272
- Make: Canon
- Model: Canon EOS 450D
- ModifyDate: 2009:05:30 14:03:44
- Orientation: Horizontal (normal)
- PhotometricInterpretation: RGB
- PlanarConfiguration: Chunky
- SamplesPerPixel: 3
- IFD1
- IPTC
- By-line: Roman Alexandrov
- Country-PrimaryLocationName: ??????
- Province-State: ????????? ???????
- System
- XMP-aux
- Firmware: 1.1.0
- FlashCompensation: 0
- ImageNumber: 0
- Lens: 120-400mm
- LensInfo: 120/1 400/1 0/0 0/0
- OwnerName: Roman Alexandrov
- SerialNumber: 530105153
- XMP-crs
- AlreadyApplied: True
- BlueHue: 0
- BlueSaturation: 0
- Brightness: +50
- CameraProfile: Camera Landscape
- ChromaticAberrationB: 0
- ChromaticAberrationR: 0
- Clarity: 0
- ColorNoiseReduction: 75
- Contrast: +25
- ConvertToGrayscale: False
- Defringe: 2
- Exposure: +0.05
- FillLight: 13
- GreenHue: 0
- GreenSaturation: 0
- HasCrop: False
- HasSettings: True
- HighlightRecovery: 12
- HueAdjustmentAqua: 0
- HueAdjustmentBlue: 0
- HueAdjustmentGreen: 0
- HueAdjustmentMagenta: 0
- HueAdjustmentOrange: 0
- HueAdjustmentPurple: 0
- HueAdjustmentRed: 0
- HueAdjustmentYellow: 0
- LuminanceAdjustmentAqua: 0
- LuminanceAdjustmentBlue: 0
- LuminanceAdjustmentGreen: 0
- LuminanceAdjustmentMagenta: 0
- LuminanceAdjustmentOrange: 0
- LuminanceAdjustmentPurple: 0
- LuminanceAdjustmentRed: 0
- LuminanceAdjustmentYellow: 0
- LuminanceSmoothing: 0
- ParametricDarks: 0
- ParametricHighlightSplit: 75
- ParametricHighlights: 0
- ParametricLights: 0
- ParametricMidtoneSplit: 50
- ParametricShadowSplit: 25
- ParametricShadows: 0
- PostCropVignetteAmount: 0
- RawFileName: 2009-05-24 12-20-49.CR2
- RedHue: 0
- RedSaturation: 0
- Saturation: 0
- SaturationAdjustmentAqua: 0
- SaturationAdjustmentBlue: 0
- SaturationAdjustmentGreen: 0
- SaturationAdjustmentMagenta: 0
- SaturationAdjustmentOrange: 0
- SaturationAdjustmentPurple: 0
- SaturationAdjustmentRed: 0
- SaturationAdjustmentYellow: 0
- ShadowTint: 0
- Shadows: 4
- SharpenDetail: 25
- SharpenEdgeMasking: 0
- SharpenRadius: +1.0
- Sharpness: 0
- SplitToningBalance: 0
- SplitToningHighlightHue: 0
- SplitToningHighlightSaturation: 0
- SplitToningShadowHue: 0
- SplitToningShadowSaturation: 0
- Temperature: 5450
- Tint: +2
- ToneCurve: 0, 0, 32, 22, 64, 56, 128, 128, 192, 196, 255, 255
- ToneCurveName: Medium Contrast
- Version: 5.3
- Vibrance: +10
- VignetteAmount: 0
- WhiteBalance: As Shot
- XMP-dc
- Creator: Roman Alexandrov
- Format: image/jpeg
- XMP-exif
- DateTimeDigitized: 2009:05:24 12:20:49.14+04:00
- DateTimeOriginal: 2009:05:24 12:20:49.14+04:00
- FlashFired: False
- FlashFunction: False
- FlashMode: Off
- FlashRedEyeMode: False
- FlashReturn: No return detection
- GPSAltitude: 166,005 m
- GPSLatitude: 55 deg 50' 9,70" N
- GPSLongitude: 30 deg 21' 13,27" E
- XMP-tiff
- BitsPerSample: 8, 8, 8
- ImageHeight: 768
- ImageWidth: 1024
- XMP-xmp
- CreateDate: 2009:05:24 12:20:49.14+04:00
- ModifyDate: 2009:05:30 14:03:44+04:00
- Rating: 0
- XMP-xmpMM
- Просмотров: 575
- Рейтинг: голосов еще нет
- Отзывов: 0