Уважаемые друзья и участники проекта iXBT.photo! К сожалению, 1 марта 2026 года проект iXBT.photo прекратит свою работу и будет закрыт. Мы высоко ценим ваше участие и тот вклад, который вы внесли в развитие нашего сообщества. Пожалуйста, не забудьте сохранить ваши фотографии до этой даты.
С уважением, команда iXBT.com
| IMG_5104.jpg |
IMG_5104.jpg
- Раздел: Репортаж
- Дата съёмки: 12.06.2007 14:58
- Дата загрузки фото: 04.06.2010 15:00
- Оригинальная фотография: 2336 x 3504 (3,9 Мб)
- Технические характеристики:
- Фотоаппарат: Canon EOS 30D
- Выдержка: 1/800
- Гиперфокальное расстояние: inf m
- Диафрагма: 8,0
- Светочувствительность: 100
- Фокусное расстояние: 28,0 mm (35 mm equivalent: 28,0 mm)
- Полный EXIF
- Adobe
- ColorTransform: YCbCr
- Composite
- Aperture: 8,0
- CircleOfConfusion: 0,019 mm
- FOV: 65,0 deg
- FocalLength35efl: 28,0 mm (35 mm equivalent: 28,0 mm)
- HyperfocalDistance: inf m
- ScaleFactor35efl: 1,6
- ShutterSpeed: 1/800
- ExifIFD
- ApertureValue: 8,0
- ColorSpace: sRGB
- CreateDate: 2007:06:12 14:58:25
- CustomRendered: Normal
- DateTimeOriginal: 2007:06:12 14:58:25
- ExifImageHeight: 3504
- ExifImageWidth: 2336
- ExposureCompensation: 0
- ExposureMode: Auto
- ExposureProgram: Aperture-priority AE
- ExposureTime: 1/800
- FNumber: 8,0
- Flash: Off, Did not fire
- FocalLength: 28,0 mm
- ISO: 100
- MaxApertureValue: 2,8
- MeteringMode: Average
- SceneCaptureType: Standard
- ShutterSpeedValue: 1/800
- WhiteBalance: Auto
- ICC-header
- ICC-meas
- ICC-view
- IFD0
- Artist: Dmitri
- Make: Canon
- Model: Canon EOS 30D
- ModifyDate: 2010:04:27 15:15:29
- Orientation: Horizontal (normal)
- IFD1
- IPTC
- By-line: Dmitri
- System
- XMP-aux
- Firmware: 1.0.4
- FlashCompensation: 0
- ImageNumber: 0
- Lens: EF24-70mm f/2.8L USM
- LensInfo: 24/1 70/1 0/0 0/0
- OwnerName: Dmitri
- SerialNumber: 730518282
- XMP-crs
- AlreadyApplied: True
- BlueHue: 0
- BlueSaturation: 0
- Brightness: +14
- CameraProfile: Camera Landscape
- ChromaticAberrationB: 0
- ChromaticAberrationR: 0
- Clarity: 0
- ColorNoiseReduction: 25
- Contrast: +31
- ConvertToGrayscale: False
- Defringe: 0
- Exposure: +1.30
- FillLight: 48
- GreenHue: 0
- GreenSaturation: 0
- HasCrop: False
- HasSettings: True
- HighlightRecovery: 0
- HueAdjustmentAqua: 0
- HueAdjustmentBlue: 0
- HueAdjustmentGreen: 0
- HueAdjustmentMagenta: 0
- HueAdjustmentOrange: 0
- HueAdjustmentPurple: 0
- HueAdjustmentRed: 0
- HueAdjustmentYellow: 0
- LuminanceAdjustmentAqua: 0
- LuminanceAdjustmentBlue: 0
- LuminanceAdjustmentGreen: 0
- LuminanceAdjustmentMagenta: 0
- LuminanceAdjustmentOrange: 0
- LuminanceAdjustmentPurple: 0
- LuminanceAdjustmentRed: 0
- LuminanceAdjustmentYellow: 0
- LuminanceSmoothing: 0
- ParametricDarks: 0
- ParametricHighlightSplit: 75
- ParametricHighlights: 0
- ParametricLights: 0
- ParametricMidtoneSplit: 50
- ParametricShadowSplit: 25
- ParametricShadows: 0
- PostCropVignetteAmount: 0
- RawFileName: IMG_5104.CR2
- RedHue: 0
- RedSaturation: 0
- Saturation: 0
- SaturationAdjustmentAqua: 0
- SaturationAdjustmentBlue: 0
- SaturationAdjustmentGreen: 0
- SaturationAdjustmentMagenta: 0
- SaturationAdjustmentOrange: 0
- SaturationAdjustmentPurple: 0
- SaturationAdjustmentRed: 0
- SaturationAdjustmentYellow: 0
- ShadowTint: 0
- Shadows: 13
- SharpenDetail: 25
- SharpenEdgeMasking: 0
- SharpenRadius: +1.0
- Sharpness: 25
- SplitToningBalance: 0
- SplitToningHighlightHue: 0
- SplitToningHighlightSaturation: 0
- SplitToningShadowHue: 0
- SplitToningShadowSaturation: 0
- Temperature: 5500
- Tint: +5
- ToneCurve: 0, 0, 32, 22, 64, 56, 128, 128, 192, 196, 255, 255
- ToneCurveName: Medium Contrast
- Version: 5.5
- Vibrance: 0
- VignetteAmount: 0
- WhiteBalance: As Shot
- XMP-dc
- Creator: Dmitri
- Format: image/jpeg
- XMP-exif
- DateTimeDigitized: 2007:06:12 14:58:25+04:00
- DateTimeOriginal: 2007:06:12 14:58:25+04:00
- FlashFired: False
- FlashFunction: False
- FlashMode: Off
- FlashRedEyeMode: False
- FlashReturn: No return detection
- XMP-tiff
- XMP-xmp
- CreateDate: 2007:06:12 14:58:25+04:00
- ModifyDate: 2010:04:27 15:15:29+04:00
- Rating: 0
- XMP-xmpMM
- Просмотров: 165
- Рейтинг: голосов еще нет
- Отзывов: 0
Получить код для блога
| Вставка фотографии в текущем разрешении |
Вставка миниатюры |
HTML (для вставки в блог):
BBCode (для вставки в форум):
Ссылка на фото:
Ссылка на миниатюру:
- Послать ссылку другу
| Комментарии к фотографии |