Potsdam-3.jpg |
![](img/title-line.gif) |
![](img/title-shadow.gif) | |
Potsdam-3.jpg
- Раздел: Путешествия
- Дата съёмки: 03.05.2008 11:53
- Дата загрузки фото: 08.06.2010 19:17
- Оригинальная фотография: 1600 x 1068 (253 Кб)
- Технические характеристики:
- Фотоаппарат: Pentax K100D Super
- Выдержка: 1/800
- Гиперфокальное расстояние: inf m
- Диафрагма: 4,5
- Светочувствительность: 200
- Фокусное расстояние: 90,0 mm (35 mm equivalent: 90,0 mm)
- Полный EXIF
- Adobe
- ColorTransform: YCbCr
- Composite
- Aperture: 4,5
- CircleOfConfusion: 0,020 mm
- FOV: 22,0 deg
- FocalLength35efl: 90,0 mm (35 mm equivalent: 90,0 mm)
- HyperfocalDistance: inf m
- ScaleFactor35efl: 1,5
- ShutterSpeed: 1/800
- ExifIFD
- ApertureValue: 4,5
- CFAPattern: [Red,Green][Green,Blue]
- Contrast: Low
- CreateDate: 2008:05:03 11:53:02
- CustomRendered: Normal
- DateTimeOriginal: 2008:05:03 11:53:02
- ExposureCompensation: 0
- ExposureMode: Manual
- ExposureProgram: Manual
- ExposureTime: 1/800
- FNumber: 4,5
- Flash: Off, Did not fire
- FocalLength: 90,0 mm
- FocalLengthIn35mmFormat: 135 mm
- ISO: 200
- MeteringMode: Center-weighted average
- Saturation: Normal
- SceneCaptureType: Standard
- SceneType: Directly photographed
- SensingMethod: One-chip color area
- Sharpness: Normal
- ShutterSpeedValue: 1/800
- SubjectDistanceRange: Distant
- WhiteBalance: Auto
- ICC-header
- ICC-meas
- ICC-view
- IFD0
- Artist: Balashevich Viachaslau
- Copyright: Copyrighted
- Make: PENTAX Corporation
- Model: PENTAX K100D Super
- ModifyDate: 2009:06:08 17:57:31
- IFD1
- IPTC
- By-line: Balashevich Viachaslau
- CopyrightNotice: Copyrighted
- System
- XMP-aux
- Lens: smc PENTAX-FA 24-90mm F3.5-4.5 AL[IF]
- LensID: 4 34
- LensInfo: 240/10 900/10 35/10 45/10
- XMP-crs
- AlreadyApplied: True
- BlueHue: +11
- BlueSaturation: -21
- Brightness: 0
- ChromaticAberrationB: 0
- ChromaticAberrationR: 0
- Clarity: 0
- ColorNoiseReduction: 25
- Contrast: 0
- ConvertToGrayscale: False
- Defringe: 0
- Exposure: +1.15
- FillLight: 0
- GreenHue: +16
- GreenSaturation: +51
- HasCrop: False
- HasSettings: True
- HighlightRecovery: 25
- HueAdjustmentAqua: 0
- HueAdjustmentBlue: 0
- HueAdjustmentGreen: 0
- HueAdjustmentMagenta: 0
- HueAdjustmentOrange: 0
- HueAdjustmentPurple: 0
- HueAdjustmentRed: 0
- HueAdjustmentYellow: 0
- LuminanceAdjustmentAqua: 0
- LuminanceAdjustmentBlue: 0
- LuminanceAdjustmentGreen: 0
- LuminanceAdjustmentMagenta: 0
- LuminanceAdjustmentOrange: 0
- LuminanceAdjustmentPurple: 0
- LuminanceAdjustmentRed: 0
- LuminanceAdjustmentYellow: 0
- LuminanceSmoothing: 0
- ParametricDarks: -20
- ParametricHighlightSplit: 75
- ParametricHighlights: +60
- ParametricLights: +10
- ParametricMidtoneSplit: 50
- ParametricShadowSplit: 25
- ParametricShadows: -60
- PostCropVignetteAmount: 0
- RedHue: +23
- RedSaturation: +10
- Saturation: 0
- SaturationAdjustmentAqua: +50
- SaturationAdjustmentBlue: +58
- SaturationAdjustmentGreen: +10
- SaturationAdjustmentMagenta: 0
- SaturationAdjustmentOrange: +13
- SaturationAdjustmentPurple: +23
- SaturationAdjustmentRed: 0
- SaturationAdjustmentYellow: +23
- ShadowTint: +4
- Shadows: 14
- SharpenDetail: 25
- SharpenEdgeMasking: 0
- SharpenRadius: +1.0
- Sharpness: 25
- SplitToningBalance: 0
- SplitToningHighlightHue: 0
- SplitToningHighlightSaturation: 0
- SplitToningShadowHue: 0
- SplitToningShadowSaturation: 0
- Temperature: 5350
- Tint: +21
- ToneCurve: 0, 0, 255, 255
- ToneCurveName: Linear
- Version: 5.4
- Vibrance: 0
- VignetteAmount: -100
- VignetteMidpoint: 40
- WhiteBalance: As Shot
- XMP-dc
- Creator: Balashevich Viachaslau
- Rights: Copyrighted
- XMP-exif
- DateTimeDigitized: 2008:05:03 11:53:02+03:00
- DateTimeOriginal: 2008:05:03 11:53:02+03:00
- ExifImageHeight: 1068
- ExifImageWidth: 1600
- FlashFired: False
- FlashFunction: False
- FlashMode: Off
- FlashRedEyeMode: False
- FlashReturn: No return detection
- XMP-iptcCore
- CreatorCity: Miensk
- CreatorCountry: Niezaliezhnaja Respublika Mroja
- CreatorWorkEmail: fotomail@tut.by
- XMP-tiff
- ImageHeight: 1068
- ImageWidth: 1600
- XMP-xmp
- CreateDate: 2008:05:03 11:53:02+03:00
- ModifyDate: 2009:06:08 17:57:31+03:00
- XMP-xmpRights
- Marked: True
- UsageTerms: for private use only
- Просмотров: 210
- Рейтинг: голосов еще нет
- Отзывов: 0
Получить код для блога
Вставка фотографии в текущем разрешении |
Вставка миниатюры |
HTML (для вставки в блог):
BBCode (для вставки в форум):
Ссылка на фото:
Ссылка на миниатюру:
- Послать ссылку другу
Комментарии к фотографии |