- Раздел: Путешествия
- Дата съёмки: 14.08.2008 17:09
- Дата загрузки фото: 08.06.2010 19:41
- Оригинальная фотография: 1600 x 1600 (426 Кб)
- Технические характеристики:
- Фотоаппарат: Pentax K200D
- Выдержка: 1/125
- Гиперфокальное расстояние: inf m
- Диафрагма: 5,6
- Светочувствительность: 100
- Фокусное расстояние: 90,0 mm (35 mm equivalent: 90,0 mm)
- Полный EXIF
- Adobe
- ColorTransform: YCbCr
- Composite
- Aperture: 5,6
- CircleOfConfusion: 0,020 mm
- FOV: 22,0 deg
- FocalLength35efl: 90,0 mm (35 mm equivalent: 90,0 mm)
- HyperfocalDistance: inf m
- ScaleFactor35efl: 1,5
- ShutterSpeed: 1/125
- ExifIFD
- ApertureValue: 5,6
- Contrast: Normal
- CreateDate: 2008:08:14 17:09:43
- CustomRendered: Normal
- DateTimeOriginal: 2008:08:14 17:09:43
- ExposureCompensation: 0
- ExposureMode: Manual
- ExposureProgram: Manual
- ExposureTime: 1/125
- FNumber: 5,6
- Flash: Off, Did not fire
- FocalLength: 90,0 mm
- FocalLengthIn35mmFormat: 135 mm
- ISO: 100
- MeteringMode: Multi-segment
- Saturation: Normal
- SceneCaptureType: Standard
- SensingMethod: One-chip color area
- Sharpness: Normal
- ShutterSpeedValue: 1/125
- SubjectDistanceRange: Distant
- WhiteBalance: Auto
- ICC-header
- ICC-meas
- ICC-view
- IFD0
- Artist: Balashevich Viachaslau
- Copyright: Copyrighted
- Make: PENTAX Corporation
- Model: PENTAX K200D
- ModifyDate: 2009:06:08 18:32:56
- Software: K200D Ver 1.00
- IFD1
- IPTC
- By-line: Balashevich Viachaslau
- CopyrightNotice: Copyrighted
- System
- XMP-aux
- Lens: smc PENTAX-FA 24-90mm F3.5-4.5 AL[IF]
- LensID: 4 34
- LensInfo: 240/10 900/10 35/10 45/10
- XMP-crs
- AlreadyApplied: True
- BlueHue: +15
- BlueSaturation: +5
- Brightness: 0
- CameraProfile: Embedded
- ChromaticAberrationB: 0
- ChromaticAberrationR: 0
- Clarity: +25
- ColorNoiseReduction: 25
- Contrast: 0
- ConvertToGrayscale: False
- CropAngle: 0
- CropBottom: 1
- CropHeight: 1600
- CropLeft: 0.065157
- CropRight: 0.734579
- CropTop: 0
- CropUnit: pixels
- CropWidth: 1600
- Defringe: 0
- Exposure: +1.15
- FillLight: 0
- GreenHue: +10
- GreenSaturation: +15
- HasCrop: True
- HasSettings: True
- HighlightRecovery: 10
- HueAdjustmentAqua: 0
- HueAdjustmentBlue: 0
- HueAdjustmentGreen: +5
- HueAdjustmentMagenta: 0
- HueAdjustmentOrange: 0
- HueAdjustmentPurple: 0
- HueAdjustmentRed: 0
- HueAdjustmentYellow: +5
- LuminanceAdjustmentAqua: -20
- LuminanceAdjustmentBlue: -20
- LuminanceAdjustmentGreen: +5
- LuminanceAdjustmentMagenta: 0
- LuminanceAdjustmentOrange: 0
- LuminanceAdjustmentPurple: 0
- LuminanceAdjustmentRed: 0
- LuminanceAdjustmentYellow: +5
- LuminanceSmoothing: 0
- ParametricDarks: -20
- ParametricHighlightSplit: 75
- ParametricHighlights: +60
- ParametricLights: +10
- ParametricMidtoneSplit: 50
- ParametricShadowSplit: 25
- ParametricShadows: -60
- PostCropVignetteAmount: 0
- RedHue: 0
- RedSaturation: +5
- Saturation: -10
- SaturationAdjustmentAqua: +35
- SaturationAdjustmentBlue: +35
- SaturationAdjustmentGreen: +10
- SaturationAdjustmentMagenta: 0
- SaturationAdjustmentOrange: +13
- SaturationAdjustmentPurple: +23
- SaturationAdjustmentRed: 0
- SaturationAdjustmentYellow: +10
- ShadowTint: +5
- Shadows: 5
- SharpenDetail: 25
- SharpenEdgeMasking: 0
- SharpenRadius: +1.0
- Sharpness: 25
- SplitToningBalance: 0
- SplitToningHighlightHue: 0
- SplitToningHighlightSaturation: 0
- SplitToningShadowHue: 0
- SplitToningShadowSaturation: 0
- Temperature: 5979
- Tint: +101
- ToneCurve: 0, 0, 255, 255
- ToneCurveName: Linear
- Version: 5.4
- Vibrance: +25
- VignetteAmount: 0
- WhiteBalance: Custom
- XMP-dc
- Creator: Balashevich Viachaslau
- Rights: Copyrighted
- XMP-exif
- DateTimeDigitized: 2008:08:14 17:09:43+03:00
- DateTimeOriginal: 2008:08:14 17:09:43+03:00
- ExifImageHeight: 1600
- ExifImageWidth: 1600
- FlashFired: False
- FlashFunction: False
- FlashMode: Off
- FlashRedEyeMode: False
- FlashReturn: No return detection
- XMP-iptcCore
- CreatorCity: Miensk
- CreatorCountry: Niezaliezhnaja Respublika Mroja
- CreatorWorkEmail: fotomail@tut.by
- XMP-tiff
- ImageHeight: 1600
- ImageWidth: 1600
- XMP-xmp
- CreateDate: 2008:08:14 17:09:43+03:00
- ModifyDate: 2009:06:08 18:32:56+03:00
- Rating: 5
- XMP-xmpRights
- Marked: True
- UsageTerms: for private use only
- Просмотров: 299
- Рейтинг: голосов еще нет
- Отзывов: 0